BEGIN:VCALENDAR
VERSION:2.0
PRODID:-//Rick Rock Rice - ECPv6.15.20//NONSGML v1.0//EN
CALSCALE:GREGORIAN
METHOD:PUBLISH
X-WR-CALNAME:Rick Rock Rice
X-ORIGINAL-URL:https://rickrockrice.com
X-WR-CALDESC:Events for Rick Rock Rice
REFRESH-INTERVAL;VALUE=DURATION:PT1H
X-Robots-Tag:noindex
X-PUBLISHED-TTL:PT1H
BEGIN:VTIMEZONE
TZID:America/New_York
BEGIN:DAYLIGHT
TZOFFSETFROM:-0500
TZOFFSETTO:-0400
TZNAME:EDT
DTSTART:20170312T070000
END:DAYLIGHT
BEGIN:STANDARD
TZOFFSETFROM:-0400
TZOFFSETTO:-0500
TZNAME:EST
DTSTART:20171105T060000
END:STANDARD
BEGIN:DAYLIGHT
TZOFFSETFROM:-0500
TZOFFSETTO:-0400
TZNAME:EDT
DTSTART:20180311T070000
END:DAYLIGHT
BEGIN:STANDARD
TZOFFSETFROM:-0400
TZOFFSETTO:-0500
TZNAME:EST
DTSTART:20181104T060000
END:STANDARD
BEGIN:DAYLIGHT
TZOFFSETFROM:-0500
TZOFFSETTO:-0400
TZNAME:EDT
DTSTART:20190310T070000
END:DAYLIGHT
BEGIN:STANDARD
TZOFFSETFROM:-0400
TZOFFSETTO:-0500
TZNAME:EST
DTSTART:20191103T060000
END:STANDARD
END:VTIMEZONE
BEGIN:VEVENT
DTSTART;TZID=America/New_York:20180928T180000
DTEND;TZID=America/New_York:20180928T220000
DTSTAMP:20260422T213216
CREATED:20180828T121605Z
LAST-MODIFIED:20180828T121605Z
UID:2673-1538157600-1538172000@rickrockrice.com
SUMMARY:The Hut
DESCRIPTION:Come on out and join me at THE HUT where great food and drinks meet up with wonderful people and music and all in a park like setting.
URL:https://rickrockrice.com/upcoming-event/the-hut-2-2-2-2/
LOCATION:The Hut\, 5150 Buckingham Rd\, Fort Myers\, FL\, United States
CATEGORIES:Local Events
END:VEVENT
BEGIN:VEVENT
DTSTART;TZID=America/New_York:20180923T030000
DTEND;TZID=America/New_York:20180923T180000
DTSTAMP:20260422T213216
CREATED:20180901T220859Z
LAST-MODIFIED:20180901T220859Z
UID:2683-1537671600-1537725600@rickrockrice.com
SUMMARY:The American Legion
DESCRIPTION:
URL:https://rickrockrice.com/upcoming-event/the-american-legion-2/
CATEGORIES:Local Events
END:VEVENT
BEGIN:VEVENT
DTSTART;TZID=America/New_York:20180922T140000
DTEND;TZID=America/New_York:20180922T170000
DTSTAMP:20260422T213216
CREATED:20180901T220526Z
LAST-MODIFIED:20180901T220717Z
UID:2680-1537624800-1537635600@rickrockrice.com
SUMMARY:The End Zone
DESCRIPTION:Come on out and have some great food\, drinks and music with some wonderful people.
URL:https://rickrockrice.com/upcoming-event/the-end-zone/
LOCATION:The End Zone\, 2440 S McCall Rd\, Englewood\, FL\, 34224\, United States
END:VEVENT
BEGIN:VEVENT
DTSTART;TZID=America/New_York:20180921T180000
DTEND;TZID=America/New_York:20180921T220000
DTSTAMP:20260422T213216
CREATED:20180828T121532Z
LAST-MODIFIED:20180828T121532Z
UID:2671-1537552800-1537567200@rickrockrice.com
SUMMARY:The Hut
DESCRIPTION:Come on out and join me at THE HUT where great food and drinks meet up with wonderful people and music and all in a park like setting.
URL:https://rickrockrice.com/upcoming-event/the-hut-2-2-2/
LOCATION:The Hut\, 5150 Buckingham Rd\, Fort Myers\, FL\, United States
CATEGORIES:Local Events
END:VEVENT
BEGIN:VEVENT
DTSTART;TZID=America/New_York:20180919T053000
DTEND;TZID=America/New_York:20180919T203000
DTSTAMP:20260422T213216
CREATED:20180901T215839Z
LAST-MODIFIED:20180901T215839Z
UID:2677-1537335000-1537389000@rickrockrice.com
SUMMARY:Mission Valley
DESCRIPTION:
URL:https://rickrockrice.com/upcoming-event/mission-valley/
LOCATION:Mission Valley
CATEGORIES:Local Events
END:VEVENT
BEGIN:VEVENT
DTSTART;TZID=America/New_York:20180914T180000
DTEND;TZID=America/New_York:20180914T220000
DTSTAMP:20260422T213216
CREATED:20180828T121252Z
LAST-MODIFIED:20180828T121252Z
UID:2669-1536948000-1536962400@rickrockrice.com
SUMMARY:The Hut
DESCRIPTION:Come on out and join me at THE HUT where great food and drinks meet up with wonderful people and music and all in a park like setting.
URL:https://rickrockrice.com/upcoming-event/the-hut-2-2/
LOCATION:The Hut\, 5150 Buckingham Rd\, Fort Myers\, FL\, United States
CATEGORIES:Local Events
END:VEVENT
BEGIN:VEVENT
DTSTART;TZID=America/New_York:20180908T030000
DTEND;TZID=America/New_York:20180908T180000
DTSTAMP:20260422T213216
CREATED:20180828T121710Z
LAST-MODIFIED:20180828T121746Z
UID:2675-1536375600-1536429600@rickrockrice.com
SUMMARY:The American Legion
DESCRIPTION:
URL:https://rickrockrice.com/upcoming-event/the-american-legion/
CATEGORIES:Local Events
END:VEVENT
BEGIN:VEVENT
DTSTART;TZID=America/New_York:20180907T180000
DTEND;TZID=America/New_York:20180907T220000
DTSTAMP:20260422T213216
CREATED:20180828T121117Z
LAST-MODIFIED:20180828T121117Z
UID:2666-1536343200-1536357600@rickrockrice.com
SUMMARY:The Hut
DESCRIPTION:Come on out and join me at THE HUT where great food and drinks meet up with wonderful people and music and all in a park like setting.
URL:https://rickrockrice.com/upcoming-event/the-hut-2/
LOCATION:The Hut\, 5150 Buckingham Rd\, Fort Myers\, FL\, United States
CATEGORIES:Local Events
END:VEVENT
BEGIN:VEVENT
DTSTART;TZID=America/New_York:20180902T160000
DTEND;TZID=America/New_York:20180902T200000
DTSTAMP:20260422T213216
CREATED:20180828T120411Z
LAST-MODIFIED:20180828T120846Z
UID:2663-1535904000-1535918400@rickrockrice.com
SUMMARY:The Hut
DESCRIPTION:Come on out and join me at THE HUT where great food and drinks meet up with wonderful people and music and all in a park like setting.
URL:https://rickrockrice.com/upcoming-event/the-hut/
LOCATION:The Hut\, 5150 Buckingham Rd\, Fort Myers\, FL\, United States
CATEGORIES:Local Events
END:VEVENT
BEGIN:VEVENT
DTSTART;TZID=America/New_York:20180831T170000
DTEND;TZID=America/New_York:20180831T210000
DTSTAMP:20260422T213216
CREATED:20180827T210121Z
LAST-MODIFIED:20180827T210329Z
UID:2660-1535734800-1535749200@rickrockrice.com
SUMMARY:Fishermen's Village
DESCRIPTION:Come out to see me and enjoy all of the great food \, shops and views.
URL:https://rickrockrice.com/upcoming-event/fishermens-village/
LOCATION:Fishermen’s Village\, 1200 W. Retta Esplanade\, Punta Gorda\, FL\, 33950
CATEGORIES:Local Events
END:VEVENT
END:VCALENDAR