BEGIN:VCALENDAR
VERSION:2.0
PRODID:-//Rick Rock Rice - ECPv6.15.20//NONSGML v1.0//EN
CALSCALE:GREGORIAN
METHOD:PUBLISH
X-ORIGINAL-URL:https://rickrockrice.com
X-WR-CALDESC:Events for Rick Rock Rice
REFRESH-INTERVAL;VALUE=DURATION:PT1H
X-Robots-Tag:noindex
X-PUBLISHED-TTL:PT1H
BEGIN:VTIMEZONE
TZID:America/New_York
BEGIN:DAYLIGHT
TZOFFSETFROM:-0500
TZOFFSETTO:-0400
TZNAME:EDT
DTSTART:20170312T070000
END:DAYLIGHT
BEGIN:STANDARD
TZOFFSETFROM:-0400
TZOFFSETTO:-0500
TZNAME:EST
DTSTART:20171105T060000
END:STANDARD
BEGIN:DAYLIGHT
TZOFFSETFROM:-0500
TZOFFSETTO:-0400
TZNAME:EDT
DTSTART:20180311T070000
END:DAYLIGHT
BEGIN:STANDARD
TZOFFSETFROM:-0400
TZOFFSETTO:-0500
TZNAME:EST
DTSTART:20181104T060000
END:STANDARD
BEGIN:DAYLIGHT
TZOFFSETFROM:-0500
TZOFFSETTO:-0400
TZNAME:EDT
DTSTART:20190310T070000
END:DAYLIGHT
BEGIN:STANDARD
TZOFFSETFROM:-0400
TZOFFSETTO:-0500
TZNAME:EST
DTSTART:20191103T060000
END:STANDARD
BEGIN:DAYLIGHT
TZOFFSETFROM:-0500
TZOFFSETTO:-0400
TZNAME:EDT
DTSTART:20200308T070000
END:DAYLIGHT
BEGIN:STANDARD
TZOFFSETFROM:-0400
TZOFFSETTO:-0500
TZNAME:EST
DTSTART:20201101T060000
END:STANDARD
END:VTIMEZONE
BEGIN:VEVENT
DTSTART;TZID=America/New_York:20190208T180000
DTEND;TZID=America/New_York:20190208T220000
DTSTAMP:20260422T140049
CREATED:20190102T234219Z
LAST-MODIFIED:20190102T234219Z
UID:2874-1549648800-1549663200@rickrockrice.com
SUMMARY:The Hut
DESCRIPTION:Come on out and join me at THE HUT where great food and drinks meet up with wonderful people and music and all in a park like setting.
URL:https://rickrockrice.com/upcoming-event/the-hut-2-2-2-2-2-2-2-2-2-2-2-2-2-2-2-2-2-2-2-2-2-2-2/
LOCATION:The Hut\, 5150 Buckingham Rd\, Fort Myers\, FL\, United States
CATEGORIES:Local Events
END:VEVENT
BEGIN:VEVENT
DTSTART;TZID=America/New_York:20190201T180000
DTEND;TZID=America/New_York:20190201T220000
DTSTAMP:20260422T140049
CREATED:20190102T234149Z
LAST-MODIFIED:20190102T234149Z
UID:2872-1549044000-1549058400@rickrockrice.com
SUMMARY:The Hut
DESCRIPTION:Come on out and join me at THE HUT where great food and drinks meet up with wonderful people and music and all in a park like setting.
URL:https://rickrockrice.com/upcoming-event/the-hut-2-2-2-2-2-2-2-2-2-2-2-2-2-2-2-2-2-2-2-2-2-2/
LOCATION:The Hut\, 5150 Buckingham Rd\, Fort Myers\, FL\, United States
CATEGORIES:Local Events
END:VEVENT
BEGIN:VEVENT
DTSTART;TZID=America/New_York:20190125T180000
DTEND;TZID=America/New_York:20190125T220000
DTSTAMP:20260422T140049
CREATED:20190102T234121Z
LAST-MODIFIED:20190102T234121Z
UID:2870-1548439200-1548453600@rickrockrice.com
SUMMARY:The Hut
DESCRIPTION:Come on out and join me at THE HUT where great food and drinks meet up with wonderful people and music and all in a park like setting.
URL:https://rickrockrice.com/upcoming-event/the-hut-2-2-2-2-2-2-2-2-2-2-2-2-2-2-2-2-2-2-2-2-2/
LOCATION:The Hut\, 5150 Buckingham Rd\, Fort Myers\, FL\, United States
CATEGORIES:Local Events
END:VEVENT
BEGIN:VEVENT
DTSTART;TZID=America/New_York:20190122T180000
DTEND;TZID=America/New_York:20190122T210000
DTSTAMP:20260422T140049
CREATED:20181002T212341Z
LAST-MODIFIED:20181002T213318Z
UID:2748-1548180000-1548190800@rickrockrice.com
SUMMARY:The Lighthouse
DESCRIPTION:Come join me The Lighthouse Grill for an awesome waterside dining experience with great food and drinks\, wonderful people and my live show.
URL:https://rickrockrice.com/upcoming-event/the-lighthouse/
CATEGORIES:Local Events
ATTACH;FMTTYPE=image/jpeg:https://rickrockrice.com/wp-content/uploads/2018/10/The-Lighthouse-Grill.jpg
END:VEVENT
BEGIN:VEVENT
DTSTART;TZID=America/New_York:20190118T180000
DTEND;TZID=America/New_York:20190118T220000
DTSTAMP:20260422T140049
CREATED:20190102T234049Z
LAST-MODIFIED:20190102T234049Z
UID:2868-1547834400-1547848800@rickrockrice.com
SUMMARY:The Hut
DESCRIPTION:Come on out and join me at THE HUT where great food and drinks meet up with wonderful people and music and all in a park like setting.
URL:https://rickrockrice.com/upcoming-event/the-hut-2-2-2-2-2-2-2-2-2-2-2-2-2-2-2-2-2-2-2-2/
LOCATION:The Hut\, 5150 Buckingham Rd\, Fort Myers\, FL\, United States
CATEGORIES:Local Events
END:VEVENT
BEGIN:VEVENT
DTSTART;TZID=America/New_York:20190113T030000
DTEND;TZID=America/New_York:20190113T180000
DTSTAMP:20260422T140049
CREATED:20181104T183859Z
LAST-MODIFIED:20181104T183859Z
UID:2818-1547348400-1547402400@rickrockrice.com
SUMMARY:The American Legion
DESCRIPTION:
URL:https://rickrockrice.com/upcoming-event/the-american-legion-2-2-2-2-3/
CATEGORIES:Local Events
END:VEVENT
BEGIN:VEVENT
DTSTART;TZID=America/New_York:20190111T180000
DTEND;TZID=America/New_York:20190111T220000
DTSTAMP:20260422T140049
CREATED:20190102T234019Z
LAST-MODIFIED:20190102T234019Z
UID:2866-1547229600-1547244000@rickrockrice.com
SUMMARY:The Hut
DESCRIPTION:Come on out and join me at THE HUT where great food and drinks meet up with wonderful people and music and all in a park like setting.
URL:https://rickrockrice.com/upcoming-event/the-hut-2-2-2-2-2-2-2-2-2-2-2-2-2-2-2-2-2-2-2/
LOCATION:The Hut\, 5150 Buckingham Rd\, Fort Myers\, FL\, United States
CATEGORIES:Local Events
END:VEVENT
BEGIN:VEVENT
DTSTART;TZID=America/New_York:20190104T180000
DTEND;TZID=America/New_York:20190104T220000
DTSTAMP:20260422T140049
CREATED:20190102T233948Z
LAST-MODIFIED:20190102T233948Z
UID:2864-1546624800-1546639200@rickrockrice.com
SUMMARY:The Hut
DESCRIPTION:Come on out and join me at THE HUT where great food and drinks meet up with wonderful people and music and all in a park like setting.
URL:https://rickrockrice.com/upcoming-event/the-hut-2-2-2-2-2-2-2-2-2-2-2-2-2-2-2-2-2-2/
LOCATION:The Hut\, 5150 Buckingham Rd\, Fort Myers\, FL\, United States
CATEGORIES:Local Events
END:VEVENT
BEGIN:VEVENT
DTSTART;TZID=America/New_York:20181228T180000
DTEND;TZID=America/New_York:20181228T220000
DTSTAMP:20260422T140049
CREATED:20181017T164115Z
LAST-MODIFIED:20181017T164115Z
UID:2804-1546020000-1546034400@rickrockrice.com
SUMMARY:The Hut
DESCRIPTION:Come on out and join me at THE HUT where great food and drinks meet up with wonderful people and music and all in a park like setting.
URL:https://rickrockrice.com/upcoming-event/the-hut-2-2-2-2-2-2-2-2-2-2-2-2-2-2-2-2-2/
LOCATION:The Hut\, 5150 Buckingham Rd\, Fort Myers\, FL\, United States
CATEGORIES:Local Events
END:VEVENT
BEGIN:VEVENT
DTSTART;TZID=America/New_York:20181226T170000
DTEND;TZID=America/New_York:20181226T200000
DTSTAMP:20260422T140049
CREATED:20180901T222437Z
LAST-MODIFIED:20180901T222437Z
UID:2706-1545843600-1545854400@rickrockrice.com
SUMMARY:Fishermen's Village
DESCRIPTION:Come out to see me and enjoy all of the great food \, shops and views.
URL:https://rickrockrice.com/upcoming-event/fishermens-village-2-2-2-2-2-2-2/
LOCATION:Fishermen’s Village\, 1200 W. Retta Esplanade\, Punta Gorda\, FL\, 33950
CATEGORIES:Local Events
END:VEVENT
BEGIN:VEVENT
DTSTART;TZID=America/New_York:20181222T030000
DTEND;TZID=America/New_York:20181222T180000
DTSTAMP:20260422T140049
CREATED:20181031T171503Z
LAST-MODIFIED:20181031T171503Z
UID:2814-1545447600-1545501600@rickrockrice.com
SUMMARY:The American Legion
DESCRIPTION:
URL:https://rickrockrice.com/upcoming-event/the-american-legion-2-2-2-2-2/
CATEGORIES:Local Events
END:VEVENT
BEGIN:VEVENT
DTSTART;TZID=America/New_York:20181221T180000
DTEND;TZID=America/New_York:20181221T220000
DTSTAMP:20260422T140049
CREATED:20181017T164043Z
LAST-MODIFIED:20181017T164043Z
UID:2802-1545415200-1545429600@rickrockrice.com
SUMMARY:The Hut
DESCRIPTION:Come on out and join me at THE HUT where great food and drinks meet up with wonderful people and music and all in a park like setting.
URL:https://rickrockrice.com/upcoming-event/the-hut-2-2-2-2-2-2-2-2-2-2-2-2-2-2-2-2/
LOCATION:The Hut\, 5150 Buckingham Rd\, Fort Myers\, FL\, United States
CATEGORIES:Local Events
END:VEVENT
BEGIN:VEVENT
DTSTART;TZID=America/New_York:20181215T180000
DTEND;TZID=America/New_York:20181215T220000
DTSTAMP:20260422T140049
CREATED:20181208T174730Z
LAST-MODIFIED:20181208T174730Z
UID:2838-1544896800-1544911200@rickrockrice.com
SUMMARY:The Hut
DESCRIPTION:Come on out and join me at THE HUT where great food and drinks meet up with wonderful people and music and all in a park like setting. Playing inside on this night.
URL:https://rickrockrice.com/upcoming-event/the-hut-2-2-2-2-2-2-2-2-2-2-2-2-2-2-2-3/
LOCATION:The Hut\, 5150 Buckingham Rd\, Fort Myers\, FL\, United States
CATEGORIES:Local Events
END:VEVENT
BEGIN:VEVENT
DTSTART;TZID=America/New_York:20181214T180000
DTEND;TZID=America/New_York:20181214T220000
DTSTAMP:20260422T140049
CREATED:20181017T164010Z
LAST-MODIFIED:20181017T164010Z
UID:2800-1544810400-1544824800@rickrockrice.com
SUMMARY:The Hut
DESCRIPTION:Come on out and join me at THE HUT where great food and drinks meet up with wonderful people and music and all in a park like setting.
URL:https://rickrockrice.com/upcoming-event/the-hut-2-2-2-2-2-2-2-2-2-2-2-2-2-2-2/
LOCATION:The Hut\, 5150 Buckingham Rd\, Fort Myers\, FL\, United States
CATEGORIES:Local Events
END:VEVENT
BEGIN:VEVENT
DTSTART;TZID=America/New_York:20181213T170000
DTEND;TZID=America/New_York:20181213T200000
DTSTAMP:20260422T140049
CREATED:20180901T222403Z
LAST-MODIFIED:20180901T222403Z
UID:2704-1544720400-1544731200@rickrockrice.com
SUMMARY:Fishermen's Village
DESCRIPTION:Come out to see me and enjoy all of the great food \, shops and views.
URL:https://rickrockrice.com/upcoming-event/fishermens-village-2-2-2-2-2-2/
LOCATION:Fishermen’s Village\, 1200 W. Retta Esplanade\, Punta Gorda\, FL\, 33950
CATEGORIES:Local Events
END:VEVENT
BEGIN:VEVENT
DTSTART;TZID=America/New_York:20181212T170000
DTEND;TZID=America/New_York:20181212T200000
DTSTAMP:20260422T140049
CREATED:20180901T222340Z
LAST-MODIFIED:20180901T222340Z
UID:2702-1544634000-1544644800@rickrockrice.com
SUMMARY:Fishermen's Village
DESCRIPTION:Come out to see me and enjoy all of the great food \, shops and views.
URL:https://rickrockrice.com/upcoming-event/fishermens-village-2-2-2-2-2/
LOCATION:Fishermen’s Village\, 1200 W. Retta Esplanade\, Punta Gorda\, FL\, 33950
CATEGORIES:Local Events
END:VEVENT
BEGIN:VEVENT
DTSTART;TZID=America/New_York:20181208T170000
DTEND;TZID=America/New_York:20181208T220000
DTSTAMP:20260422T140049
CREATED:20180901T222258Z
LAST-MODIFIED:20180901T222258Z
UID:2700-1544288400-1544306400@rickrockrice.com
SUMMARY:Private Party
DESCRIPTION:
URL:https://rickrockrice.com/upcoming-event/private-party/
END:VEVENT
BEGIN:VEVENT
DTSTART;TZID=America/New_York:20181207T180000
DTEND;TZID=America/New_York:20181207T220000
DTSTAMP:20260422T140049
CREATED:20181017T163932Z
LAST-MODIFIED:20181017T163932Z
UID:2798-1544205600-1544220000@rickrockrice.com
SUMMARY:The Hut
DESCRIPTION:Come on out and join me at THE HUT where great food and drinks meet up with wonderful people and music and all in a park like setting.
URL:https://rickrockrice.com/upcoming-event/the-hut-2-2-2-2-2-2-2-2-2-2-2-2-2-2/
LOCATION:The Hut\, 5150 Buckingham Rd\, Fort Myers\, FL\, United States
CATEGORIES:Local Events
END:VEVENT
BEGIN:VEVENT
DTSTART;TZID=America/New_York:20181201T030000
DTEND;TZID=America/New_York:20181201T180000
DTSTAMP:20260422T140050
CREATED:20180901T222159Z
LAST-MODIFIED:20180901T222159Z
UID:2698-1543633200-1543687200@rickrockrice.com
SUMMARY:The American Legion
DESCRIPTION:
URL:https://rickrockrice.com/upcoming-event/the-american-legion-2-2-2-2/
CATEGORIES:Local Events
END:VEVENT
BEGIN:VEVENT
DTSTART;TZID=America/New_York:20181130T180000
DTEND;TZID=America/New_York:20181130T220000
DTSTAMP:20260422T140050
CREATED:20181004T133904Z
LAST-MODIFIED:20181004T133904Z
UID:2777-1543600800-1543615200@rickrockrice.com
SUMMARY:The Hut
DESCRIPTION:Come on out and join me at THE HUT where great food and drinks meet up with wonderful people and music and all in a park like setting.
URL:https://rickrockrice.com/upcoming-event/the-hut-2-2-2-2-2-2-2-2-2-2-2-2-2/
LOCATION:The Hut\, 5150 Buckingham Rd\, Fort Myers\, FL\, United States
CATEGORIES:Local Events
END:VEVENT
BEGIN:VEVENT
DTSTART;TZID=America/New_York:20181128T170000
DTEND;TZID=America/New_York:20181128T200000
DTSTAMP:20260422T140050
CREATED:20180901T222040Z
LAST-MODIFIED:20180901T222040Z
UID:2696-1543424400-1543435200@rickrockrice.com
SUMMARY:Fishermen's Village
DESCRIPTION:Come out to see me and enjoy all of the great food \, shops and views.
URL:https://rickrockrice.com/upcoming-event/fishermens-village-2-2-2-2/
LOCATION:Fishermen’s Village\, 1200 W. Retta Esplanade\, Punta Gorda\, FL\, 33950
CATEGORIES:Local Events
END:VEVENT
BEGIN:VEVENT
DTSTART;TZID=America/New_York:20181123T180000
DTEND;TZID=America/New_York:20181123T220000
DTSTAMP:20260422T140050
CREATED:20181004T133838Z
LAST-MODIFIED:20181004T133838Z
UID:2775-1542996000-1543010400@rickrockrice.com
SUMMARY:The Hut
DESCRIPTION:Come on out and join me at THE HUT where great food and drinks meet up with wonderful people and music and all in a park like setting.
URL:https://rickrockrice.com/upcoming-event/the-hut-2-2-2-2-2-2-2-2-2-2-2-2/
LOCATION:The Hut\, 5150 Buckingham Rd\, Fort Myers\, FL\, United States
CATEGORIES:Local Events
END:VEVENT
BEGIN:VEVENT
DTSTART;TZID=America/New_York:20181121T170000
DTEND;TZID=America/New_York:20181121T200000
DTSTAMP:20260422T140050
CREATED:20180901T222008Z
LAST-MODIFIED:20180901T222008Z
UID:2694-1542819600-1542830400@rickrockrice.com
SUMMARY:Fishermen's Village
DESCRIPTION:Come out to see me and enjoy all of the great food \, shops and views.
URL:https://rickrockrice.com/upcoming-event/fishermens-village-2-2-2/
LOCATION:Fishermen’s Village\, 1200 W. Retta Esplanade\, Punta Gorda\, FL\, 33950
CATEGORIES:Local Events
END:VEVENT
BEGIN:VEVENT
DTSTART;TZID=America/New_York:20181118T030000
DTEND;TZID=America/New_York:20181118T180000
DTSTAMP:20260422T140050
CREATED:20181018T191237Z
LAST-MODIFIED:20181018T191237Z
UID:2806-1542510000-1542564000@rickrockrice.com
SUMMARY:The American Legion
DESCRIPTION:
URL:https://rickrockrice.com/upcoming-event/the-american-legion-2-2-2-3/
CATEGORIES:Local Events
END:VEVENT
BEGIN:VEVENT
DTSTART;TZID=America/New_York:20181116T180000
DTEND;TZID=America/New_York:20181116T220000
DTSTAMP:20260422T140050
CREATED:20181004T133808Z
LAST-MODIFIED:20181004T133808Z
UID:2773-1542391200-1542405600@rickrockrice.com
SUMMARY:The Hut
DESCRIPTION:Come on out and join me at THE HUT where great food and drinks meet up with wonderful people and music and all in a park like setting.
URL:https://rickrockrice.com/upcoming-event/the-hut-2-2-2-2-2-2-2-2-2-2-2/
LOCATION:The Hut\, 5150 Buckingham Rd\, Fort Myers\, FL\, United States
CATEGORIES:Local Events
END:VEVENT
BEGIN:VEVENT
DTSTART;TZID=America/New_York:20181114T170000
DTEND;TZID=America/New_York:20181114T200000
DTSTAMP:20260422T140050
CREATED:20180901T221934Z
LAST-MODIFIED:20180901T221934Z
UID:2692-1542214800-1542225600@rickrockrice.com
SUMMARY:Fishermen's Village
DESCRIPTION:Come out to see me and enjoy all of the great food \, shops and views.
URL:https://rickrockrice.com/upcoming-event/fishermens-village-2-2/
LOCATION:Fishermen’s Village\, 1200 W. Retta Esplanade\, Punta Gorda\, FL\, 33950
CATEGORIES:Local Events
END:VEVENT
BEGIN:VEVENT
DTSTART;TZID=America/New_York:20181113T180000
DTEND;TZID=America/New_York:20181113T210000
DTSTAMP:20260422T140050
CREATED:20181003T182736Z
LAST-MODIFIED:20181003T182736Z
UID:2763-1542132000-1542142800@rickrockrice.com
SUMMARY:The End Zone
DESCRIPTION:Come on out and have some great food\, drinks and music with some wonderful people.
URL:https://rickrockrice.com/upcoming-event/the-end-zone-2/
LOCATION:The End Zone\, 2440 S McCall Rd\, Englewood\, FL\, 34224\, United States
END:VEVENT
BEGIN:VEVENT
DTSTART;TZID=America/New_York:20181109T180000
DTEND;TZID=America/New_York:20181109T220000
DTSTAMP:20260422T140050
CREATED:20181004T133738Z
LAST-MODIFIED:20181004T133738Z
UID:2771-1541786400-1541800800@rickrockrice.com
SUMMARY:The Hut
DESCRIPTION:Come on out and join me at THE HUT where great food and drinks meet up with wonderful people and music and all in a park like setting.
URL:https://rickrockrice.com/upcoming-event/the-hut-2-2-2-2-2-2-2-2-2-2/
LOCATION:The Hut\, 5150 Buckingham Rd\, Fort Myers\, FL\, United States
CATEGORIES:Local Events
END:VEVENT
BEGIN:VEVENT
DTSTART;TZID=America/New_York:20181107T170000
DTEND;TZID=America/New_York:20181107T200000
DTSTAMP:20260422T140050
CREATED:20180901T221841Z
LAST-MODIFIED:20180901T221841Z
UID:2689-1541610000-1541620800@rickrockrice.com
SUMMARY:Fishermen's Village
DESCRIPTION:Come out to see me and enjoy all of the great food \, shops and views.
URL:https://rickrockrice.com/upcoming-event/fishermens-village-2/
LOCATION:Fishermen’s Village\, 1200 W. Retta Esplanade\, Punta Gorda\, FL\, 33950
CATEGORIES:Local Events
END:VEVENT
BEGIN:VEVENT
DTSTART;TZID=America/New_York:20181103T030000
DTEND;TZID=America/New_York:20181103T180000
DTSTAMP:20260422T140050
CREATED:20180901T221031Z
LAST-MODIFIED:20180901T221031Z
UID:2687-1541214000-1541268000@rickrockrice.com
SUMMARY:The American Legion
DESCRIPTION:
URL:https://rickrockrice.com/upcoming-event/the-american-legion-2-2-2/
CATEGORIES:Local Events
END:VEVENT
END:VCALENDAR