BEGIN:VCALENDAR
VERSION:2.0
PRODID:-//Rick Rock Rice - ECPv6.15.20//NONSGML v1.0//EN
CALSCALE:GREGORIAN
METHOD:PUBLISH
X-WR-CALNAME:Rick Rock Rice
X-ORIGINAL-URL:https://rickrockrice.com
X-WR-CALDESC:Events for Rick Rock Rice
REFRESH-INTERVAL;VALUE=DURATION:PT1H
X-Robots-Tag:noindex
X-PUBLISHED-TTL:PT1H
BEGIN:VTIMEZONE
TZID:America/New_York
BEGIN:DAYLIGHT
TZOFFSETFROM:-0500
TZOFFSETTO:-0400
TZNAME:EDT
DTSTART:20180311T070000
END:DAYLIGHT
BEGIN:STANDARD
TZOFFSETFROM:-0400
TZOFFSETTO:-0500
TZNAME:EST
DTSTART:20181104T060000
END:STANDARD
BEGIN:DAYLIGHT
TZOFFSETFROM:-0500
TZOFFSETTO:-0400
TZNAME:EDT
DTSTART:20190310T070000
END:DAYLIGHT
BEGIN:STANDARD
TZOFFSETFROM:-0400
TZOFFSETTO:-0500
TZNAME:EST
DTSTART:20191103T060000
END:STANDARD
BEGIN:DAYLIGHT
TZOFFSETFROM:-0500
TZOFFSETTO:-0400
TZNAME:EDT
DTSTART:20200308T070000
END:DAYLIGHT
BEGIN:STANDARD
TZOFFSETFROM:-0400
TZOFFSETTO:-0500
TZNAME:EST
DTSTART:20201101T060000
END:STANDARD
END:VTIMEZONE
BEGIN:VEVENT
DTSTART;TZID=America/New_York:20191029T060000
DTEND;TZID=America/New_York:20191029T210000
DTSTAMP:20260422T065707
CREATED:20191002T102649Z
LAST-MODIFIED:20191002T102649Z
UID:3038-1572328800-1572382800@rickrockrice.com
SUMMARY:All-Star Sports Grill
DESCRIPTION:
URL:https://rickrockrice.com/upcoming-event/all-star-sports-grill-5/
CATEGORIES:Local Events
ATTACH;FMTTYPE=image/jpeg:https://rickrockrice.com/wp-content/uploads/2019/09/All-Star-Sports-Grill.jpg
END:VEVENT
BEGIN:VEVENT
DTSTART;TZID=America/New_York:20191022T060000
DTEND;TZID=America/New_York:20191022T210000
DTSTAMP:20260422T065707
CREATED:20191002T102611Z
LAST-MODIFIED:20191002T102611Z
UID:3036-1571724000-1571778000@rickrockrice.com
SUMMARY:All-Star Sports Grill
DESCRIPTION:
URL:https://rickrockrice.com/upcoming-event/all-star-sports-grill-4/
CATEGORIES:Local Events
ATTACH;FMTTYPE=image/jpeg:https://rickrockrice.com/wp-content/uploads/2019/09/All-Star-Sports-Grill.jpg
END:VEVENT
BEGIN:VEVENT
DTSTART;TZID=America/New_York:20191018T040000
DTEND;TZID=America/New_York:20191018T190000
DTSTAMP:20260422T065707
CREATED:20191015T185452Z
LAST-MODIFIED:20191015T185452Z
UID:3050-1571371200-1571425200@rickrockrice.com
SUMMARY:The American Legion
DESCRIPTION:
URL:https://rickrockrice.com/upcoming-event/the-american-legion-6/
CATEGORIES:Local Events
END:VEVENT
BEGIN:VEVENT
DTSTART;TZID=America/New_York:20191015T060000
DTEND;TZID=America/New_York:20191015T210000
DTSTAMP:20260422T065707
CREATED:20191002T102510Z
LAST-MODIFIED:20191002T102510Z
UID:3034-1571119200-1571173200@rickrockrice.com
SUMMARY:All-Star Sports Grill
DESCRIPTION:
URL:https://rickrockrice.com/upcoming-event/all-star-sports-grill-3/
CATEGORIES:Local Events
ATTACH;FMTTYPE=image/jpeg:https://rickrockrice.com/wp-content/uploads/2019/09/All-Star-Sports-Grill.jpg
END:VEVENT
BEGIN:VEVENT
DTSTART;TZID=America/New_York:20191008T060000
DTEND;TZID=America/New_York:20191008T210000
DTSTAMP:20260422T065707
CREATED:20191002T102439Z
LAST-MODIFIED:20191007T163656Z
UID:3032-1570514400-1570568400@rickrockrice.com
SUMMARY:All-Star Sports Grill
DESCRIPTION:
URL:https://rickrockrice.com/upcoming-event/all-star-sports-grill-2/
LOCATION:All-Star Bar And Grill\, 2360 Tamiami Trail\, Port Charlotte\, FL\, 33952\, United States
CATEGORIES:Local Events
ATTACH;FMTTYPE=image/jpeg:https://rickrockrice.com/wp-content/uploads/2019/09/All-Star-Sports-Grill.jpg
END:VEVENT
BEGIN:VEVENT
DTSTART;TZID=America/New_York:20191001T060000
DTEND;TZID=America/New_York:20191001T210000
DTSTAMP:20260422T065707
CREATED:20190928T114901Z
LAST-MODIFIED:20190928T114901Z
UID:3030-1569909600-1569963600@rickrockrice.com
SUMMARY:All-Star Sports Grill
DESCRIPTION:
URL:https://rickrockrice.com/upcoming-event/all-star-sports-grill/
CATEGORIES:Local Events
ATTACH;FMTTYPE=image/jpeg:https://rickrockrice.com/wp-content/uploads/2019/09/All-Star-Sports-Grill.jpg
END:VEVENT
BEGIN:VEVENT
DTSTART;TZID=America/New_York:20190925T060000
DTEND;TZID=America/New_York:20190925T210000
DTSTAMP:20260422T065707
CREATED:20190828T124727Z
LAST-MODIFIED:20190828T124727Z
UID:3007-1569391200-1569445200@rickrockrice.com
SUMMARY:The American Legion
DESCRIPTION:
URL:https://rickrockrice.com/upcoming-event/the-american-legion-2-2-2-2-3-2-2-2-2-2-2-2-2/
CATEGORIES:Local Events
END:VEVENT
BEGIN:VEVENT
DTSTART;TZID=America/New_York:20190918T053000
DTEND;TZID=America/New_York:20190918T203000
DTSTAMP:20260422T065707
CREATED:20190509T160731Z
LAST-MODIFIED:20190509T160731Z
UID:2958-1568784600-1568838600@rickrockrice.com
SUMMARY:Mission Valley
DESCRIPTION:
URL:https://rickrockrice.com/upcoming-event/mission-valley-2/
LOCATION:Mission Valley
CATEGORIES:Local Events
END:VEVENT
BEGIN:VEVENT
DTSTART;TZID=America/New_York:20190911T060000
DTEND;TZID=America/New_York:20190911T210000
DTSTAMP:20260422T065707
CREATED:20190211T202803Z
LAST-MODIFIED:20190828T124649Z
UID:2919-1568181600-1568235600@rickrockrice.com
SUMMARY:The American Legion
DESCRIPTION:
URL:https://rickrockrice.com/upcoming-event/the-american-legion-2-2-2-2-3-2-2-2-2-2-2-2/
CATEGORIES:Local Events
END:VEVENT
BEGIN:VEVENT
DTSTART;TZID=America/New_York:20190621T180000
DTEND;TZID=America/New_York:20190621T220000
DTSTAMP:20260422T065707
CREATED:20190523T131933Z
LAST-MODIFIED:20190523T131933Z
UID:2964-1561140000-1561154400@rickrockrice.com
SUMMARY:The Hut
DESCRIPTION:Come on out and join me at THE HUT where great food and drinks meet up with wonderful people and music and all in a park like setting.
URL:https://rickrockrice.com/upcoming-event/the-hut-2-2-2-2-2-2-2-2-2-2-2-2-2-2-2-2-2-2-2-2-2-2-2-2-2-2-2-2-2-2-2-3-2-2-2-2-2-2-2/
LOCATION:The Hut\, 5150 Buckingham Rd\, Fort Myers\, FL\, United States
CATEGORIES:Local Events
END:VEVENT
BEGIN:VEVENT
DTSTART;TZID=America/New_York:20190614T180000
DTEND;TZID=America/New_York:20190614T220000
DTSTAMP:20260422T065707
CREATED:20190211T202652Z
LAST-MODIFIED:20190211T202652Z
UID:2915-1560535200-1560549600@rickrockrice.com
SUMMARY:The Hut
DESCRIPTION:Come on out and join me at THE HUT where great food and drinks meet up with wonderful people and music and all in a park like setting.
URL:https://rickrockrice.com/upcoming-event/the-hut-2-2-2-2-2-2-2-2-2-2-2-2-2-2-2-2-2-2-2-2-2-2-2-2-2-2-2-2-2-2-2-3-2-2-2-2-2-2/
LOCATION:The Hut\, 5150 Buckingham Rd\, Fort Myers\, FL\, United States
CATEGORIES:Local Events
END:VEVENT
BEGIN:VEVENT
DTSTART;TZID=America/New_York:20190531T180000
DTEND;TZID=America/New_York:20190531T220000
DTSTAMP:20260422T065707
CREATED:20190211T202452Z
LAST-MODIFIED:20190211T202522Z
UID:2911-1559325600-1559340000@rickrockrice.com
SUMMARY:The Hut
DESCRIPTION:Come on out and join me at THE HUT where great food and drinks meet up with wonderful people and music and all in a park like setting.
URL:https://rickrockrice.com/upcoming-event/the-hut-2-2-2-2-2-2-2-2-2-2-2-2-2-2-2-2-2-2-2-2-2-2-2-2-2-2-2-2-2-2-2-3-2-2-2-2-2/
LOCATION:The Hut\, 5150 Buckingham Rd\, Fort Myers\, FL\, United States
CATEGORIES:Local Events
END:VEVENT
BEGIN:VEVENT
DTSTART;TZID=America/New_York:20190530T180000
DTEND;TZID=America/New_York:20190530T210000
DTSTAMP:20260422T065707
CREATED:20190416T183725Z
LAST-MODIFIED:20190416T183725Z
UID:2941-1559239200-1559250000@rickrockrice.com
SUMMARY:The End Zone
DESCRIPTION:Come on out and have some great food\, drinks and music with some wonderful people.
URL:https://rickrockrice.com/upcoming-event/the-end-zone-2-2/
LOCATION:The End Zone\, 2440 S McCall Rd\, Englewood\, FL\, 34224\, United States
ATTACH;FMTTYPE=image/jpeg:https://rickrockrice.com/wp-content/uploads/2019/04/The-End-Zone.jpg
END:VEVENT
BEGIN:VEVENT
DTSTART;TZID=America/New_York:20190525T183000
DTEND;TZID=America/New_York:20190525T213000
DTSTAMP:20260422T065707
CREATED:20190309T212507Z
LAST-MODIFIED:20190309T212507Z
UID:2932-1558809000-1558819800@rickrockrice.com
SUMMARY:Bentley's Boutique Hotel
DESCRIPTION:Come on out and join me at the Tiki Hut at Bentley’s Boutique Hotel in Osprey from 6:30 to 9:30 on Saturday May 25\, 2019. You eat \, take a dip in the pool\, get a room and make a great day of it.
URL:https://rickrockrice.com/upcoming-event/bentleys-boutique-hotel-2/
CATEGORIES:Local Events
ATTACH;FMTTYPE=image/jpeg:https://rickrockrice.com/wp-content/uploads/2018/10/Bentleys.jpg
END:VEVENT
BEGIN:VEVENT
DTSTART;TZID=America/New_York:20190524T180000
DTEND;TZID=America/New_York:20190524T220000
DTSTAMP:20260422T065707
CREATED:20190211T203240Z
LAST-MODIFIED:20190211T203240Z
UID:2927-1558720800-1558735200@rickrockrice.com
SUMMARY:The Hut
DESCRIPTION:Come on out and join me at THE HUT where great food and drinks meet up with wonderful people and music and all in a park like setting.
URL:https://rickrockrice.com/upcoming-event/the-hut-2-2-2-2-2-2-2-2-2-2-2-2-2-2-2-2-2-2-2-2-2-2-2-2-2-2-2-2-2-2-2-3-2-2-2-2-3/
LOCATION:The Hut\, 5150 Buckingham Rd\, Fort Myers\, FL\, United States
CATEGORIES:Local Events
END:VEVENT
BEGIN:VEVENT
DTSTART;TZID=America/New_York:20190517T180000
DTEND;TZID=America/New_York:20190517T220000
DTSTAMP:20260422T065707
CREATED:20190211T202238Z
LAST-MODIFIED:20190211T202238Z
UID:2909-1558116000-1558130400@rickrockrice.com
SUMMARY:The Hut
DESCRIPTION:Come on out and join me at THE HUT where great food and drinks meet up with wonderful people and music and all in a park like setting.
URL:https://rickrockrice.com/upcoming-event/the-hut-2-2-2-2-2-2-2-2-2-2-2-2-2-2-2-2-2-2-2-2-2-2-2-2-2-2-2-2-2-2-2-3-2-2-2-2/
LOCATION:The Hut\, 5150 Buckingham Rd\, Fort Myers\, FL\, United States
CATEGORIES:Local Events
END:VEVENT
BEGIN:VEVENT
DTSTART;TZID=America/New_York:20190512T030000
DTEND;TZID=America/New_York:20190512T180000
DTSTAMP:20260422T065707
CREATED:20181104T184055Z
LAST-MODIFIED:20181104T184055Z
UID:2824-1557630000-1557684000@rickrockrice.com
SUMMARY:The American Legion
DESCRIPTION:
URL:https://rickrockrice.com/upcoming-event/the-american-legion-2-2-2-2-3-2-2-2/
CATEGORIES:Local Events
END:VEVENT
BEGIN:VEVENT
DTSTART;TZID=America/New_York:20190510T180000
DTEND;TZID=America/New_York:20190510T220000
DTSTAMP:20260422T065707
CREATED:20190211T202153Z
LAST-MODIFIED:20190211T202153Z
UID:2907-1557511200-1557525600@rickrockrice.com
SUMMARY:The Hut
DESCRIPTION:Come on out and join me at THE HUT where great food and drinks meet up with wonderful people and music and all in a park like setting.
URL:https://rickrockrice.com/upcoming-event/the-hut-2-2-2-2-2-2-2-2-2-2-2-2-2-2-2-2-2-2-2-2-2-2-2-2-2-2-2-2-2-2-2-3-2-2-2/
LOCATION:The Hut\, 5150 Buckingham Rd\, Fort Myers\, FL\, United States
CATEGORIES:Local Events
END:VEVENT
BEGIN:VEVENT
DTSTART;TZID=America/New_York:20190506T170000
DTEND;TZID=America/New_York:20190506T200000
DTSTAMP:20260422T065707
CREATED:20190102T233554Z
LAST-MODIFIED:20190102T233554Z
UID:2859-1557162000-1557172800@rickrockrice.com
SUMMARY:Paradise Grill
DESCRIPTION:Come visit me and the wonderful staff at The Paradise Grill on Monday May 6 from 5:00-8:00pm for some great food\, drinks and music.
URL:https://rickrockrice.com/upcoming-event/paradise-grill/
ATTACH;FMTTYPE=image/jpeg:https://rickrockrice.com/wp-content/uploads/2019/01/Paradise-Grill.jpg
END:VEVENT
BEGIN:VEVENT
DTSTART;TZID=America/New_York:20190504T050000
DTEND;TZID=America/New_York:20190504T220000
DTSTAMP:20260422T065707
CREATED:20190102T233732Z
LAST-MODIFIED:20190102T233732Z
UID:2862-1556946000-1557007200@rickrockrice.com
SUMMARY:Kentucky Derby Party
DESCRIPTION:
URL:https://rickrockrice.com/upcoming-event/kentucky-derby-party/
END:VEVENT
BEGIN:VEVENT
DTSTART;TZID=America/New_York:20190503T180000
DTEND;TZID=America/New_York:20190503T220000
DTSTAMP:20260422T065707
CREATED:20190211T202120Z
LAST-MODIFIED:20190211T202120Z
UID:2905-1556906400-1556920800@rickrockrice.com
SUMMARY:The Hut
DESCRIPTION:Come on out and join me at THE HUT where great food and drinks meet up with wonderful people and music and all in a park like setting.
URL:https://rickrockrice.com/upcoming-event/the-hut-2-2-2-2-2-2-2-2-2-2-2-2-2-2-2-2-2-2-2-2-2-2-2-2-2-2-2-2-2-2-2-3-2-2/
LOCATION:The Hut\, 5150 Buckingham Rd\, Fort Myers\, FL\, United States
CATEGORIES:Local Events
END:VEVENT
BEGIN:VEVENT
DTSTART;TZID=America/New_York:20190426T180000
DTEND;TZID=America/New_York:20190426T220000
DTSTAMP:20260422T065707
CREATED:20190102T234759Z
LAST-MODIFIED:20190102T234759Z
UID:2896-1556301600-1556316000@rickrockrice.com
SUMMARY:The Hut
DESCRIPTION:Come on out and join me at THE HUT where great food and drinks meet up with wonderful people and music and all in a park like setting.
URL:https://rickrockrice.com/upcoming-event/the-hut-2-2-2-2-2-2-2-2-2-2-2-2-2-2-2-2-2-2-2-2-2-2-2-2-2-2-2-2-2-2-2-3-2/
LOCATION:The Hut\, 5150 Buckingham Rd\, Fort Myers\, FL\, United States
CATEGORIES:Local Events
END:VEVENT
BEGIN:VEVENT
DTSTART;TZID=America/New_York:20190423T180000
DTEND;TZID=America/New_York:20190423T210000
DTSTAMP:20260422T065707
CREATED:20181002T213456Z
LAST-MODIFIED:20181002T213456Z
UID:2757-1556042400-1556053200@rickrockrice.com
SUMMARY:The Lighthouse
DESCRIPTION:Come join me The Lighthouse Grill for an awesome waterside dining experience with great food and drinks\, wonderful people and my live show.
URL:https://rickrockrice.com/upcoming-event/the-lighthouse-2-2-2/
CATEGORIES:Local Events
ATTACH;FMTTYPE=image/jpeg:https://rickrockrice.com/wp-content/uploads/2018/10/The-Lighthouse-Grill.jpg
END:VEVENT
BEGIN:VEVENT
DTSTART;TZID=America/New_York:20190419T180000
DTEND;TZID=America/New_York:20190419T220000
DTSTAMP:20260422T065707
CREATED:20190102T234728Z
LAST-MODIFIED:20190102T234728Z
UID:2893-1555696800-1555711200@rickrockrice.com
SUMMARY:The Hut
DESCRIPTION:Come on out and join me at THE HUT where great food and drinks meet up with wonderful people and music and all in a park like setting.
URL:https://rickrockrice.com/upcoming-event/the-hut-2-2-2-2-2-2-2-2-2-2-2-2-2-2-2-2-2-2-2-2-2-2-2-2-2-2-2-2-2-2-2-3/
LOCATION:The Hut\, 5150 Buckingham Rd\, Fort Myers\, FL\, United States
CATEGORIES:Local Events
END:VEVENT
BEGIN:VEVENT
DTSTART;TZID=America/New_York:20190414T030000
DTEND;TZID=America/New_York:20190414T180000
DTSTAMP:20260422T065707
CREATED:20181104T184027Z
LAST-MODIFIED:20181104T184027Z
UID:2822-1555210800-1555264800@rickrockrice.com
SUMMARY:The American Legion
DESCRIPTION:
URL:https://rickrockrice.com/upcoming-event/the-american-legion-2-2-2-2-3-2-2/
CATEGORIES:Local Events
END:VEVENT
BEGIN:VEVENT
DTSTART;TZID=America/New_York:20190412T180000
DTEND;TZID=America/New_York:20190412T220000
DTSTAMP:20260422T065707
CREATED:20190102T234707Z
LAST-MODIFIED:20190102T234707Z
UID:2892-1555092000-1555106400@rickrockrice.com
SUMMARY:The Hut
DESCRIPTION:Come on out and join me at THE HUT where great food and drinks meet up with wonderful people and music and all in a park like setting.
URL:https://rickrockrice.com/upcoming-event/the-hut-2-2-2-2-2-2-2-2-2-2-2-2-2-2-2-2-2-2-2-2-2-2-2-2-2-2-2-2-2-2-2-2/
LOCATION:The Hut\, 5150 Buckingham Rd\, Fort Myers\, FL\, United States
CATEGORIES:Local Events
END:VEVENT
BEGIN:VEVENT
DTSTART;TZID=America/New_York:20190405T180000
DTEND;TZID=America/New_York:20190405T220000
DTSTAMP:20260422T065707
CREATED:20190102T234618Z
LAST-MODIFIED:20190102T234618Z
UID:2890-1554487200-1554501600@rickrockrice.com
SUMMARY:The Hut
DESCRIPTION:Come on out and join me at THE HUT where great food and drinks meet up with wonderful people and music and all in a park like setting.
URL:https://rickrockrice.com/upcoming-event/the-hut-2-2-2-2-2-2-2-2-2-2-2-2-2-2-2-2-2-2-2-2-2-2-2-2-2-2-2-2-2-2-2/
LOCATION:The Hut\, 5150 Buckingham Rd\, Fort Myers\, FL\, United States
CATEGORIES:Local Events
END:VEVENT
BEGIN:VEVENT
DTSTART;TZID=America/New_York:20190329T180000
DTEND;TZID=America/New_York:20190329T220000
DTSTAMP:20260422T065707
CREATED:20190102T234539Z
LAST-MODIFIED:20190102T234539Z
UID:2888-1553882400-1553896800@rickrockrice.com
SUMMARY:The Hut
DESCRIPTION:Come on out and join me at THE HUT where great food and drinks meet up with wonderful people and music and all in a park like setting.
URL:https://rickrockrice.com/upcoming-event/the-hut-2-2-2-2-2-2-2-2-2-2-2-2-2-2-2-2-2-2-2-2-2-2-2-2-2-2-2-2-2-2/
LOCATION:The Hut\, 5150 Buckingham Rd\, Fort Myers\, FL\, United States
CATEGORIES:Local Events
END:VEVENT
BEGIN:VEVENT
DTSTART;TZID=America/New_York:20190322T180000
DTEND;TZID=America/New_York:20190322T220000
DTSTAMP:20260422T065707
CREATED:20190102T234509Z
LAST-MODIFIED:20190102T234509Z
UID:2886-1553277600-1553292000@rickrockrice.com
SUMMARY:The Hut
DESCRIPTION:Come on out and join me at THE HUT where great food and drinks meet up with wonderful people and music and all in a park like setting.
URL:https://rickrockrice.com/upcoming-event/the-hut-2-2-2-2-2-2-2-2-2-2-2-2-2-2-2-2-2-2-2-2-2-2-2-2-2-2-2-2-2/
LOCATION:The Hut\, 5150 Buckingham Rd\, Fort Myers\, FL\, United States
CATEGORIES:Local Events
END:VEVENT
BEGIN:VEVENT
DTSTART;TZID=America/New_York:20190320T170000
DTEND;TZID=America/New_York:20190320T200000
DTSTAMP:20260422T065707
CREATED:20190317T224433Z
LAST-MODIFIED:20190317T224433Z
UID:2935-1553101200-1553112000@rickrockrice.com
SUMMARY:Jerry's Tiki Bar at Waterside Grill
DESCRIPTION:
URL:https://rickrockrice.com/upcoming-event/jerrys-tiki-bar-at-waterside-grill/
ATTACH;FMTTYPE=image/jpeg:https://rickrockrice.com/wp-content/uploads/2019/03/Jerrys-Waterside-Grill.jpg
END:VEVENT
END:VCALENDAR