BEGIN:VCALENDAR
VERSION:2.0
PRODID:-//Rick Rock Rice - ECPv6.15.20//NONSGML v1.0//EN
CALSCALE:GREGORIAN
METHOD:PUBLISH
X-ORIGINAL-URL:https://rickrockrice.com
X-WR-CALDESC:Events for Rick Rock Rice
REFRESH-INTERVAL;VALUE=DURATION:PT1H
X-Robots-Tag:noindex
X-PUBLISHED-TTL:PT1H
BEGIN:VTIMEZONE
TZID:America/New_York
BEGIN:DAYLIGHT
TZOFFSETFROM:-0500
TZOFFSETTO:-0400
TZNAME:EDT
DTSTART:20180311T070000
END:DAYLIGHT
BEGIN:STANDARD
TZOFFSETFROM:-0400
TZOFFSETTO:-0500
TZNAME:EST
DTSTART:20181104T060000
END:STANDARD
BEGIN:DAYLIGHT
TZOFFSETFROM:-0500
TZOFFSETTO:-0400
TZNAME:EDT
DTSTART:20190310T070000
END:DAYLIGHT
BEGIN:STANDARD
TZOFFSETFROM:-0400
TZOFFSETTO:-0500
TZNAME:EST
DTSTART:20191103T060000
END:STANDARD
BEGIN:DAYLIGHT
TZOFFSETFROM:-0500
TZOFFSETTO:-0400
TZNAME:EDT
DTSTART:20200308T070000
END:DAYLIGHT
BEGIN:STANDARD
TZOFFSETFROM:-0400
TZOFFSETTO:-0500
TZNAME:EST
DTSTART:20201101T060000
END:STANDARD
BEGIN:DAYLIGHT
TZOFFSETFROM:-0500
TZOFFSETTO:-0400
TZNAME:EDT
DTSTART:20210314T070000
END:DAYLIGHT
BEGIN:STANDARD
TZOFFSETFROM:-0400
TZOFFSETTO:-0500
TZNAME:EST
DTSTART:20211107T060000
END:STANDARD
END:VTIMEZONE
BEGIN:VEVENT
DTSTART;VALUE=DATE:20200116
DTEND;VALUE=DATE:20200120
DTSTAMP:20260422T033044
CREATED:20200108T134915Z
LAST-MODIFIED:20200108T134915Z
UID:3171-1579132800-1579478399@rickrockrice.com
SUMMARY:Private Event
DESCRIPTION:
URL:https://rickrockrice.com/upcoming-event/private-event/
LOCATION:Loews\, Hollywood\, CA\, 90028\, United States
END:VEVENT
BEGIN:VEVENT
DTSTART;TZID=America/New_York:20200114T060000
DTEND;TZID=America/New_York:20200114T210000
DTSTAMP:20260422T033044
CREATED:20191120T105007Z
LAST-MODIFIED:20191120T105007Z
UID:3121-1578981600-1579035600@rickrockrice.com
SUMMARY:All-Star Sports Grill
DESCRIPTION:
URL:https://rickrockrice.com/upcoming-event/all-star-sports-grill-16/
CATEGORIES:Local Events
ATTACH;FMTTYPE=image/jpeg:https://rickrockrice.com/wp-content/uploads/2019/09/All-Star-Sports-Grill.jpg
END:VEVENT
BEGIN:VEVENT
DTSTART;TZID=America/New_York:20200108T180000
DTEND;TZID=America/New_York:20200108T210000
DTSTAMP:20260422T033044
CREATED:20191120T172515Z
LAST-MODIFIED:20191120T172515Z
UID:3129-1578506400-1578517200@rickrockrice.com
SUMMARY:The American Legion
DESCRIPTION:
URL:https://rickrockrice.com/upcoming-event/the-american-legion-11/
CATEGORIES:Local Events
END:VEVENT
BEGIN:VEVENT
DTSTART;TZID=America/New_York:20200107T060000
DTEND;TZID=America/New_York:20200107T210000
DTSTAMP:20260422T033044
CREATED:20191120T104935Z
LAST-MODIFIED:20191120T104935Z
UID:3119-1578376800-1578430800@rickrockrice.com
SUMMARY:All-Star Sports Grill
DESCRIPTION:
URL:https://rickrockrice.com/upcoming-event/all-star-sports-grill-15/
CATEGORIES:Local Events
ATTACH;FMTTYPE=image/jpeg:https://rickrockrice.com/wp-content/uploads/2019/09/All-Star-Sports-Grill.jpg
END:VEVENT
BEGIN:VEVENT
DTSTART;TZID=America/New_York:20191231T060000
DTEND;TZID=America/New_York:20191231T210000
DTSTAMP:20260422T033044
CREATED:20191120T104836Z
LAST-MODIFIED:20191120T104836Z
UID:3117-1577772000-1577826000@rickrockrice.com
SUMMARY:All-Star Sports Grill
DESCRIPTION:
URL:https://rickrockrice.com/upcoming-event/all-star-sports-grill-14/
CATEGORIES:Local Events
ATTACH;FMTTYPE=image/jpeg:https://rickrockrice.com/wp-content/uploads/2019/09/All-Star-Sports-Grill.jpg
END:VEVENT
BEGIN:VEVENT
DTSTART;TZID=America/New_York:20191228T030000
DTEND;TZID=America/New_York:20191228T180000
DTSTAMP:20260422T033044
CREATED:20190926T204949Z
LAST-MODIFIED:20190926T204949Z
UID:3022-1577502000-1577556000@rickrockrice.com
SUMMARY:The American Legion
DESCRIPTION:
URL:https://rickrockrice.com/upcoming-event/the-american-legion-4/
CATEGORIES:Local Events
END:VEVENT
BEGIN:VEVENT
DTSTART;TZID=America/New_York:20191224T060000
DTEND;TZID=America/New_York:20191224T210000
DTSTAMP:20260422T033044
CREATED:20191120T104759Z
LAST-MODIFIED:20191120T104759Z
UID:3115-1577167200-1577221200@rickrockrice.com
SUMMARY:All-Star Sports Grill
DESCRIPTION:
URL:https://rickrockrice.com/upcoming-event/all-star-sports-grill-13/
CATEGORIES:Local Events
ATTACH;FMTTYPE=image/jpeg:https://rickrockrice.com/wp-content/uploads/2019/09/All-Star-Sports-Grill.jpg
END:VEVENT
BEGIN:VEVENT
DTSTART;TZID=America/New_York:20191220T040000
DTEND;TZID=America/New_York:20191220T190000
DTSTAMP:20260422T033044
CREATED:20191113T190650Z
LAST-MODIFIED:20191113T190650Z
UID:3111-1576814400-1576868400@rickrockrice.com
SUMMARY:The American Legion
DESCRIPTION:
URL:https://rickrockrice.com/upcoming-event/the-american-legion-9/
CATEGORIES:Local Events
END:VEVENT
BEGIN:VEVENT
DTSTART;TZID=America/New_York:20191217T060000
DTEND;TZID=America/New_York:20191217T210000
DTSTAMP:20260422T033044
CREATED:20191031T215831Z
LAST-MODIFIED:20191031T215831Z
UID:3069-1576562400-1576616400@rickrockrice.com
SUMMARY:All-Star Sports Grill
DESCRIPTION:
URL:https://rickrockrice.com/upcoming-event/all-star-sports-grill-12/
CATEGORIES:Local Events
ATTACH;FMTTYPE=image/jpeg:https://rickrockrice.com/wp-content/uploads/2019/09/All-Star-Sports-Grill.jpg
END:VEVENT
BEGIN:VEVENT
DTSTART;TZID=America/New_York:20191214T160000
DTEND;TZID=America/New_York:20191214T220000
DTSTAMP:20260422T033044
CREATED:20191031T220144Z
LAST-MODIFIED:20191031T220144Z
UID:3073-1576339200-1576360800@rickrockrice.com
SUMMARY:Christmas party
DESCRIPTION:
URL:https://rickrockrice.com/upcoming-event/christmas-party/
END:VEVENT
BEGIN:VEVENT
DTSTART;TZID=America/New_York:20191211T060000
DTEND;TZID=America/New_York:20191211T210000
DTSTAMP:20260422T033044
CREATED:20191120T172322Z
LAST-MODIFIED:20191120T172322Z
UID:3127-1576044000-1576098000@rickrockrice.com
SUMMARY:The American Legion
DESCRIPTION:
URL:https://rickrockrice.com/upcoming-event/the-american-legion-10/
CATEGORIES:Local Events
END:VEVENT
BEGIN:VEVENT
DTSTART;TZID=America/New_York:20191210T060000
DTEND;TZID=America/New_York:20191210T210000
DTSTAMP:20260422T033044
CREATED:20191031T215752Z
LAST-MODIFIED:20191031T215752Z
UID:3067-1575957600-1576011600@rickrockrice.com
SUMMARY:All-Star Sports Grill
DESCRIPTION:
URL:https://rickrockrice.com/upcoming-event/all-star-sports-grill-11/
CATEGORIES:Local Events
ATTACH;FMTTYPE=image/jpeg:https://rickrockrice.com/wp-content/uploads/2019/09/All-Star-Sports-Grill.jpg
END:VEVENT
BEGIN:VEVENT
DTSTART;TZID=America/New_York:20191203T060000
DTEND;TZID=America/New_York:20191203T210000
DTSTAMP:20260422T033044
CREATED:20191031T215717Z
LAST-MODIFIED:20191031T215717Z
UID:3065-1575352800-1575406800@rickrockrice.com
SUMMARY:All-Star Sports Grill
DESCRIPTION:
URL:https://rickrockrice.com/upcoming-event/all-star-sports-grill-10/
CATEGORIES:Local Events
ATTACH;FMTTYPE=image/jpeg:https://rickrockrice.com/wp-content/uploads/2019/09/All-Star-Sports-Grill.jpg
END:VEVENT
BEGIN:VEVENT
DTSTART;TZID=America/New_York:20191129T040000
DTEND;TZID=America/New_York:20191129T190000
DTSTAMP:20260422T033044
CREATED:20191109T033157Z
LAST-MODIFIED:20191109T033157Z
UID:3108-1575000000-1575054000@rickrockrice.com
SUMMARY:The American Legion
DESCRIPTION:
URL:https://rickrockrice.com/upcoming-event/the-american-legion-8/
CATEGORIES:Local Events
END:VEVENT
BEGIN:VEVENT
DTSTART;TZID=America/New_York:20191126T060000
DTEND;TZID=America/New_York:20191126T210000
DTSTAMP:20260422T033044
CREATED:20191031T215515Z
LAST-MODIFIED:20191031T215515Z
UID:3063-1574748000-1574802000@rickrockrice.com
SUMMARY:All-Star Sports Grill
DESCRIPTION:
URL:https://rickrockrice.com/upcoming-event/all-star-sports-grill-9/
CATEGORIES:Local Events
ATTACH;FMTTYPE=image/jpeg:https://rickrockrice.com/wp-content/uploads/2019/09/All-Star-Sports-Grill.jpg
END:VEVENT
BEGIN:VEVENT
DTSTART;TZID=America/New_York:20191123T030000
DTEND;TZID=America/New_York:20191123T180000
DTSTAMP:20260422T033044
CREATED:20190926T204852Z
LAST-MODIFIED:20190926T204852Z
UID:3020-1574478000-1574532000@rickrockrice.com
SUMMARY:The American Legion
DESCRIPTION:
URL:https://rickrockrice.com/upcoming-event/the-american-legion-3/
CATEGORIES:Local Events
END:VEVENT
BEGIN:VEVENT
DTSTART;TZID=America/New_York:20191119T060000
DTEND;TZID=America/New_York:20191119T210000
DTSTAMP:20260422T033044
CREATED:20191031T215427Z
LAST-MODIFIED:20191031T215427Z
UID:3061-1574143200-1574197200@rickrockrice.com
SUMMARY:All-Star Sports Grill
DESCRIPTION:
URL:https://rickrockrice.com/upcoming-event/all-star-sports-grill-8/
CATEGORIES:Local Events
ATTACH;FMTTYPE=image/jpeg:https://rickrockrice.com/wp-content/uploads/2019/09/All-Star-Sports-Grill.jpg
END:VEVENT
BEGIN:VEVENT
DTSTART;TZID=America/New_York:20191112T060000
DTEND;TZID=America/New_York:20191112T210000
DTSTAMP:20260422T033044
CREATED:20191031T215349Z
LAST-MODIFIED:20191031T215349Z
UID:3059-1573538400-1573592400@rickrockrice.com
SUMMARY:All-Star Sports Grill
DESCRIPTION:
URL:https://rickrockrice.com/upcoming-event/all-star-sports-grill-7/
CATEGORIES:Local Events
ATTACH;FMTTYPE=image/jpeg:https://rickrockrice.com/wp-content/uploads/2019/09/All-Star-Sports-Grill.jpg
END:VEVENT
BEGIN:VEVENT
DTSTART;TZID=America/New_York:20191108T040000
DTEND;TZID=America/New_York:20191108T190000
DTSTAMP:20260422T033044
CREATED:20191015T185536Z
LAST-MODIFIED:20191015T185536Z
UID:3052-1573185600-1573239600@rickrockrice.com
SUMMARY:The American Legion
DESCRIPTION:
URL:https://rickrockrice.com/upcoming-event/the-american-legion-7/
CATEGORIES:Local Events
END:VEVENT
BEGIN:VEVENT
DTSTART;TZID=America/New_York:20191105T060000
DTEND;TZID=America/New_York:20191105T210000
DTSTAMP:20260422T033044
CREATED:20191031T215310Z
LAST-MODIFIED:20191031T215310Z
UID:3057-1572933600-1572987600@rickrockrice.com
SUMMARY:All-Star Sports Grill
DESCRIPTION:
URL:https://rickrockrice.com/upcoming-event/all-star-sports-grill-6/
CATEGORIES:Local Events
ATTACH;FMTTYPE=image/jpeg:https://rickrockrice.com/wp-content/uploads/2019/09/All-Star-Sports-Grill.jpg
END:VEVENT
BEGIN:VEVENT
DTSTART;TZID=America/New_York:20191029T060000
DTEND;TZID=America/New_York:20191029T210000
DTSTAMP:20260422T033044
CREATED:20191002T102649Z
LAST-MODIFIED:20191002T102649Z
UID:3038-1572328800-1572382800@rickrockrice.com
SUMMARY:All-Star Sports Grill
DESCRIPTION:
URL:https://rickrockrice.com/upcoming-event/all-star-sports-grill-5/
CATEGORIES:Local Events
ATTACH;FMTTYPE=image/jpeg:https://rickrockrice.com/wp-content/uploads/2019/09/All-Star-Sports-Grill.jpg
END:VEVENT
BEGIN:VEVENT
DTSTART;TZID=America/New_York:20191022T060000
DTEND;TZID=America/New_York:20191022T210000
DTSTAMP:20260422T033044
CREATED:20191002T102611Z
LAST-MODIFIED:20191002T102611Z
UID:3036-1571724000-1571778000@rickrockrice.com
SUMMARY:All-Star Sports Grill
DESCRIPTION:
URL:https://rickrockrice.com/upcoming-event/all-star-sports-grill-4/
CATEGORIES:Local Events
ATTACH;FMTTYPE=image/jpeg:https://rickrockrice.com/wp-content/uploads/2019/09/All-Star-Sports-Grill.jpg
END:VEVENT
BEGIN:VEVENT
DTSTART;TZID=America/New_York:20191018T040000
DTEND;TZID=America/New_York:20191018T190000
DTSTAMP:20260422T033044
CREATED:20191015T185452Z
LAST-MODIFIED:20191015T185452Z
UID:3050-1571371200-1571425200@rickrockrice.com
SUMMARY:The American Legion
DESCRIPTION:
URL:https://rickrockrice.com/upcoming-event/the-american-legion-6/
CATEGORIES:Local Events
END:VEVENT
BEGIN:VEVENT
DTSTART;TZID=America/New_York:20191015T060000
DTEND;TZID=America/New_York:20191015T210000
DTSTAMP:20260422T033044
CREATED:20191002T102510Z
LAST-MODIFIED:20191002T102510Z
UID:3034-1571119200-1571173200@rickrockrice.com
SUMMARY:All-Star Sports Grill
DESCRIPTION:
URL:https://rickrockrice.com/upcoming-event/all-star-sports-grill-3/
CATEGORIES:Local Events
ATTACH;FMTTYPE=image/jpeg:https://rickrockrice.com/wp-content/uploads/2019/09/All-Star-Sports-Grill.jpg
END:VEVENT
BEGIN:VEVENT
DTSTART;TZID=America/New_York:20191008T060000
DTEND;TZID=America/New_York:20191008T210000
DTSTAMP:20260422T033044
CREATED:20191002T102439Z
LAST-MODIFIED:20191007T163656Z
UID:3032-1570514400-1570568400@rickrockrice.com
SUMMARY:All-Star Sports Grill
DESCRIPTION:
URL:https://rickrockrice.com/upcoming-event/all-star-sports-grill-2/
LOCATION:All-Star Bar And Grill\, 2360 Tamiami Trail\, Port Charlotte\, FL\, 33952\, United States
CATEGORIES:Local Events
ATTACH;FMTTYPE=image/jpeg:https://rickrockrice.com/wp-content/uploads/2019/09/All-Star-Sports-Grill.jpg
END:VEVENT
BEGIN:VEVENT
DTSTART;TZID=America/New_York:20191001T060000
DTEND;TZID=America/New_York:20191001T210000
DTSTAMP:20260422T033044
CREATED:20190928T114901Z
LAST-MODIFIED:20190928T114901Z
UID:3030-1569909600-1569963600@rickrockrice.com
SUMMARY:All-Star Sports Grill
DESCRIPTION:
URL:https://rickrockrice.com/upcoming-event/all-star-sports-grill/
CATEGORIES:Local Events
ATTACH;FMTTYPE=image/jpeg:https://rickrockrice.com/wp-content/uploads/2019/09/All-Star-Sports-Grill.jpg
END:VEVENT
BEGIN:VEVENT
DTSTART;TZID=America/New_York:20190925T060000
DTEND;TZID=America/New_York:20190925T210000
DTSTAMP:20260422T033044
CREATED:20190828T124727Z
LAST-MODIFIED:20190828T124727Z
UID:3007-1569391200-1569445200@rickrockrice.com
SUMMARY:The American Legion
DESCRIPTION:
URL:https://rickrockrice.com/upcoming-event/the-american-legion-2-2-2-2-3-2-2-2-2-2-2-2-2/
CATEGORIES:Local Events
END:VEVENT
BEGIN:VEVENT
DTSTART;TZID=America/New_York:20190918T053000
DTEND;TZID=America/New_York:20190918T203000
DTSTAMP:20260422T033045
CREATED:20190509T160731Z
LAST-MODIFIED:20190509T160731Z
UID:2958-1568784600-1568838600@rickrockrice.com
SUMMARY:Mission Valley
DESCRIPTION:
URL:https://rickrockrice.com/upcoming-event/mission-valley-2/
LOCATION:Mission Valley
CATEGORIES:Local Events
END:VEVENT
BEGIN:VEVENT
DTSTART;TZID=America/New_York:20190911T060000
DTEND;TZID=America/New_York:20190911T210000
DTSTAMP:20260422T033045
CREATED:20190211T202803Z
LAST-MODIFIED:20190828T124649Z
UID:2919-1568181600-1568235600@rickrockrice.com
SUMMARY:The American Legion
DESCRIPTION:
URL:https://rickrockrice.com/upcoming-event/the-american-legion-2-2-2-2-3-2-2-2-2-2-2-2/
CATEGORIES:Local Events
END:VEVENT
BEGIN:VEVENT
DTSTART;TZID=America/New_York:20190621T180000
DTEND;TZID=America/New_York:20190621T220000
DTSTAMP:20260422T033045
CREATED:20190523T131933Z
LAST-MODIFIED:20190523T131933Z
UID:2964-1561140000-1561154400@rickrockrice.com
SUMMARY:The Hut
DESCRIPTION:Come on out and join me at THE HUT where great food and drinks meet up with wonderful people and music and all in a park like setting.
URL:https://rickrockrice.com/upcoming-event/the-hut-2-2-2-2-2-2-2-2-2-2-2-2-2-2-2-2-2-2-2-2-2-2-2-2-2-2-2-2-2-2-2-3-2-2-2-2-2-2-2/
LOCATION:The Hut\, 5150 Buckingham Rd\, Fort Myers\, FL\, United States
CATEGORIES:Local Events
END:VEVENT
END:VCALENDAR