BEGIN:VCALENDAR
VERSION:2.0
PRODID:-//Rick Rock Rice - ECPv6.15.20//NONSGML v1.0//EN
CALSCALE:GREGORIAN
METHOD:PUBLISH
X-ORIGINAL-URL:https://rickrockrice.com
X-WR-CALDESC:Events for Rick Rock Rice
REFRESH-INTERVAL;VALUE=DURATION:PT1H
X-Robots-Tag:noindex
X-PUBLISHED-TTL:PT1H
BEGIN:VTIMEZONE
TZID:America/New_York
BEGIN:DAYLIGHT
TZOFFSETFROM:-0500
TZOFFSETTO:-0400
TZNAME:EDT
DTSTART:20190310T070000
END:DAYLIGHT
BEGIN:STANDARD
TZOFFSETFROM:-0400
TZOFFSETTO:-0500
TZNAME:EST
DTSTART:20191103T060000
END:STANDARD
BEGIN:DAYLIGHT
TZOFFSETFROM:-0500
TZOFFSETTO:-0400
TZNAME:EDT
DTSTART:20200308T070000
END:DAYLIGHT
BEGIN:STANDARD
TZOFFSETFROM:-0400
TZOFFSETTO:-0500
TZNAME:EST
DTSTART:20201101T060000
END:STANDARD
BEGIN:DAYLIGHT
TZOFFSETFROM:-0500
TZOFFSETTO:-0400
TZNAME:EDT
DTSTART:20210314T070000
END:DAYLIGHT
BEGIN:STANDARD
TZOFFSETFROM:-0400
TZOFFSETTO:-0500
TZNAME:EST
DTSTART:20211107T060000
END:STANDARD
END:VTIMEZONE
BEGIN:VEVENT
DTSTART;TZID=America/New_York:20200507T130000
DTEND;TZID=America/New_York:20200507T170000
DTSTAMP:20260421T195327
CREATED:20200224T232957Z
LAST-MODIFIED:20200502T180046Z
UID:3269-1588856400-1588870800@rickrockrice.com
SUMMARY:Sand Bar Cancelled
DESCRIPTION:Directly accross from Englewood Beach you can catch some of the beach vibe and enjoy some fantabulous friends\, fantastic food\, fabulous beverages and some marvelous music at the SandBar Tiki & Grille. Come out and enjoy an exceptional experience. Rick Rock Rice from 6:00-10:00pm.
URL:https://rickrockrice.com/upcoming-event/sand-bar-3/
LOCATION:SandBar Tiki & Grille\, 1975 Beach Rd\, Englewood\, FL\, 34223\, United States
ATTACH;FMTTYPE=image/jpeg:https://rickrockrice.com/wp-content/uploads/2019/11/SandBar-Tiki-Grille.jpg
END:VEVENT
BEGIN:VEVENT
DTSTART;TZID=America/New_York:20200430T180000
DTEND;TZID=America/New_York:20200430T210000
DTSTAMP:20260421T195327
CREATED:20191121T163329Z
LAST-MODIFIED:20200429T223943Z
UID:3135-1588269600-1588280400@rickrockrice.com
SUMMARY:Farlows Cancelled
DESCRIPTION:Come on out and experience the beautiful ambience and atmosphere at Farlows On The Water. Enjoy the excellent food and drinks\, wonderful people and great music in a most beautiful setting.
URL:https://rickrockrice.com/upcoming-event/farlows-2/
LOCATION:Farlows On The Water\, 2080 S McCall Rd\, Englewood\, FL\, 34224\, United States
ATTACH;FMTTYPE=image/jpeg:https://rickrockrice.com/wp-content/uploads/2019/11/Farlows.jpg
END:VEVENT
BEGIN:VEVENT
DTSTART;TZID=America/New_York:20200428T060000
DTEND;TZID=America/New_York:20200428T210000
DTSTAMP:20260421T195327
CREATED:20200218T154440Z
LAST-MODIFIED:20200429T223147Z
UID:3213-1588053600-1588107600@rickrockrice.com
SUMMARY:All-Star Sports Grill Cancelled
DESCRIPTION:Come on out for some great food and drinks\, wonderful people and excellent music.
URL:https://rickrockrice.com/upcoming-event/all-star-sports-grill-31/
CATEGORIES:Local Events
ATTACH;FMTTYPE=image/jpeg:https://rickrockrice.com/wp-content/uploads/2019/09/All-Star-Sports-Grill.jpg
END:VEVENT
BEGIN:VEVENT
DTSTART;TZID=America/New_York:20200425T140000
DTEND;TZID=America/New_York:20200425T170000
DTSTAMP:20260421T195327
CREATED:20200429T223857Z
LAST-MODIFIED:20200429T223857Z
UID:3328-1587823200-1587834000@rickrockrice.com
SUMMARY:The Waverly cancelled
DESCRIPTION:
URL:https://rickrockrice.com/upcoming-event/the-waverly-cancelled-4/
LOCATION:The Waverly\, 2095 N Beach Rd\, Englewood\, FL\, 34223\, United States
ATTACH;FMTTYPE=image/jpeg:https://rickrockrice.com/wp-content/uploads/2020/01/The-Waverly.jpg
END:VEVENT
BEGIN:VEVENT
DTSTART;TZID=America/New_York:20200424T040000
DTEND;TZID=America/New_York:20200424T190000
DTSTAMP:20260421T195327
CREATED:20200218T154819Z
LAST-MODIFIED:20200422T223555Z
UID:3219-1587700800-1587754800@rickrockrice.com
SUMMARY:The American Legion Cancelled
DESCRIPTION:
URL:https://rickrockrice.com/upcoming-event/the-american-legion-14/
CATEGORIES:Local Events
END:VEVENT
BEGIN:VEVENT
DTSTART;TZID=America/New_York:20200421T060000
DTEND;TZID=America/New_York:20200421T210000
DTSTAMP:20260421T195327
CREATED:20200218T154412Z
LAST-MODIFIED:20200422T223523Z
UID:3211-1587448800-1587502800@rickrockrice.com
SUMMARY:All-Star Sports Grill Cancelled
DESCRIPTION:Come on out for some great food and drinks\, wonderful people and excellent music.
URL:https://rickrockrice.com/upcoming-event/all-star-sports-grill-30/
CATEGORIES:Local Events
ATTACH;FMTTYPE=image/jpeg:https://rickrockrice.com/wp-content/uploads/2019/09/All-Star-Sports-Grill.jpg
END:VEVENT
BEGIN:VEVENT
DTSTART;TZID=America/New_York:20200419T110000
DTEND;TZID=America/New_York:20200419T170000
DTSTAMP:20260421T195327
CREATED:20200316T124249Z
LAST-MODIFIED:20200422T223449Z
UID:3280-1587294000-1587315600@rickrockrice.com
SUMMARY:Tokie Bobby's cancelled
DESCRIPTION:
URL:https://rickrockrice.com/upcoming-event/tokie-bobbys/
LOCATION:Tokie Bobby’s\, 14220 Seaboard Lane\, Port Charlotte\, FL\, 33981\, United States
ATTACH;FMTTYPE=image/jpeg:https://rickrockrice.com/wp-content/uploads/2020/03/Tokies-2.jpg
END:VEVENT
BEGIN:VEVENT
DTSTART;TZID=America/New_York:20200418T140000
DTEND;TZID=America/New_York:20200418T170000
DTSTAMP:20260421T195327
CREATED:20200429T223800Z
LAST-MODIFIED:20200429T223800Z
UID:3326-1587218400-1587229200@rickrockrice.com
SUMMARY:The Waverly cancelled
DESCRIPTION:
URL:https://rickrockrice.com/upcoming-event/the-waverly-cancelled-3/
LOCATION:The Waverly\, 2095 N Beach Rd\, Englewood\, FL\, 34223\, United States
ATTACH;FMTTYPE=image/jpeg:https://rickrockrice.com/wp-content/uploads/2020/01/The-Waverly.jpg
END:VEVENT
BEGIN:VEVENT
DTSTART;TZID=America/New_York:20200414T060000
DTEND;TZID=America/New_York:20200414T210000
DTSTAMP:20260421T195327
CREATED:20200218T154340Z
LAST-MODIFIED:20200402T144859Z
UID:3209-1586844000-1586898000@rickrockrice.com
SUMMARY:All-Star Sports Grill cancelled
DESCRIPTION:Come on out for some great food and drinks\, wonderful people and excellent music.
URL:https://rickrockrice.com/upcoming-event/all-star-sports-grill-29/
CATEGORIES:Local Events
ATTACH;FMTTYPE=image/jpeg:https://rickrockrice.com/wp-content/uploads/2019/09/All-Star-Sports-Grill.jpg
END:VEVENT
BEGIN:VEVENT
DTSTART;TZID=America/New_York:20200411T140000
DTEND;TZID=America/New_York:20200411T170000
DTSTAMP:20260421T195327
CREATED:20200429T223356Z
LAST-MODIFIED:20200429T223356Z
UID:3324-1586613600-1586624400@rickrockrice.com
SUMMARY:The Waverly cancelled
DESCRIPTION:
URL:https://rickrockrice.com/upcoming-event/the-waverly-cancelled-2/
LOCATION:The Waverly\, 2095 N Beach Rd\, Englewood\, FL\, 34223\, United States
ATTACH;FMTTYPE=image/jpeg:https://rickrockrice.com/wp-content/uploads/2020/01/The-Waverly.jpg
END:VEVENT
BEGIN:VEVENT
DTSTART;TZID=America/New_York:20200410T040000
DTEND;TZID=America/New_York:20200410T190000
DTSTAMP:20260421T195327
CREATED:20200218T154730Z
LAST-MODIFIED:20200402T144833Z
UID:3217-1586491200-1586545200@rickrockrice.com
SUMMARY:The American Legion cancelled
DESCRIPTION:
URL:https://rickrockrice.com/upcoming-event/the-american-legion-13/
CATEGORIES:Local Events
END:VEVENT
BEGIN:VEVENT
DTSTART;TZID=America/New_York:20200407T060000
DTEND;TZID=America/New_York:20200407T210000
DTSTAMP:20260421T195327
CREATED:20200218T154304Z
LAST-MODIFIED:20200402T144711Z
UID:3207-1586239200-1586293200@rickrockrice.com
SUMMARY:All-Star Sports Grill Cancelled
DESCRIPTION:Come on out for some great food and drinks\, wonderful people and excellent music.
URL:https://rickrockrice.com/upcoming-event/all-star-sports-grill-28/
CATEGORIES:Local Events
ATTACH;FMTTYPE=image/jpeg:https://rickrockrice.com/wp-content/uploads/2019/09/All-Star-Sports-Grill.jpg
END:VEVENT
BEGIN:VEVENT
DTSTART;TZID=America/New_York:20200404T140000
DTEND;TZID=America/New_York:20200404T170000
DTSTAMP:20260421T195327
CREATED:20200429T223259Z
LAST-MODIFIED:20200429T223259Z
UID:3322-1586008800-1586019600@rickrockrice.com
SUMMARY:The Waverly cancelled
DESCRIPTION:
URL:https://rickrockrice.com/upcoming-event/the-waverly-cancelled/
LOCATION:The Waverly\, 2095 N Beach Rd\, Englewood\, FL\, 34223\, United States
ATTACH;FMTTYPE=image/jpeg:https://rickrockrice.com/wp-content/uploads/2020/01/The-Waverly.jpg
END:VEVENT
BEGIN:VEVENT
DTSTART;TZID=America/New_York:20200331T060000
DTEND;TZID=America/New_York:20200331T210000
DTSTAMP:20260421T195327
CREATED:20200218T154233Z
LAST-MODIFIED:20200323T123158Z
UID:3205-1585634400-1585688400@rickrockrice.com
SUMMARY:All-Star Sports Grill cancelled
DESCRIPTION:Come on out for some great food and drinks\, wonderful people and excellent music.
URL:https://rickrockrice.com/upcoming-event/all-star-sports-grill-27/
CATEGORIES:Local Events
ATTACH;FMTTYPE=image/jpeg:https://rickrockrice.com/wp-content/uploads/2019/09/All-Star-Sports-Grill.jpg
END:VEVENT
BEGIN:VEVENT
DTSTART;TZID=America/New_York:20200328T140000
DTEND;TZID=America/New_York:20200328T170000
DTSTAMP:20260421T195327
CREATED:20200223T004544Z
LAST-MODIFIED:20200323T123044Z
UID:3265-1585404000-1585414800@rickrockrice.com
SUMMARY:The Waverly cancelled
DESCRIPTION:
URL:https://rickrockrice.com/upcoming-event/the-waverly-8/
LOCATION:The Waverly\, 2095 N Beach Rd\, Englewood\, FL\, 34223\, United States
ATTACH;FMTTYPE=image/jpeg:https://rickrockrice.com/wp-content/uploads/2020/01/The-Waverly.jpg
END:VEVENT
BEGIN:VEVENT
DTSTART;TZID=America/New_York:20200327T040000
DTEND;TZID=America/New_York:20200327T190000
DTSTAMP:20260421T195327
CREATED:20200218T154638Z
LAST-MODIFIED:20200323T123012Z
UID:3215-1585281600-1585335600@rickrockrice.com
SUMMARY:The American Legion cancelled
DESCRIPTION:
URL:https://rickrockrice.com/upcoming-event/the-american-legion-12/
CATEGORIES:Local Events
END:VEVENT
BEGIN:VEVENT
DTSTART;TZID=America/New_York:20200324T060000
DTEND;TZID=America/New_York:20200324T210000
DTSTAMP:20260421T195327
CREATED:20200218T154203Z
LAST-MODIFIED:20200323T122940Z
UID:3203-1585029600-1585083600@rickrockrice.com
SUMMARY:All-Star Sports Grill cancelled
DESCRIPTION:Come on out for some great food and drinks\, wonderful people and excellent music.
URL:https://rickrockrice.com/upcoming-event/all-star-sports-grill-26/
CATEGORIES:Local Events
ATTACH;FMTTYPE=image/jpeg:https://rickrockrice.com/wp-content/uploads/2019/09/All-Star-Sports-Grill.jpg
END:VEVENT
BEGIN:VEVENT
DTSTART;TZID=America/New_York:20200321T140000
DTEND;TZID=America/New_York:20200321T170000
DTSTAMP:20260421T195327
CREATED:20200223T004454Z
LAST-MODIFIED:20200323T122407Z
UID:3263-1584799200-1584810000@rickrockrice.com
SUMMARY:The Waverly cancelled
DESCRIPTION:
URL:https://rickrockrice.com/upcoming-event/the-waverly-7/
LOCATION:The Waverly\, 2095 N Beach Rd\, Englewood\, FL\, 34223\, United States
ATTACH;FMTTYPE=image/jpeg:https://rickrockrice.com/wp-content/uploads/2020/01/The-Waverly.jpg
END:VEVENT
BEGIN:VEVENT
DTSTART;TZID=America/New_York:20200317T060000
DTEND;TZID=America/New_York:20200317T210000
DTSTAMP:20260421T195327
CREATED:20200218T154132Z
LAST-MODIFIED:20200218T154132Z
UID:3201-1584424800-1584478800@rickrockrice.com
SUMMARY:All-Star Sports Grill
DESCRIPTION:Come on out for some great food and drinks\, wonderful people and excellent music.
URL:https://rickrockrice.com/upcoming-event/all-star-sports-grill-25/
CATEGORIES:Local Events
ATTACH;FMTTYPE=image/jpeg:https://rickrockrice.com/wp-content/uploads/2019/09/All-Star-Sports-Grill.jpg
END:VEVENT
BEGIN:VEVENT
DTSTART;TZID=America/New_York:20200314T140000
DTEND;TZID=America/New_York:20200314T170000
DTSTAMP:20260421T195327
CREATED:20200223T004358Z
LAST-MODIFIED:20200429T224239Z
UID:3261-1584194400-1584205200@rickrockrice.com
SUMMARY:The Waverly
DESCRIPTION:
URL:https://rickrockrice.com/upcoming-event/the-waverly-6/
LOCATION:The Waverly\, 2095 N Beach Rd\, Englewood\, FL\, 34223\, United States
ATTACH;FMTTYPE=image/jpeg:https://rickrockrice.com/wp-content/uploads/2020/01/The-Waverly.jpg
END:VEVENT
BEGIN:VEVENT
DTSTART;TZID=America/New_York:20200310T060000
DTEND;TZID=America/New_York:20200310T210000
DTSTAMP:20260421T195327
CREATED:20200218T154059Z
LAST-MODIFIED:20200218T154059Z
UID:3199-1583820000-1583874000@rickrockrice.com
SUMMARY:All-Star Sports Grill
DESCRIPTION:Come on out for some great food and drinks\, wonderful people and excellent music.
URL:https://rickrockrice.com/upcoming-event/all-star-sports-grill-24/
CATEGORIES:Local Events
ATTACH;FMTTYPE=image/jpeg:https://rickrockrice.com/wp-content/uploads/2019/09/All-Star-Sports-Grill.jpg
END:VEVENT
BEGIN:VEVENT
DTSTART;TZID=America/New_York:20200307T140000
DTEND;TZID=America/New_York:20200307T170000
DTSTAMP:20260421T195327
CREATED:20200223T004306Z
LAST-MODIFIED:20200323T122524Z
UID:3259-1583589600-1583600400@rickrockrice.com
SUMMARY:The Waverly cancelled
DESCRIPTION:
URL:https://rickrockrice.com/upcoming-event/the-waverly-5/
LOCATION:The Waverly\, 2095 N Beach Rd\, Englewood\, FL\, 34223\, United States
ATTACH;FMTTYPE=image/jpeg:https://rickrockrice.com/wp-content/uploads/2020/01/The-Waverly.jpg
END:VEVENT
BEGIN:VEVENT
DTSTART;TZID=America/New_York:20200303T060000
DTEND;TZID=America/New_York:20200303T210000
DTSTAMP:20260421T195327
CREATED:20191121T164235Z
LAST-MODIFIED:20191121T164235Z
UID:3153-1583215200-1583269200@rickrockrice.com
SUMMARY:All-Star Sports Grill
DESCRIPTION:Come on out for some great food and drinks\, wonderful people and excellent music.
URL:https://rickrockrice.com/upcoming-event/all-star-sports-grill-23/
CATEGORIES:Local Events
ATTACH;FMTTYPE=image/jpeg:https://rickrockrice.com/wp-content/uploads/2019/09/All-Star-Sports-Grill.jpg
END:VEVENT
BEGIN:VEVENT
DTSTART;TZID=America/New_York:20200229T140000
DTEND;TZID=America/New_York:20200229T170000
DTSTAMP:20260421T195327
CREATED:20200213T175315Z
LAST-MODIFIED:20200213T175315Z
UID:3196-1582984800-1582995600@rickrockrice.com
SUMMARY:The Waverly
DESCRIPTION:
URL:https://rickrockrice.com/upcoming-event/the-waverly-4/
LOCATION:The Waverly\, 2095 N Beach Rd\, Englewood\, FL\, 34223\, United States
ATTACH;FMTTYPE=image/jpeg:https://rickrockrice.com/wp-content/uploads/2020/01/The-Waverly.jpg
END:VEVENT
BEGIN:VEVENT
DTSTART;TZID=America/New_York:20200228T130000
DTEND;TZID=America/New_York:20200228T170000
DTSTAMP:20260421T195327
CREATED:20200224T232859Z
LAST-MODIFIED:20200224T232859Z
UID:3267-1582894800-1582909200@rickrockrice.com
SUMMARY:Sand Bar
DESCRIPTION:Directly accross from Englewood Beach you can catch some of the beach vibe and enjoy some fantabulous friends\, fantastic food\, fabulous beverages and some marvelous music at the SandBar Tiki & Grille. Come out and enjoy an exceptional experience. Rick Rock Rice from 1:00-5:00pm.
URL:https://rickrockrice.com/upcoming-event/sand-bar-2/
LOCATION:SandBar Tiki & Grille\, 1975 Beach Rd\, Englewood\, FL\, 34223\, United States
ATTACH;FMTTYPE=image/jpeg:https://rickrockrice.com/wp-content/uploads/2019/11/SandBar-Tiki-Grille.jpg
END:VEVENT
BEGIN:VEVENT
DTSTART;TZID=America/New_York:20200227T180000
DTEND;TZID=America/New_York:20200227T210000
DTSTAMP:20260421T195327
CREATED:20191121T163238Z
LAST-MODIFIED:20191121T163238Z
UID:3131-1582826400-1582837200@rickrockrice.com
SUMMARY:Farlows
DESCRIPTION:Come on out and experience the beautiful ambience and atmosphere at Farlows On The Water. Enjoy the excellent food and drinks\, wonderful people and great music in a most beautiful setting.
URL:https://rickrockrice.com/upcoming-event/farlows/
LOCATION:Farlows On The Water\, 2080 S McCall Rd\, Englewood\, FL\, 34224\, United States
ATTACH;FMTTYPE=image/jpeg:https://rickrockrice.com/wp-content/uploads/2019/11/Farlows.jpg
END:VEVENT
BEGIN:VEVENT
DTSTART;TZID=America/New_York:20200225T060000
DTEND;TZID=America/New_York:20200225T210000
DTSTAMP:20260421T195327
CREATED:20191121T164145Z
LAST-MODIFIED:20191121T164145Z
UID:3151-1582610400-1582664400@rickrockrice.com
SUMMARY:All-Star Sports Grill
DESCRIPTION:Come on out for some great food and drinks\, wonderful people and excellent music.
URL:https://rickrockrice.com/upcoming-event/all-star-sports-grill-22/
CATEGORIES:Local Events
ATTACH;FMTTYPE=image/jpeg:https://rickrockrice.com/wp-content/uploads/2019/09/All-Star-Sports-Grill.jpg
END:VEVENT
BEGIN:VEVENT
DTSTART;TZID=America/New_York:20200222T140000
DTEND;TZID=America/New_York:20200222T170000
DTSTAMP:20260421T195327
CREATED:20200213T175136Z
LAST-MODIFIED:20200213T175136Z
UID:3194-1582380000-1582390800@rickrockrice.com
SUMMARY:The Waverly
DESCRIPTION:
URL:https://rickrockrice.com/upcoming-event/the-waverly-3/
LOCATION:The Waverly\, 2095 N Beach Rd\, Englewood\, FL\, 34223\, United States
ATTACH;FMTTYPE=image/jpeg:https://rickrockrice.com/wp-content/uploads/2020/01/The-Waverly.jpg
END:VEVENT
BEGIN:VEVENT
DTSTART;TZID=America/New_York:20200218T060000
DTEND;TZID=America/New_York:20200218T210000
DTSTAMP:20260421T195327
CREATED:20191121T164103Z
LAST-MODIFIED:20191121T164103Z
UID:3149-1582005600-1582059600@rickrockrice.com
SUMMARY:All-Star Sports Grill
DESCRIPTION:Come on out for some great food and drinks\, wonderful people and excellent music.
URL:https://rickrockrice.com/upcoming-event/all-star-sports-grill-21/
CATEGORIES:Local Events
ATTACH;FMTTYPE=image/jpeg:https://rickrockrice.com/wp-content/uploads/2019/09/All-Star-Sports-Grill.jpg
END:VEVENT
BEGIN:VEVENT
DTSTART;TZID=America/New_York:20200215T200000
DTEND;TZID=America/New_York:20200215T223000
DTSTAMP:20260421T195327
CREATED:20200201T160421Z
LAST-MODIFIED:20200201T160421Z
UID:3190-1581796800-1581805800@rickrockrice.com
SUMMARY:Private Party
DESCRIPTION:
URL:https://rickrockrice.com/upcoming-event/private-party-3/
LOCATION:LeBarge Tropical Cruises\, 2 Marina Plaza\, Sarasota\, FL\, 34236
ATTACH;FMTTYPE=image/jpeg:https://rickrockrice.com/wp-content/uploads/2020/01/LeBarge.jpg
END:VEVENT
END:VCALENDAR