BEGIN:VCALENDAR
VERSION:2.0
PRODID:-//Rick Rock Rice - ECPv6.15.20//NONSGML v1.0//EN
CALSCALE:GREGORIAN
METHOD:PUBLISH
X-ORIGINAL-URL:https://rickrockrice.com
X-WR-CALDESC:Events for Rick Rock Rice
REFRESH-INTERVAL;VALUE=DURATION:PT1H
X-Robots-Tag:noindex
X-PUBLISHED-TTL:PT1H
BEGIN:VTIMEZONE
TZID:America/New_York
BEGIN:DAYLIGHT
TZOFFSETFROM:-0500
TZOFFSETTO:-0400
TZNAME:EDT
DTSTART:20190310T070000
END:DAYLIGHT
BEGIN:STANDARD
TZOFFSETFROM:-0400
TZOFFSETTO:-0500
TZNAME:EST
DTSTART:20191103T060000
END:STANDARD
BEGIN:DAYLIGHT
TZOFFSETFROM:-0500
TZOFFSETTO:-0400
TZNAME:EDT
DTSTART:20200308T070000
END:DAYLIGHT
BEGIN:STANDARD
TZOFFSETFROM:-0400
TZOFFSETTO:-0500
TZNAME:EST
DTSTART:20201101T060000
END:STANDARD
BEGIN:DAYLIGHT
TZOFFSETFROM:-0500
TZOFFSETTO:-0400
TZNAME:EDT
DTSTART:20210314T070000
END:DAYLIGHT
BEGIN:STANDARD
TZOFFSETFROM:-0400
TZOFFSETTO:-0500
TZNAME:EST
DTSTART:20211107T060000
END:STANDARD
END:VTIMEZONE
BEGIN:VEVENT
DTSTART;TZID=America/New_York:20200701T170000
DTEND;TZID=America/New_York:20200701T210000
DTSTAMP:20260421T160549
CREATED:20200619T024248Z
LAST-MODIFIED:20200619T024248Z
UID:3365-1593622800-1593637200@rickrockrice.com
SUMMARY:All-Star Sports Grill
DESCRIPTION:Come on out for some great food and drinks\, wonderful people and kick butt music.
URL:https://rickrockrice.com/upcoming-event/all-star-sports-grill-41/
LOCATION:FL
CATEGORIES:Local Events
ATTACH;FMTTYPE=image/jpeg:https://rickrockrice.com/wp-content/uploads/2020/05/New-AllStar.jpg
END:VEVENT
BEGIN:VEVENT
DTSTART;TZID=America/New_York:20200629T080000
DTEND;TZID=America/New_York:20200629T233000
DTSTAMP:20260421T160549
CREATED:20200218T160140Z
LAST-MODIFIED:20200218T160140Z
UID:3253-1593417600-1593473400@rickrockrice.com
SUMMARY:Vacation
DESCRIPTION:
URL:https://rickrockrice.com/upcoming-event/vacation-5/
LOCATION:FL
END:VEVENT
BEGIN:VEVENT
DTSTART;TZID=America/New_York:20200628T080000
DTEND;TZID=America/New_York:20200628T233000
DTSTAMP:20260421T160549
CREATED:20200218T160034Z
LAST-MODIFIED:20200218T160034Z
UID:3251-1593331200-1593387000@rickrockrice.com
SUMMARY:Vacation
DESCRIPTION:
URL:https://rickrockrice.com/upcoming-event/vacation-4/
LOCATION:FL
END:VEVENT
BEGIN:VEVENT
DTSTART;TZID=America/New_York:20200627T080000
DTEND;TZID=America/New_York:20200627T233000
DTSTAMP:20260421T160549
CREATED:20200218T160008Z
LAST-MODIFIED:20200218T160008Z
UID:3249-1593244800-1593300600@rickrockrice.com
SUMMARY:Vacation
DESCRIPTION:
URL:https://rickrockrice.com/upcoming-event/vacation-3/
LOCATION:FL
END:VEVENT
BEGIN:VEVENT
DTSTART;TZID=America/New_York:20200626T080000
DTEND;TZID=America/New_York:20200626T233000
DTSTAMP:20260421T160549
CREATED:20200218T155939Z
LAST-MODIFIED:20200218T155939Z
UID:3247-1593158400-1593214200@rickrockrice.com
SUMMARY:Vacation
DESCRIPTION:
URL:https://rickrockrice.com/upcoming-event/vacation-2/
LOCATION:FL
END:VEVENT
BEGIN:VEVENT
DTSTART;TZID=America/New_York:20200625T080000
DTEND;TZID=America/New_York:20200625T233000
DTSTAMP:20260421T160549
CREATED:20200218T155908Z
LAST-MODIFIED:20200218T155908Z
UID:3245-1593072000-1593127800@rickrockrice.com
SUMMARY:Vacation
DESCRIPTION:
URL:https://rickrockrice.com/upcoming-event/vacation/
LOCATION:FL
END:VEVENT
BEGIN:VEVENT
DTSTART;TZID=America/New_York:20200624T170000
DTEND;TZID=America/New_York:20200624T210000
DTSTAMP:20260421T160549
CREATED:20200522T104939Z
LAST-MODIFIED:20200522T104939Z
UID:3352-1593018000-1593032400@rickrockrice.com
SUMMARY:All-Star Sports Grill
DESCRIPTION:Come on out for some great food and drinks\, wonderful people and kick butt music.
URL:https://rickrockrice.com/upcoming-event/all-star-sports-grill-39/
LOCATION:FL
CATEGORIES:Local Events
ATTACH;FMTTYPE=image/jpeg:https://rickrockrice.com/wp-content/uploads/2020/05/New-AllStar.jpg
END:VEVENT
BEGIN:VEVENT
DTSTART;TZID=America/New_York:20200618T170000
DTEND;TZID=America/New_York:20200618T200000
DTSTAMP:20260421T160549
CREATED:20200616T193403Z
LAST-MODIFIED:20200616T193403Z
UID:3363-1592499600-1592510400@rickrockrice.com
SUMMARY:All-Star Sports Grill
DESCRIPTION:Come on out for some great food and drinks\, wonderful people and kick butt music.
URL:https://rickrockrice.com/upcoming-event/all-star-sports-grill-40/
LOCATION:FL
CATEGORIES:Local Events
ATTACH;FMTTYPE=image/jpeg:https://rickrockrice.com/wp-content/uploads/2020/05/New-AllStar.jpg
END:VEVENT
BEGIN:VEVENT
DTSTART;TZID=America/New_York:20200617T170000
DTEND;TZID=America/New_York:20200617T210000
DTSTAMP:20260421T160549
CREATED:20200522T104822Z
LAST-MODIFIED:20200522T104822Z
UID:3350-1592413200-1592427600@rickrockrice.com
SUMMARY:All-Star Sports Grill
DESCRIPTION:Come on out for some great food and drinks\, wonderful people and kick butt music.
URL:https://rickrockrice.com/upcoming-event/all-star-sports-grill-38/
LOCATION:FL
CATEGORIES:Local Events
ATTACH;FMTTYPE=image/jpeg:https://rickrockrice.com/wp-content/uploads/2020/05/New-AllStar.jpg
END:VEVENT
BEGIN:VEVENT
DTSTART;TZID=America/New_York:20200612T170000
DTEND;TZID=America/New_York:20200612T200000
DTSTAMP:20260421T160549
CREATED:20200608T154448Z
LAST-MODIFIED:20200608T154448Z
UID:3360-1591981200-1591992000@rickrockrice.com
SUMMARY:The American Legion
DESCRIPTION:
URL:https://rickrockrice.com/upcoming-event/the-american-legion-27/
LOCATION:FL
CATEGORIES:Local Events
END:VEVENT
BEGIN:VEVENT
DTSTART;TZID=America/New_York:20200610T060000
DTEND;TZID=America/New_York:20200610T210000
DTSTAMP:20260421T160549
CREATED:20200218T155009Z
LAST-MODIFIED:20200606T111800Z
UID:3223-1591768800-1591822800@rickrockrice.com
SUMMARY:The American Legion Cancelled
DESCRIPTION:
URL:https://rickrockrice.com/upcoming-event/the-american-legion-16/
LOCATION:FL
CATEGORIES:Local Events
END:VEVENT
BEGIN:VEVENT
DTSTART;TZID=America/New_York:20200604T130000
DTEND;TZID=America/New_York:20200604T170000
DTSTAMP:20260421T160549
CREATED:20200224T233053Z
LAST-MODIFIED:20200529T120037Z
UID:3271-1591275600-1591290000@rickrockrice.com
SUMMARY:Sand Bar Cancelled
DESCRIPTION:Directly accross from Englewood Beach you can catch some of the beach vibe and enjoy some fantabulous friends\, fantastic food\, fabulous beverages and some marvelous music at the SandBar Tiki & Grille. Come out and enjoy an exceptional experience. Rick Rock Rice from 1:00-5:00pm.
URL:https://rickrockrice.com/upcoming-event/sand-bar-4/
LOCATION:SandBar Tiki & Grille\, 1975 Beach Rd\, Englewood\, FL\, 34223\, United States
ATTACH;FMTTYPE=image/jpeg:https://rickrockrice.com/wp-content/uploads/2019/11/SandBar-Tiki-Grille.jpg
END:VEVENT
BEGIN:VEVENT
DTSTART;TZID=America/New_York:20200603T180000
DTEND;TZID=America/New_York:20200603T210000
DTSTAMP:20260421T160549
CREATED:20191121T163422Z
LAST-MODIFIED:20200606T111722Z
UID:3137-1591207200-1591218000@rickrockrice.com
SUMMARY:Farlows Cancelled
DESCRIPTION:Come on out and experience the beautiful ambience and atmosphere at Farlows On The Water. Enjoy the excellent food and drinks\, wonderful people and great music in a most beautiful setting.
URL:https://rickrockrice.com/upcoming-event/farlows-3/
LOCATION:Farlows On The Water\, 2080 S McCall Rd\, Englewood\, FL\, 34224\, United States
ATTACH;FMTTYPE=image/jpeg:https://rickrockrice.com/wp-content/uploads/2019/11/Farlows.jpg
END:VEVENT
BEGIN:VEVENT
DTSTART;TZID=America/New_York:20200530T030000
DTEND;TZID=America/New_York:20200530T180000
DTSTAMP:20260421T160549
CREATED:20200218T154922Z
LAST-MODIFIED:20200529T120150Z
UID:3221-1590807600-1590861600@rickrockrice.com
SUMMARY:The American Legion Cancelled
DESCRIPTION:
URL:https://rickrockrice.com/upcoming-event/the-american-legion-15/
LOCATION:FL
CATEGORIES:Local Events
END:VEVENT
BEGIN:VEVENT
DTSTART;TZID=America/New_York:20200527T170000
DTEND;TZID=America/New_York:20200527T210000
DTSTAMP:20260421T160549
CREATED:20200522T104717Z
LAST-MODIFIED:20200522T104717Z
UID:3348-1590598800-1590613200@rickrockrice.com
SUMMARY:All-Star Sports Grill
DESCRIPTION:Come on out for some great food and drinks\, wonderful people and kick butt music.
URL:https://rickrockrice.com/upcoming-event/all-star-sports-grill-37/
LOCATION:FL
CATEGORIES:Local Events
ATTACH;FMTTYPE=image/jpeg:https://rickrockrice.com/wp-content/uploads/2020/05/New-AllStar.jpg
END:VEVENT
BEGIN:VEVENT
DTSTART;TZID=America/New_York:20200520T170000
DTEND;TZID=America/New_York:20200520T210000
DTSTAMP:20260421T160549
CREATED:20200517T165645Z
LAST-MODIFIED:20200517T165645Z
UID:3345-1589994000-1590008400@rickrockrice.com
SUMMARY:All-Star Sports Grill
DESCRIPTION:Come on out for some great food and drinks\, wonderful people and kick butt music.
URL:https://rickrockrice.com/upcoming-event/all-star-sports-grill-36/
LOCATION:FL
CATEGORIES:Local Events
ATTACH;FMTTYPE=image/jpeg:https://rickrockrice.com/wp-content/uploads/2020/05/New-AllStar.jpg
END:VEVENT
BEGIN:VEVENT
DTSTART;TZID=America/New_York:20200516T060000
DTEND;TZID=America/New_York:20200516T220000
DTSTAMP:20260421T160549
CREATED:20200511T103029Z
LAST-MODIFIED:20200511T103029Z
UID:3342-1589608800-1589666400@rickrockrice.com
SUMMARY:All-Star Sports Grill
DESCRIPTION:Come on out for some great food and drinks\, wonderful people and kick butt music.
URL:https://rickrockrice.com/upcoming-event/all-star-sports-grill-35/
LOCATION:FL
CATEGORIES:Local Events
ATTACH;FMTTYPE=image/jpeg:https://rickrockrice.com/wp-content/uploads/2020/05/New-AllStar.jpg
END:VEVENT
BEGIN:VEVENT
DTSTART;TZID=America/New_York:20200513T060000
DTEND;TZID=America/New_York:20200513T210000
DTSTAMP:20260421T160549
CREATED:20200511T102941Z
LAST-MODIFIED:20200511T102941Z
UID:3340-1589349600-1589403600@rickrockrice.com
SUMMARY:All-Star Sports Grill
DESCRIPTION:Come on out for some great food and drinks\, wonderful people and kick butt music.
URL:https://rickrockrice.com/upcoming-event/all-star-sports-grill-34/
LOCATION:FL
CATEGORIES:Local Events
ATTACH;FMTTYPE=image/jpeg:https://rickrockrice.com/wp-content/uploads/2020/05/New-AllStar.jpg
END:VEVENT
BEGIN:VEVENT
DTSTART;TZID=America/New_York:20200509T060000
DTEND;TZID=America/New_York:20200509T220000
DTSTAMP:20260421T160549
CREATED:20200502T180138Z
LAST-MODIFIED:20200506T121119Z
UID:3336-1589004000-1589061600@rickrockrice.com
SUMMARY:All-Star Sports Grill
DESCRIPTION:Come on out for some great food and drinks\, wonderful people and kick butt music.
URL:https://rickrockrice.com/upcoming-event/all-star-sports-grill-33/
LOCATION:FL
CATEGORIES:Local Events
ATTACH;FMTTYPE=image/jpeg:https://rickrockrice.com/wp-content/uploads/2020/05/New-AllStar.jpg
END:VEVENT
BEGIN:VEVENT
DTSTART;TZID=America/New_York:20200508T060000
DTEND;TZID=America/New_York:20200508T220000
DTSTAMP:20260421T160549
CREATED:20200502T175943Z
LAST-MODIFIED:20200506T121037Z
UID:3333-1588917600-1588975200@rickrockrice.com
SUMMARY:All-Star Sports Grill
DESCRIPTION:Come on out for some great food and drinks\, wonderful people and kick butt music.
URL:https://rickrockrice.com/upcoming-event/all-star-sports-grill-32/
LOCATION:FL
CATEGORIES:Local Events
ATTACH;FMTTYPE=image/jpeg:https://rickrockrice.com/wp-content/uploads/2020/05/New-AllStar.jpg
END:VEVENT
BEGIN:VEVENT
DTSTART;TZID=America/New_York:20200507T130000
DTEND;TZID=America/New_York:20200507T170000
DTSTAMP:20260421T160549
CREATED:20200224T232957Z
LAST-MODIFIED:20200502T180046Z
UID:3269-1588856400-1588870800@rickrockrice.com
SUMMARY:Sand Bar Cancelled
DESCRIPTION:Directly accross from Englewood Beach you can catch some of the beach vibe and enjoy some fantabulous friends\, fantastic food\, fabulous beverages and some marvelous music at the SandBar Tiki & Grille. Come out and enjoy an exceptional experience. Rick Rock Rice from 6:00-10:00pm.
URL:https://rickrockrice.com/upcoming-event/sand-bar-3/
LOCATION:SandBar Tiki & Grille\, 1975 Beach Rd\, Englewood\, FL\, 34223\, United States
ATTACH;FMTTYPE=image/jpeg:https://rickrockrice.com/wp-content/uploads/2019/11/SandBar-Tiki-Grille.jpg
END:VEVENT
BEGIN:VEVENT
DTSTART;TZID=America/New_York:20200430T180000
DTEND;TZID=America/New_York:20200430T210000
DTSTAMP:20260421T160549
CREATED:20191121T163329Z
LAST-MODIFIED:20200429T223943Z
UID:3135-1588269600-1588280400@rickrockrice.com
SUMMARY:Farlows Cancelled
DESCRIPTION:Come on out and experience the beautiful ambience and atmosphere at Farlows On The Water. Enjoy the excellent food and drinks\, wonderful people and great music in a most beautiful setting.
URL:https://rickrockrice.com/upcoming-event/farlows-2/
LOCATION:Farlows On The Water\, 2080 S McCall Rd\, Englewood\, FL\, 34224\, United States
ATTACH;FMTTYPE=image/jpeg:https://rickrockrice.com/wp-content/uploads/2019/11/Farlows.jpg
END:VEVENT
BEGIN:VEVENT
DTSTART;TZID=America/New_York:20200428T060000
DTEND;TZID=America/New_York:20200428T210000
DTSTAMP:20260421T160549
CREATED:20200218T154440Z
LAST-MODIFIED:20200429T223147Z
UID:3213-1588053600-1588107600@rickrockrice.com
SUMMARY:All-Star Sports Grill Cancelled
DESCRIPTION:Come on out for some great food and drinks\, wonderful people and excellent music.
URL:https://rickrockrice.com/upcoming-event/all-star-sports-grill-31/
LOCATION:FL
CATEGORIES:Local Events
ATTACH;FMTTYPE=image/jpeg:https://rickrockrice.com/wp-content/uploads/2019/09/All-Star-Sports-Grill.jpg
END:VEVENT
BEGIN:VEVENT
DTSTART;TZID=America/New_York:20200425T140000
DTEND;TZID=America/New_York:20200425T170000
DTSTAMP:20260421T160549
CREATED:20200429T223857Z
LAST-MODIFIED:20200429T223857Z
UID:3328-1587823200-1587834000@rickrockrice.com
SUMMARY:The Waverly cancelled
DESCRIPTION:
URL:https://rickrockrice.com/upcoming-event/the-waverly-cancelled-4/
LOCATION:The Waverly\, 2095 N Beach Rd\, Englewood\, FL\, 34223\, United States
ATTACH;FMTTYPE=image/jpeg:https://rickrockrice.com/wp-content/uploads/2020/01/The-Waverly.jpg
END:VEVENT
BEGIN:VEVENT
DTSTART;TZID=America/New_York:20200424T040000
DTEND;TZID=America/New_York:20200424T190000
DTSTAMP:20260421T160549
CREATED:20200218T154819Z
LAST-MODIFIED:20200422T223555Z
UID:3219-1587700800-1587754800@rickrockrice.com
SUMMARY:The American Legion Cancelled
DESCRIPTION:
URL:https://rickrockrice.com/upcoming-event/the-american-legion-14/
LOCATION:FL
CATEGORIES:Local Events
END:VEVENT
BEGIN:VEVENT
DTSTART;TZID=America/New_York:20200421T060000
DTEND;TZID=America/New_York:20200421T210000
DTSTAMP:20260421T160549
CREATED:20200218T154412Z
LAST-MODIFIED:20200422T223523Z
UID:3211-1587448800-1587502800@rickrockrice.com
SUMMARY:All-Star Sports Grill Cancelled
DESCRIPTION:Come on out for some great food and drinks\, wonderful people and excellent music.
URL:https://rickrockrice.com/upcoming-event/all-star-sports-grill-30/
LOCATION:FL
CATEGORIES:Local Events
ATTACH;FMTTYPE=image/jpeg:https://rickrockrice.com/wp-content/uploads/2019/09/All-Star-Sports-Grill.jpg
END:VEVENT
BEGIN:VEVENT
DTSTART;TZID=America/New_York:20200419T110000
DTEND;TZID=America/New_York:20200419T170000
DTSTAMP:20260421T160549
CREATED:20200316T124249Z
LAST-MODIFIED:20200422T223449Z
UID:3280-1587294000-1587315600@rickrockrice.com
SUMMARY:Tokie Bobby's cancelled
DESCRIPTION:
URL:https://rickrockrice.com/upcoming-event/tokie-bobbys/
LOCATION:Tokie Bobby’s\, 14220 Seaboard Lane\, Port Charlotte\, FL\, 33981\, United States
ATTACH;FMTTYPE=image/jpeg:https://rickrockrice.com/wp-content/uploads/2020/03/Tokies-2.jpg
END:VEVENT
BEGIN:VEVENT
DTSTART;TZID=America/New_York:20200418T140000
DTEND;TZID=America/New_York:20200418T170000
DTSTAMP:20260421T160549
CREATED:20200429T223800Z
LAST-MODIFIED:20200429T223800Z
UID:3326-1587218400-1587229200@rickrockrice.com
SUMMARY:The Waverly cancelled
DESCRIPTION:
URL:https://rickrockrice.com/upcoming-event/the-waverly-cancelled-3/
LOCATION:The Waverly\, 2095 N Beach Rd\, Englewood\, FL\, 34223\, United States
ATTACH;FMTTYPE=image/jpeg:https://rickrockrice.com/wp-content/uploads/2020/01/The-Waverly.jpg
END:VEVENT
BEGIN:VEVENT
DTSTART;TZID=America/New_York:20200414T060000
DTEND;TZID=America/New_York:20200414T210000
DTSTAMP:20260421T160549
CREATED:20200218T154340Z
LAST-MODIFIED:20200402T144859Z
UID:3209-1586844000-1586898000@rickrockrice.com
SUMMARY:All-Star Sports Grill cancelled
DESCRIPTION:Come on out for some great food and drinks\, wonderful people and excellent music.
URL:https://rickrockrice.com/upcoming-event/all-star-sports-grill-29/
LOCATION:FL
CATEGORIES:Local Events
ATTACH;FMTTYPE=image/jpeg:https://rickrockrice.com/wp-content/uploads/2019/09/All-Star-Sports-Grill.jpg
END:VEVENT
BEGIN:VEVENT
DTSTART;TZID=America/New_York:20200411T140000
DTEND;TZID=America/New_York:20200411T170000
DTSTAMP:20260421T160549
CREATED:20200429T223356Z
LAST-MODIFIED:20200429T223356Z
UID:3324-1586613600-1586624400@rickrockrice.com
SUMMARY:The Waverly cancelled
DESCRIPTION:
URL:https://rickrockrice.com/upcoming-event/the-waverly-cancelled-2/
LOCATION:The Waverly\, 2095 N Beach Rd\, Englewood\, FL\, 34223\, United States
ATTACH;FMTTYPE=image/jpeg:https://rickrockrice.com/wp-content/uploads/2020/01/The-Waverly.jpg
END:VEVENT
END:VCALENDAR