BEGIN:VCALENDAR
VERSION:2.0
PRODID:-//Rick Rock Rice - ECPv6.15.20//NONSGML v1.0//EN
CALSCALE:GREGORIAN
METHOD:PUBLISH
X-ORIGINAL-URL:https://rickrockrice.com
X-WR-CALDESC:Events for Rick Rock Rice
REFRESH-INTERVAL;VALUE=DURATION:PT1H
X-Robots-Tag:noindex
X-PUBLISHED-TTL:PT1H
BEGIN:VTIMEZONE
TZID:America/New_York
BEGIN:DAYLIGHT
TZOFFSETFROM:-0500
TZOFFSETTO:-0400
TZNAME:EDT
DTSTART:20190310T070000
END:DAYLIGHT
BEGIN:STANDARD
TZOFFSETFROM:-0400
TZOFFSETTO:-0500
TZNAME:EST
DTSTART:20191103T060000
END:STANDARD
BEGIN:DAYLIGHT
TZOFFSETFROM:-0500
TZOFFSETTO:-0400
TZNAME:EDT
DTSTART:20200308T070000
END:DAYLIGHT
BEGIN:STANDARD
TZOFFSETFROM:-0400
TZOFFSETTO:-0500
TZNAME:EST
DTSTART:20201101T060000
END:STANDARD
BEGIN:DAYLIGHT
TZOFFSETFROM:-0500
TZOFFSETTO:-0400
TZNAME:EDT
DTSTART:20210314T070000
END:DAYLIGHT
BEGIN:STANDARD
TZOFFSETFROM:-0400
TZOFFSETTO:-0500
TZNAME:EST
DTSTART:20211107T060000
END:STANDARD
BEGIN:DAYLIGHT
TZOFFSETFROM:-0500
TZOFFSETTO:-0400
TZNAME:EDT
DTSTART:20220313T070000
END:DAYLIGHT
BEGIN:STANDARD
TZOFFSETFROM:-0400
TZOFFSETTO:-0500
TZNAME:EST
DTSTART:20221106T060000
END:STANDARD
END:VTIMEZONE
BEGIN:VEVENT
DTSTART;TZID=America/New_York:20210110T160000
DTEND;TZID=America/New_York:20210110T190000
DTSTAMP:20260421T072619
CREATED:20201125T120739Z
LAST-MODIFIED:20201125T120739Z
UID:3492-1610294400-1610305200@rickrockrice.com
SUMMARY:White Rabbit Saloon
DESCRIPTION:Great fun atmosphere with great drink prices and wonderful people.
URL:https://rickrockrice.com/upcoming-event/white-rabbit-saloon-5/
LOCATION:White Rabbit Saloon\, 8282 Wiltshire Dr\, Port Charlotte\, FL\, 33981\, United States
ATTACH;FMTTYPE=image/jpeg:https://rickrockrice.com/wp-content/uploads/2020/08/White-Rabbit-Saloon.jpg
END:VEVENT
BEGIN:VEVENT
DTSTART;TZID=America/New_York:20210106T170000
DTEND;TZID=America/New_York:20210106T210000
DTSTAMP:20260421T072619
CREATED:20201125T121048Z
LAST-MODIFIED:20201125T121048Z
UID:3496-1609952400-1609966800@rickrockrice.com
SUMMARY:All-Star Sports Grill
DESCRIPTION:Come on out for some great food and drinks\, wonderful people and kick butt music.
URL:https://rickrockrice.com/upcoming-event/all-star-sports-grill-56/
CATEGORIES:Local Events
ATTACH;FMTTYPE=image/png:https://rickrockrice.com/wp-content/uploads/2020/07/IMG_1191.png
END:VEVENT
BEGIN:VEVENT
DTSTART;TZID=America/New_York:20210102T160000
DTEND;TZID=America/New_York:20210102T190000
DTSTAMP:20260421T072619
CREATED:20201207T212914Z
LAST-MODIFIED:20201207T212914Z
UID:3508-1609603200-1609614000@rickrockrice.com
SUMMARY:Twisted Fork
DESCRIPTION:You gotta come out to see me play music at one of the hottest newer restaurants in southwest Florida. Beautiful restaurant with great food and drinks\, awesome people and a super cool outdoor/covered drinking\, dining and music area out back.
URL:https://rickrockrice.com/upcoming-event/twisted-fork/
LOCATION:Twisted Fork\, 2208 El Jobean Rd\, Port Charlotte\, FL\, 33948\, United States
ATTACH;FMTTYPE=image/jpeg:https://rickrockrice.com/wp-content/uploads/2020/12/Twisted-Fork.jpg
END:VEVENT
BEGIN:VEVENT
DTSTART;TZID=America/New_York:20201230T170000
DTEND;TZID=America/New_York:20201230T210000
DTSTAMP:20260421T072619
CREATED:20200723T205804Z
LAST-MODIFIED:20200723T205804Z
UID:3425-1609347600-1609362000@rickrockrice.com
SUMMARY:All-Star Sports Grill
DESCRIPTION:Come on out for some great food and drinks\, wonderful people and kick butt music.
URL:https://rickrockrice.com/upcoming-event/all-star-sports-grill-66/
CATEGORIES:Local Events
ATTACH;FMTTYPE=image/png:https://rickrockrice.com/wp-content/uploads/2020/07/IMG_1191.png
END:VEVENT
BEGIN:VEVENT
DTSTART;TZID=America/New_York:20201226T140000
DTEND;TZID=America/New_York:20201226T170000
DTSTAMP:20260421T072619
CREATED:20201125T120239Z
LAST-MODIFIED:20201125T120239Z
UID:3487-1608991200-1609002000@rickrockrice.com
SUMMARY:White Rabbit Saloon
DESCRIPTION:Great fun atmosphere with great drink prices and wonderful people.
URL:https://rickrockrice.com/upcoming-event/white-rabbit-saloon-4/
LOCATION:White Rabbit Saloon\, 8282 Wiltshire Dr\, Port Charlotte\, FL\, 33981\, United States
ATTACH;FMTTYPE=image/jpeg:https://rickrockrice.com/wp-content/uploads/2020/08/White-Rabbit-Saloon.jpg
END:VEVENT
BEGIN:VEVENT
DTSTART;TZID=America/New_York:20201223T170000
DTEND;TZID=America/New_York:20201223T210000
DTSTAMP:20260421T072619
CREATED:20200723T205638Z
LAST-MODIFIED:20200723T205638Z
UID:3423-1608742800-1608757200@rickrockrice.com
SUMMARY:All-Star Sports Grill
DESCRIPTION:Come on out for some great food and drinks\, wonderful people and kick butt music.
URL:https://rickrockrice.com/upcoming-event/all-star-sports-grill-65/
CATEGORIES:Local Events
ATTACH;FMTTYPE=image/png:https://rickrockrice.com/wp-content/uploads/2020/07/IMG_1191.png
END:VEVENT
BEGIN:VEVENT
DTSTART;TZID=America/New_York:20201216T170000
DTEND;TZID=America/New_York:20201216T210000
DTSTAMP:20260421T072619
CREATED:20200723T205609Z
LAST-MODIFIED:20200723T205609Z
UID:3421-1608138000-1608152400@rickrockrice.com
SUMMARY:All-Star Sports Grill
DESCRIPTION:Come on out for some great food and drinks\, wonderful people and kick butt music.
URL:https://rickrockrice.com/upcoming-event/all-star-sports-grill-64/
CATEGORIES:Local Events
ATTACH;FMTTYPE=image/png:https://rickrockrice.com/wp-content/uploads/2020/07/IMG_1191.png
END:VEVENT
BEGIN:VEVENT
DTSTART;TZID=America/New_York:20201212T150000
DTEND;TZID=America/New_York:20201212T180000
DTSTAMP:20260421T072619
CREATED:20200218T155739Z
LAST-MODIFIED:20200903T122112Z
UID:3243-1607785200-1607796000@rickrockrice.com
SUMMARY:The American Legion
DESCRIPTION:
URL:https://rickrockrice.com/upcoming-event/the-american-legion-26/
CATEGORIES:Local Events
END:VEVENT
BEGIN:VEVENT
DTSTART;TZID=America/New_York:20201209T170000
DTEND;TZID=America/New_York:20201209T210000
DTSTAMP:20260421T072619
CREATED:20200723T205536Z
LAST-MODIFIED:20200723T205536Z
UID:3419-1607533200-1607547600@rickrockrice.com
SUMMARY:All-Star Sports Grill
DESCRIPTION:Come on out for some great food and drinks\, wonderful people and kick butt music.
URL:https://rickrockrice.com/upcoming-event/all-star-sports-grill-63/
CATEGORIES:Local Events
ATTACH;FMTTYPE=image/png:https://rickrockrice.com/wp-content/uploads/2020/07/IMG_1191.png
END:VEVENT
BEGIN:VEVENT
DTSTART;TZID=America/New_York:20201206T140000
DTEND;TZID=America/New_York:20201206T170000
DTSTAMP:20260421T072619
CREATED:20201117T190250Z
LAST-MODIFIED:20201117T190250Z
UID:3484-1607263200-1607274000@rickrockrice.com
SUMMARY:Cypress Falls
DESCRIPTION:
URL:https://rickrockrice.com/upcoming-event/cypress-falls/
LOCATION:Cypress Falls at The Woodlands
END:VEVENT
BEGIN:VEVENT
DTSTART;TZID=America/New_York:20201203T180000
DTEND;TZID=America/New_York:20201203T210000
DTSTAMP:20260421T072619
CREATED:20191121T163602Z
LAST-MODIFIED:20191121T163602Z
UID:3142-1607018400-1607029200@rickrockrice.com
SUMMARY:Farlows
DESCRIPTION:Come on out and experience the beautiful ambience and atmosphere at Farlows On The Water. Enjoy the excellent food and drinks\, wonderful people and great music in a most beautiful setting.
URL:https://rickrockrice.com/upcoming-event/farlows-6/
LOCATION:Farlows On The Water\, 2080 S McCall Rd\, Englewood\, FL\, 34224\, United States
ATTACH;FMTTYPE=image/jpeg:https://rickrockrice.com/wp-content/uploads/2019/11/Farlows.jpg
END:VEVENT
BEGIN:VEVENT
DTSTART;TZID=America/New_York:20201202T170000
DTEND;TZID=America/New_York:20201202T210000
DTSTAMP:20260421T072619
CREATED:20200723T205500Z
LAST-MODIFIED:20200723T205500Z
UID:3417-1606928400-1606942800@rickrockrice.com
SUMMARY:All-Star Sports Grill
DESCRIPTION:Come on out for some great food and drinks\, wonderful people and kick butt music.
URL:https://rickrockrice.com/upcoming-event/all-star-sports-grill-62/
CATEGORIES:Local Events
ATTACH;FMTTYPE=image/png:https://rickrockrice.com/wp-content/uploads/2020/07/IMG_1191.png
END:VEVENT
BEGIN:VEVENT
DTSTART;TZID=America/New_York:20201128T030000
DTEND;TZID=America/New_York:20201128T180000
DTSTAMP:20260421T072619
CREATED:20200218T155656Z
LAST-MODIFIED:20200218T155656Z
UID:3241-1606532400-1606586400@rickrockrice.com
SUMMARY:The American Legion
DESCRIPTION:
URL:https://rickrockrice.com/upcoming-event/the-american-legion-25/
CATEGORIES:Local Events
END:VEVENT
BEGIN:VEVENT
DTSTART;TZID=America/New_York:20201127T190000
DTEND;TZID=America/New_York:20201127T220000
DTSTAMP:20260421T072619
CREATED:20201127T164407Z
LAST-MODIFIED:20201127T164407Z
UID:3505-1606503600-1606514400@rickrockrice.com
SUMMARY:The American Legion
DESCRIPTION:Playing iside
URL:https://rickrockrice.com/upcoming-event/the-american-legion-42/
CATEGORIES:Local Events
END:VEVENT
BEGIN:VEVENT
DTSTART;TZID=America/New_York:20201125T180000
DTEND;TZID=America/New_York:20201125T220000
DTSTAMP:20260421T072619
CREATED:20200723T205421Z
LAST-MODIFIED:20201125T120941Z
UID:3415-1606327200-1606341600@rickrockrice.com
SUMMARY:All-Star Sports Grill
DESCRIPTION:Come on out for some great food and drinks\, wonderful people and kick butt music.
URL:https://rickrockrice.com/upcoming-event/all-star-sports-grill-61/
CATEGORIES:Local Events
ATTACH;FMTTYPE=image/png:https://rickrockrice.com/wp-content/uploads/2020/07/IMG_1191.png
END:VEVENT
BEGIN:VEVENT
DTSTART;TZID=America/New_York:20201118T170000
DTEND;TZID=America/New_York:20201118T210000
DTSTAMP:20260421T072619
CREATED:20200723T205350Z
LAST-MODIFIED:20200723T205350Z
UID:3413-1605718800-1605733200@rickrockrice.com
SUMMARY:All-Star Sports Grill
DESCRIPTION:Come on out for some great food and drinks\, wonderful people and kick butt music.
URL:https://rickrockrice.com/upcoming-event/all-star-sports-grill-60/
CATEGORIES:Local Events
ATTACH;FMTTYPE=image/png:https://rickrockrice.com/wp-content/uploads/2020/07/IMG_1191.png
END:VEVENT
BEGIN:VEVENT
DTSTART;TZID=America/New_York:20201114T180000
DTEND;TZID=America/New_York:20201114T210000
DTSTAMP:20260421T072619
CREATED:20201105T183846Z
LAST-MODIFIED:20201125T120343Z
UID:3481-1605376800-1605387600@rickrockrice.com
SUMMARY:White Rabbit Saloon Cancelled for rain
DESCRIPTION:Great fun atmosphere with great drink prices and wonderful people.
URL:https://rickrockrice.com/upcoming-event/white-rabbit-saloon-3/
LOCATION:White Rabbit Saloon\, 8282 Wiltshire Dr\, Port Charlotte\, FL\, 33981\, United States
ATTACH;FMTTYPE=image/jpeg:https://rickrockrice.com/wp-content/uploads/2020/08/White-Rabbit-Saloon.jpg
END:VEVENT
BEGIN:VEVENT
DTSTART;TZID=America/New_York:20201111T170000
DTEND;TZID=America/New_York:20201111T210000
DTSTAMP:20260421T072619
CREATED:20200723T205257Z
LAST-MODIFIED:20201125T120619Z
UID:3411-1605114000-1605128400@rickrockrice.com
SUMMARY:All-Star Sports Grill Cancelled for hurricane
DESCRIPTION:Come on out for some great food and drinks\, wonderful people and kick butt music.
URL:https://rickrockrice.com/upcoming-event/all-star-sports-grill-59/
CATEGORIES:Local Events
ATTACH;FMTTYPE=image/png:https://rickrockrice.com/wp-content/uploads/2020/07/IMG_1191.png
END:VEVENT
BEGIN:VEVENT
DTSTART;TZID=America/New_York:20201105T180000
DTEND;TZID=America/New_York:20201105T210000
DTSTAMP:20260421T072619
CREATED:20191121T163539Z
LAST-MODIFIED:20191121T163539Z
UID:3141-1604599200-1604610000@rickrockrice.com
SUMMARY:Farlows
DESCRIPTION:Come on out and experience the beautiful ambience and atmosphere at Farlows On The Water. Enjoy the excellent food and drinks\, wonderful people and great music in a most beautiful setting.
URL:https://rickrockrice.com/upcoming-event/farlows-5/
LOCATION:Farlows On The Water\, 2080 S McCall Rd\, Englewood\, FL\, 34224\, United States
ATTACH;FMTTYPE=image/jpeg:https://rickrockrice.com/wp-content/uploads/2019/11/Farlows.jpg
END:VEVENT
BEGIN:VEVENT
DTSTART;TZID=America/New_York:20201104T170000
DTEND;TZID=America/New_York:20201104T210000
DTSTAMP:20260421T072619
CREATED:20200723T205225Z
LAST-MODIFIED:20200723T205225Z
UID:3409-1604509200-1604523600@rickrockrice.com
SUMMARY:All-Star Sports Grill
DESCRIPTION:Come on out for some great food and drinks\, wonderful people and kick butt music.
URL:https://rickrockrice.com/upcoming-event/all-star-sports-grill-58/
CATEGORIES:Local Events
ATTACH;FMTTYPE=image/png:https://rickrockrice.com/wp-content/uploads/2020/07/IMG_1191.png
END:VEVENT
BEGIN:VEVENT
DTSTART;TZID=America/New_York:20201031T030000
DTEND;TZID=America/New_York:20201031T180000
DTSTAMP:20260421T072619
CREATED:20200218T155533Z
LAST-MODIFIED:20200218T155533Z
UID:3237-1604113200-1604167200@rickrockrice.com
SUMMARY:The American Legion
DESCRIPTION:
URL:https://rickrockrice.com/upcoming-event/the-american-legion-23/
CATEGORIES:Local Events
END:VEVENT
BEGIN:VEVENT
DTSTART;TZID=America/New_York:20201028T170000
DTEND;TZID=America/New_York:20201028T210000
DTSTAMP:20260421T072619
CREATED:20200723T205143Z
LAST-MODIFIED:20200723T205143Z
UID:3407-1603904400-1603918800@rickrockrice.com
SUMMARY:All-Star Sports Grill
DESCRIPTION:Come on out for some great food and drinks\, wonderful people and kick butt music.
URL:https://rickrockrice.com/upcoming-event/all-star-sports-grill-57/
CATEGORIES:Local Events
ATTACH;FMTTYPE=image/png:https://rickrockrice.com/wp-content/uploads/2020/07/IMG_1191.png
END:VEVENT
BEGIN:VEVENT
DTSTART;VALUE=DATE:20201015
DTEND;VALUE=DATE:20201026
DTSTAMP:20260421T072619
CREATED:20200824T225240Z
LAST-MODIFIED:20200824T225240Z
UID:3434-1602720000-1603670399@rickrockrice.com
SUMMARY:Vacation
DESCRIPTION:
URL:https://rickrockrice.com/upcoming-event/vacation-6/
END:VEVENT
BEGIN:VEVENT
DTSTART;TZID=America/New_York:20201014T170000
DTEND;TZID=America/New_York:20201014T210000
DTSTAMP:20260421T072619
CREATED:20200723T205008Z
LAST-MODIFIED:20200723T205008Z
UID:3403-1602694800-1602709200@rickrockrice.com
SUMMARY:All-Star Sports Grill
DESCRIPTION:Come on out for some great food and drinks\, wonderful people and kick butt music.
URL:https://rickrockrice.com/upcoming-event/all-star-sports-grill-55/
CATEGORIES:Local Events
ATTACH;FMTTYPE=image/png:https://rickrockrice.com/wp-content/uploads/2020/07/IMG_1191.png
END:VEVENT
BEGIN:VEVENT
DTSTART;TZID=America/New_York:20201007T170000
DTEND;TZID=America/New_York:20201007T210000
DTSTAMP:20260421T072619
CREATED:20200723T204632Z
LAST-MODIFIED:20200723T204632Z
UID:3401-1602090000-1602104400@rickrockrice.com
SUMMARY:All-Star Sports Grill
DESCRIPTION:Come on out for some great food and drinks\, wonderful people and kick butt music.
URL:https://rickrockrice.com/upcoming-event/all-star-sports-grill-54/
CATEGORIES:Local Events
ATTACH;FMTTYPE=image/png:https://rickrockrice.com/wp-content/uploads/2020/07/IMG_1191.png
END:VEVENT
BEGIN:VEVENT
DTSTART;TZID=America/New_York:20201003T030000
DTEND;TZID=America/New_York:20201003T180000
DTSTAMP:20260421T072619
CREATED:20200708T172812Z
LAST-MODIFIED:20200708T172812Z
UID:3380-1601694000-1601748000@rickrockrice.com
SUMMARY:The American Legion
DESCRIPTION:
URL:https://rickrockrice.com/upcoming-event/the-american-legion-29/
CATEGORIES:Local Events
END:VEVENT
BEGIN:VEVENT
DTSTART;TZID=America/New_York:20201001T180000
DTEND;TZID=America/New_York:20201001T210000
DTSTAMP:20260421T072619
CREATED:20191121T163457Z
LAST-MODIFIED:20191121T163457Z
UID:3139-1601575200-1601586000@rickrockrice.com
SUMMARY:Farlows
DESCRIPTION:Come on out and experience the beautiful ambience and atmosphere at Farlows On The Water. Enjoy the excellent food and drinks\, wonderful people and great music in a most beautiful setting.
URL:https://rickrockrice.com/upcoming-event/farlows-4/
LOCATION:Farlows On The Water\, 2080 S McCall Rd\, Englewood\, FL\, 34224\, United States
ATTACH;FMTTYPE=image/jpeg:https://rickrockrice.com/wp-content/uploads/2019/11/Farlows.jpg
END:VEVENT
BEGIN:VEVENT
DTSTART;TZID=America/New_York:20200930T170000
DTEND;TZID=America/New_York:20200930T210000
DTSTAMP:20260421T072619
CREATED:20200723T204530Z
LAST-MODIFIED:20200723T204530Z
UID:3399-1601485200-1601499600@rickrockrice.com
SUMMARY:All-Star Sports Grill
DESCRIPTION:Come on out for some great food and drinks\, wonderful people and kick butt music.
URL:https://rickrockrice.com/upcoming-event/all-star-sports-grill-53/
CATEGORIES:Local Events
ATTACH;FMTTYPE=image/png:https://rickrockrice.com/wp-content/uploads/2020/07/IMG_1191.png
END:VEVENT
BEGIN:VEVENT
DTSTART;TZID=America/New_York:20200925T190000
DTEND;TZID=America/New_York:20200925T220000
DTSTAMP:20260421T072619
CREATED:20200820T202332Z
LAST-MODIFIED:20200820T202332Z
UID:3432-1601060400-1601071200@rickrockrice.com
SUMMARY:The American Legion
DESCRIPTION:
URL:https://rickrockrice.com/upcoming-event/the-american-legion-21/
CATEGORIES:Local Events
END:VEVENT
BEGIN:VEVENT
DTSTART;TZID=America/New_York:20200923T170000
DTEND;TZID=America/New_York:20200923T210000
DTSTAMP:20260421T072619
CREATED:20200723T204437Z
LAST-MODIFIED:20200723T204437Z
UID:3397-1600880400-1600894800@rickrockrice.com
SUMMARY:All-Star Sports Grill
DESCRIPTION:Come on out for some great food and drinks\, wonderful people and kick butt music.
URL:https://rickrockrice.com/upcoming-event/all-star-sports-grill-52/
CATEGORIES:Local Events
ATTACH;FMTTYPE=image/png:https://rickrockrice.com/wp-content/uploads/2020/07/IMG_1191.png
END:VEVENT
END:VCALENDAR