BEGIN:VCALENDAR
VERSION:2.0
PRODID:-//Rick Rock Rice - ECPv6.15.20//NONSGML v1.0//EN
CALSCALE:GREGORIAN
METHOD:PUBLISH
X-WR-CALNAME:Rick Rock Rice
X-ORIGINAL-URL:https://rickrockrice.com
X-WR-CALDESC:Events for Rick Rock Rice
REFRESH-INTERVAL;VALUE=DURATION:PT1H
X-Robots-Tag:noindex
X-PUBLISHED-TTL:PT1H
BEGIN:VTIMEZONE
TZID:America/New_York
BEGIN:DAYLIGHT
TZOFFSETFROM:-0500
TZOFFSETTO:-0400
TZNAME:EDT
DTSTART:20190310T070000
END:DAYLIGHT
BEGIN:STANDARD
TZOFFSETFROM:-0400
TZOFFSETTO:-0500
TZNAME:EST
DTSTART:20191103T060000
END:STANDARD
BEGIN:DAYLIGHT
TZOFFSETFROM:-0500
TZOFFSETTO:-0400
TZNAME:EDT
DTSTART:20200308T070000
END:DAYLIGHT
BEGIN:STANDARD
TZOFFSETFROM:-0400
TZOFFSETTO:-0500
TZNAME:EST
DTSTART:20201101T060000
END:STANDARD
BEGIN:DAYLIGHT
TZOFFSETFROM:-0500
TZOFFSETTO:-0400
TZNAME:EDT
DTSTART:20210314T070000
END:DAYLIGHT
BEGIN:STANDARD
TZOFFSETFROM:-0400
TZOFFSETTO:-0500
TZNAME:EST
DTSTART:20211107T060000
END:STANDARD
BEGIN:DAYLIGHT
TZOFFSETFROM:-0500
TZOFFSETTO:-0400
TZNAME:EDT
DTSTART:20220313T070000
END:DAYLIGHT
BEGIN:STANDARD
TZOFFSETFROM:-0400
TZOFFSETTO:-0500
TZNAME:EST
DTSTART:20221106T060000
END:STANDARD
END:VTIMEZONE
BEGIN:VEVENT
DTSTART;TZID=America/New_York:20210324T170000
DTEND;TZID=America/New_York:20210324T210000
DTSTAMP:20260421T035120
CREATED:20210226T114954Z
LAST-MODIFIED:20210226T114954Z
UID:3546-1616605200-1616619600@rickrockrice.com
SUMMARY:All-Star Sports Grill
DESCRIPTION:Come on out for some great food and drinks\, wonderful people and kick butt music.
URL:https://rickrockrice.com/upcoming-event/all-star-sports-grill-78/
LOCATION:FL
CATEGORIES:Local Events
ATTACH;FMTTYPE=image/png:https://rickrockrice.com/wp-content/uploads/2020/07/IMG_1191.png
END:VEVENT
BEGIN:VEVENT
DTSTART;TZID=America/New_York:20210320T160000
DTEND;TZID=America/New_York:20210320T190000
DTSTAMP:20260421T035120
CREATED:20201207T213156Z
LAST-MODIFIED:20210108T191205Z
UID:3514-1616256000-1616266800@rickrockrice.com
SUMMARY:Twisted Fork
DESCRIPTION:You gotta come out to see me play music at one of the hottest newer restaurants in southwest Florida. Beautiful restaurant with great food and drinks\, awesome people and a super cool outdoor/covered drinking\, dining and music area out back.
URL:https://rickrockrice.com/upcoming-event/twisted-fork-3/
LOCATION:Twisted Fork\, 2208 El Jobean Rd\, Port Charlotte\, FL\, 33948\, United States
ATTACH;FMTTYPE=image/jpeg:https://rickrockrice.com/wp-content/uploads/2020/12/Twisted-Fork.jpg
END:VEVENT
BEGIN:VEVENT
DTSTART;TZID=America/New_York:20210317T170000
DTEND;TZID=America/New_York:20210317T210000
DTSTAMP:20260421T035120
CREATED:20210226T114923Z
LAST-MODIFIED:20210226T114923Z
UID:3544-1616000400-1616014800@rickrockrice.com
SUMMARY:All-Star Sports Grill
DESCRIPTION:Come on out for some great food and drinks\, wonderful people and kick butt music.
URL:https://rickrockrice.com/upcoming-event/all-star-sports-grill-77/
LOCATION:FL
CATEGORIES:Local Events
ATTACH;FMTTYPE=image/png:https://rickrockrice.com/wp-content/uploads/2020/07/IMG_1191.png
END:VEVENT
BEGIN:VEVENT
DTSTART;TZID=America/New_York:20210314T150000
DTEND;TZID=America/New_York:20210314T180000
DTSTAMP:20260421T035120
CREATED:20200903T121800Z
LAST-MODIFIED:20200903T122238Z
UID:3449-1615734000-1615744800@rickrockrice.com
SUMMARY:The American Legion
DESCRIPTION:
URL:https://rickrockrice.com/upcoming-event/the-american-legion-30/
LOCATION:FL
CATEGORIES:Local Events
END:VEVENT
BEGIN:VEVENT
DTSTART;TZID=America/New_York:20210310T170000
DTEND;TZID=America/New_York:20210310T210000
DTSTAMP:20260421T035120
CREATED:20210226T114846Z
LAST-MODIFIED:20210226T114846Z
UID:3542-1615395600-1615410000@rickrockrice.com
SUMMARY:All-Star Sports Grill
DESCRIPTION:Come on out for some great food and drinks\, wonderful people and kick butt music.
URL:https://rickrockrice.com/upcoming-event/all-star-sports-grill-76/
LOCATION:FL
CATEGORIES:Local Events
ATTACH;FMTTYPE=image/png:https://rickrockrice.com/wp-content/uploads/2020/07/IMG_1191.png
END:VEVENT
BEGIN:VEVENT
DTSTART;TZID=America/New_York:20210303T170000
DTEND;TZID=America/New_York:20210303T210000
DTSTAMP:20260421T035120
CREATED:20210226T114808Z
LAST-MODIFIED:20210226T114808Z
UID:3540-1614790800-1614805200@rickrockrice.com
SUMMARY:All-Star Sports Grill
DESCRIPTION:Come on out for some great food and drinks\, wonderful people and kick butt music.
URL:https://rickrockrice.com/upcoming-event/all-star-sports-grill-75/
LOCATION:FL
CATEGORIES:Local Events
ATTACH;FMTTYPE=image/png:https://rickrockrice.com/wp-content/uploads/2020/07/IMG_1191.png
END:VEVENT
BEGIN:VEVENT
DTSTART;TZID=America/New_York:20210227T150000
DTEND;TZID=America/New_York:20210227T180000
DTSTAMP:20260421T035120
CREATED:20200903T121701Z
LAST-MODIFIED:20200903T122216Z
UID:3447-1614438000-1614448800@rickrockrice.com
SUMMARY:The American Legion
DESCRIPTION:
URL:https://rickrockrice.com/upcoming-event/the-american-legion-24/
LOCATION:FL
CATEGORIES:Local Events
END:VEVENT
BEGIN:VEVENT
DTSTART;TZID=America/New_York:20210224T170000
DTEND;TZID=America/New_York:20210224T210000
DTSTAMP:20260421T035120
CREATED:20201207T213646Z
LAST-MODIFIED:20201207T213646Z
UID:3522-1614186000-1614200400@rickrockrice.com
SUMMARY:All-Star Sports Grill
DESCRIPTION:Come on out for some great food and drinks\, wonderful people and kick butt music.
URL:https://rickrockrice.com/upcoming-event/all-star-sports-grill-74/
LOCATION:FL
CATEGORIES:Local Events
ATTACH;FMTTYPE=image/png:https://rickrockrice.com/wp-content/uploads/2020/07/IMG_1191.png
END:VEVENT
BEGIN:VEVENT
DTSTART;TZID=America/New_York:20210220T160000
DTEND;TZID=America/New_York:20210220T190000
DTSTAMP:20260421T035120
CREATED:20201207T213041Z
LAST-MODIFIED:20201207T213041Z
UID:3512-1613836800-1613847600@rickrockrice.com
SUMMARY:Twisted Fork
DESCRIPTION:You gotta come out to see me play music at one of the hottest newer restaurants in southwest Florida. Beautiful restaurant with great food and drinks\, awesome people and a super cool outdoor/covered drinking\, dining and music area out back.
URL:https://rickrockrice.com/upcoming-event/twisted-fork-2/
LOCATION:Twisted Fork\, 2208 El Jobean Rd\, Port Charlotte\, FL\, 33948\, United States
ATTACH;FMTTYPE=image/jpeg:https://rickrockrice.com/wp-content/uploads/2020/12/Twisted-Fork.jpg
END:VEVENT
BEGIN:VEVENT
DTSTART;TZID=America/New_York:20210217T170000
DTEND;TZID=America/New_York:20210217T210000
DTSTAMP:20260421T035120
CREATED:20201207T213602Z
LAST-MODIFIED:20201207T213602Z
UID:3520-1613581200-1613595600@rickrockrice.com
SUMMARY:All-Star Sports Grill
DESCRIPTION:Come on out for some great food and drinks\, wonderful people and kick butt music.
URL:https://rickrockrice.com/upcoming-event/all-star-sports-grill-73/
LOCATION:FL
CATEGORIES:Local Events
ATTACH;FMTTYPE=image/png:https://rickrockrice.com/wp-content/uploads/2020/07/IMG_1191.png
END:VEVENT
BEGIN:VEVENT
DTSTART;TZID=America/New_York:20210216T180000
DTEND;TZID=America/New_York:20210216T210000
DTSTAMP:20260421T035120
CREATED:20201125T120850Z
LAST-MODIFIED:20201125T120850Z
UID:3494-1613498400-1613509200@rickrockrice.com
SUMMARY:White Rabbit Saloon
DESCRIPTION:Great fun atmosphere with great drink prices and wonderful people.
URL:https://rickrockrice.com/upcoming-event/white-rabbit-saloon-6/
LOCATION:White Rabbit Saloon\, 8282 Wiltshire Dr\, Port Charlotte\, FL\, 33981\, United States
ATTACH;FMTTYPE=image/jpeg:https://rickrockrice.com/wp-content/uploads/2020/08/White-Rabbit-Saloon.jpg
END:VEVENT
BEGIN:VEVENT
DTSTART;TZID=America/New_York:20210213T150000
DTEND;TZID=America/New_York:20210213T180000
DTSTAMP:20260421T035120
CREATED:20210125T225133Z
LAST-MODIFIED:20210127T150813Z
UID:3528-1613228400-1613239200@rickrockrice.com
SUMMARY:VFW Port Charlotte
DESCRIPTION:
URL:https://rickrockrice.com/upcoming-event/vfw-port-charlotte/
LOCATION:FL
END:VEVENT
BEGIN:VEVENT
DTSTART;TZID=America/New_York:20210210T170000
DTEND;TZID=America/New_York:20210210T210000
DTSTAMP:20260421T035120
CREATED:20201207T213517Z
LAST-MODIFIED:20201207T213517Z
UID:3518-1612976400-1612990800@rickrockrice.com
SUMMARY:All-Star Sports Grill
DESCRIPTION:Come on out for some great food and drinks\, wonderful people and kick butt music.
URL:https://rickrockrice.com/upcoming-event/all-star-sports-grill-72/
LOCATION:FL
CATEGORIES:Local Events
ATTACH;FMTTYPE=image/png:https://rickrockrice.com/wp-content/uploads/2020/07/IMG_1191.png
END:VEVENT
BEGIN:VEVENT
DTSTART;TZID=America/New_York:20210206T183000
DTEND;TZID=America/New_York:20210206T213000
DTSTAMP:20260421T035120
CREATED:20210203T194714Z
LAST-MODIFIED:20210203T194714Z
UID:3534-1612636200-1612647000@rickrockrice.com
SUMMARY:American Legion Post 103
DESCRIPTION:
URL:https://rickrockrice.com/upcoming-event/american-legion-post-103/
LOCATION:FL
END:VEVENT
BEGIN:VEVENT
DTSTART;TZID=America/New_York:20210203T170000
DTEND;TZID=America/New_York:20210203T210000
DTSTAMP:20260421T035120
CREATED:20201207T213437Z
LAST-MODIFIED:20201207T213437Z
UID:3516-1612371600-1612386000@rickrockrice.com
SUMMARY:All-Star Sports Grill
DESCRIPTION:Come on out for some great food and drinks\, wonderful people and kick butt music.
URL:https://rickrockrice.com/upcoming-event/all-star-sports-grill-71/
LOCATION:FL
CATEGORIES:Local Events
ATTACH;FMTTYPE=image/png:https://rickrockrice.com/wp-content/uploads/2020/07/IMG_1191.png
END:VEVENT
BEGIN:VEVENT
DTSTART;TZID=America/New_York:20210131T150000
DTEND;TZID=America/New_York:20210131T180000
DTSTAMP:20260421T035120
CREATED:20210127T150652Z
LAST-MODIFIED:20210127T150652Z
UID:3530-1612105200-1612116000@rickrockrice.com
SUMMARY:The American Legion
DESCRIPTION:
URL:https://rickrockrice.com/upcoming-event/the-american-legion-43/
LOCATION:FL
CATEGORIES:Local Events
END:VEVENT
BEGIN:VEVENT
DTSTART;TZID=America/New_York:20210127T170000
DTEND;TZID=America/New_York:20210127T210000
DTSTAMP:20260421T035120
CREATED:20201125T121309Z
LAST-MODIFIED:20201125T121309Z
UID:3502-1611766800-1611781200@rickrockrice.com
SUMMARY:All-Star Sports Grill
DESCRIPTION:Come on out for some great food and drinks\, wonderful people and kick butt music.
URL:https://rickrockrice.com/upcoming-event/all-star-sports-grill-70/
LOCATION:FL
CATEGORIES:Local Events
ATTACH;FMTTYPE=image/png:https://rickrockrice.com/wp-content/uploads/2020/07/IMG_1191.png
END:VEVENT
BEGIN:VEVENT
DTSTART;TZID=America/New_York:20210123T150000
DTEND;TZID=America/New_York:20210123T180000
DTSTAMP:20260421T035120
CREATED:20200903T121619Z
LAST-MODIFIED:20200903T122044Z
UID:3445-1611414000-1611424800@rickrockrice.com
SUMMARY:The American Legion
DESCRIPTION:
URL:https://rickrockrice.com/upcoming-event/the-american-legion-22/
LOCATION:FL
CATEGORIES:Local Events
END:VEVENT
BEGIN:VEVENT
DTSTART;TZID=America/New_York:20210120T170000
DTEND;TZID=America/New_York:20210120T210000
DTSTAMP:20260421T035120
CREATED:20201125T121231Z
LAST-MODIFIED:20201125T121231Z
UID:3500-1611162000-1611176400@rickrockrice.com
SUMMARY:All-Star Sports Grill
DESCRIPTION:Come on out for some great food and drinks\, wonderful people and kick butt music.
URL:https://rickrockrice.com/upcoming-event/all-star-sports-grill-69/
LOCATION:FL
CATEGORIES:Local Events
ATTACH;FMTTYPE=image/png:https://rickrockrice.com/wp-content/uploads/2020/07/IMG_1191.png
END:VEVENT
BEGIN:VEVENT
DTSTART;TZID=America/New_York:20210113T170000
DTEND;TZID=America/New_York:20210113T210000
DTSTAMP:20260421T035120
CREATED:20201125T121126Z
LAST-MODIFIED:20201125T121126Z
UID:3498-1610557200-1610571600@rickrockrice.com
SUMMARY:All-Star Sports Grill
DESCRIPTION:Come on out for some great food and drinks\, wonderful people and kick butt music.
URL:https://rickrockrice.com/upcoming-event/all-star-sports-grill-68/
LOCATION:FL
CATEGORIES:Local Events
ATTACH;FMTTYPE=image/png:https://rickrockrice.com/wp-content/uploads/2020/07/IMG_1191.png
END:VEVENT
BEGIN:VEVENT
DTSTART;TZID=America/New_York:20210110T160000
DTEND;TZID=America/New_York:20210110T190000
DTSTAMP:20260421T035120
CREATED:20201125T120739Z
LAST-MODIFIED:20201125T120739Z
UID:3492-1610294400-1610305200@rickrockrice.com
SUMMARY:White Rabbit Saloon
DESCRIPTION:Great fun atmosphere with great drink prices and wonderful people.
URL:https://rickrockrice.com/upcoming-event/white-rabbit-saloon-5/
LOCATION:White Rabbit Saloon\, 8282 Wiltshire Dr\, Port Charlotte\, FL\, 33981\, United States
ATTACH;FMTTYPE=image/jpeg:https://rickrockrice.com/wp-content/uploads/2020/08/White-Rabbit-Saloon.jpg
END:VEVENT
BEGIN:VEVENT
DTSTART;TZID=America/New_York:20210106T170000
DTEND;TZID=America/New_York:20210106T210000
DTSTAMP:20260421T035120
CREATED:20201125T121048Z
LAST-MODIFIED:20201125T121048Z
UID:3496-1609952400-1609966800@rickrockrice.com
SUMMARY:All-Star Sports Grill
DESCRIPTION:Come on out for some great food and drinks\, wonderful people and kick butt music.
URL:https://rickrockrice.com/upcoming-event/all-star-sports-grill-56/
LOCATION:FL
CATEGORIES:Local Events
ATTACH;FMTTYPE=image/png:https://rickrockrice.com/wp-content/uploads/2020/07/IMG_1191.png
END:VEVENT
BEGIN:VEVENT
DTSTART;TZID=America/New_York:20210102T160000
DTEND;TZID=America/New_York:20210102T190000
DTSTAMP:20260421T035120
CREATED:20201207T212914Z
LAST-MODIFIED:20201207T212914Z
UID:3508-1609603200-1609614000@rickrockrice.com
SUMMARY:Twisted Fork
DESCRIPTION:You gotta come out to see me play music at one of the hottest newer restaurants in southwest Florida. Beautiful restaurant with great food and drinks\, awesome people and a super cool outdoor/covered drinking\, dining and music area out back.
URL:https://rickrockrice.com/upcoming-event/twisted-fork/
LOCATION:Twisted Fork\, 2208 El Jobean Rd\, Port Charlotte\, FL\, 33948\, United States
ATTACH;FMTTYPE=image/jpeg:https://rickrockrice.com/wp-content/uploads/2020/12/Twisted-Fork.jpg
END:VEVENT
BEGIN:VEVENT
DTSTART;TZID=America/New_York:20201230T170000
DTEND;TZID=America/New_York:20201230T210000
DTSTAMP:20260421T035120
CREATED:20200723T205804Z
LAST-MODIFIED:20200723T205804Z
UID:3425-1609347600-1609362000@rickrockrice.com
SUMMARY:All-Star Sports Grill
DESCRIPTION:Come on out for some great food and drinks\, wonderful people and kick butt music.
URL:https://rickrockrice.com/upcoming-event/all-star-sports-grill-66/
LOCATION:FL
CATEGORIES:Local Events
ATTACH;FMTTYPE=image/png:https://rickrockrice.com/wp-content/uploads/2020/07/IMG_1191.png
END:VEVENT
BEGIN:VEVENT
DTSTART;TZID=America/New_York:20201226T140000
DTEND;TZID=America/New_York:20201226T170000
DTSTAMP:20260421T035120
CREATED:20201125T120239Z
LAST-MODIFIED:20201125T120239Z
UID:3487-1608991200-1609002000@rickrockrice.com
SUMMARY:White Rabbit Saloon
DESCRIPTION:Great fun atmosphere with great drink prices and wonderful people.
URL:https://rickrockrice.com/upcoming-event/white-rabbit-saloon-4/
LOCATION:White Rabbit Saloon\, 8282 Wiltshire Dr\, Port Charlotte\, FL\, 33981\, United States
ATTACH;FMTTYPE=image/jpeg:https://rickrockrice.com/wp-content/uploads/2020/08/White-Rabbit-Saloon.jpg
END:VEVENT
BEGIN:VEVENT
DTSTART;TZID=America/New_York:20201223T170000
DTEND;TZID=America/New_York:20201223T210000
DTSTAMP:20260421T035120
CREATED:20200723T205638Z
LAST-MODIFIED:20200723T205638Z
UID:3423-1608742800-1608757200@rickrockrice.com
SUMMARY:All-Star Sports Grill
DESCRIPTION:Come on out for some great food and drinks\, wonderful people and kick butt music.
URL:https://rickrockrice.com/upcoming-event/all-star-sports-grill-65/
LOCATION:FL
CATEGORIES:Local Events
ATTACH;FMTTYPE=image/png:https://rickrockrice.com/wp-content/uploads/2020/07/IMG_1191.png
END:VEVENT
BEGIN:VEVENT
DTSTART;TZID=America/New_York:20201216T170000
DTEND;TZID=America/New_York:20201216T210000
DTSTAMP:20260421T035120
CREATED:20200723T205609Z
LAST-MODIFIED:20200723T205609Z
UID:3421-1608138000-1608152400@rickrockrice.com
SUMMARY:All-Star Sports Grill
DESCRIPTION:Come on out for some great food and drinks\, wonderful people and kick butt music.
URL:https://rickrockrice.com/upcoming-event/all-star-sports-grill-64/
LOCATION:FL
CATEGORIES:Local Events
ATTACH;FMTTYPE=image/png:https://rickrockrice.com/wp-content/uploads/2020/07/IMG_1191.png
END:VEVENT
BEGIN:VEVENT
DTSTART;TZID=America/New_York:20201212T150000
DTEND;TZID=America/New_York:20201212T180000
DTSTAMP:20260421T035120
CREATED:20200218T155739Z
LAST-MODIFIED:20200903T122112Z
UID:3243-1607785200-1607796000@rickrockrice.com
SUMMARY:The American Legion
DESCRIPTION:
URL:https://rickrockrice.com/upcoming-event/the-american-legion-26/
LOCATION:FL
CATEGORIES:Local Events
END:VEVENT
BEGIN:VEVENT
DTSTART;TZID=America/New_York:20201209T170000
DTEND;TZID=America/New_York:20201209T210000
DTSTAMP:20260421T035120
CREATED:20200723T205536Z
LAST-MODIFIED:20200723T205536Z
UID:3419-1607533200-1607547600@rickrockrice.com
SUMMARY:All-Star Sports Grill
DESCRIPTION:Come on out for some great food and drinks\, wonderful people and kick butt music.
URL:https://rickrockrice.com/upcoming-event/all-star-sports-grill-63/
LOCATION:FL
CATEGORIES:Local Events
ATTACH;FMTTYPE=image/png:https://rickrockrice.com/wp-content/uploads/2020/07/IMG_1191.png
END:VEVENT
BEGIN:VEVENT
DTSTART;TZID=America/New_York:20201206T140000
DTEND;TZID=America/New_York:20201206T170000
DTSTAMP:20260421T035120
CREATED:20201117T190250Z
LAST-MODIFIED:20201117T190250Z
UID:3484-1607263200-1607274000@rickrockrice.com
SUMMARY:Cypress Falls
DESCRIPTION:
URL:https://rickrockrice.com/upcoming-event/cypress-falls/
LOCATION:Cypress Falls at The Woodlands
END:VEVENT
END:VCALENDAR