BEGIN:VCALENDAR
VERSION:2.0
PRODID:-//Rick Rock Rice - ECPv6.15.20//NONSGML v1.0//EN
CALSCALE:GREGORIAN
METHOD:PUBLISH
X-WR-CALNAME:Rick Rock Rice
X-ORIGINAL-URL:https://rickrockrice.com
X-WR-CALDESC:Events for Rick Rock Rice
REFRESH-INTERVAL;VALUE=DURATION:PT1H
X-Robots-Tag:noindex
X-PUBLISHED-TTL:PT1H
BEGIN:VTIMEZONE
TZID:America/New_York
BEGIN:DAYLIGHT
TZOFFSETFROM:-0500
TZOFFSETTO:-0400
TZNAME:EDT
DTSTART:20210314T070000
END:DAYLIGHT
BEGIN:STANDARD
TZOFFSETFROM:-0400
TZOFFSETTO:-0500
TZNAME:EST
DTSTART:20211107T060000
END:STANDARD
BEGIN:DAYLIGHT
TZOFFSETFROM:-0500
TZOFFSETTO:-0400
TZNAME:EDT
DTSTART:20220313T070000
END:DAYLIGHT
BEGIN:STANDARD
TZOFFSETFROM:-0400
TZOFFSETTO:-0500
TZNAME:EST
DTSTART:20221106T060000
END:STANDARD
BEGIN:DAYLIGHT
TZOFFSETFROM:-0500
TZOFFSETTO:-0400
TZNAME:EDT
DTSTART:20230312T070000
END:DAYLIGHT
BEGIN:STANDARD
TZOFFSETFROM:-0400
TZOFFSETTO:-0500
TZNAME:EST
DTSTART:20231105T060000
END:STANDARD
END:VTIMEZONE
BEGIN:VEVENT
DTSTART;TZID=America/New_York:20220429T180000
DTEND;TZID=America/New_York:20220429T210000
DTSTAMP:20260420T031835
CREATED:20220128T180430Z
LAST-MODIFIED:20220210T113057Z
UID:3835-1651255200-1651266000@rickrockrice.com
SUMMARY:Cool Pickle In Paradise
DESCRIPTION:
URL:https://rickrockrice.com/upcoming-event/cool-pickle-in-paradise-5/
LOCATION:Cool Pickle In Paradise\, 8501 Placida Road\, Unit A4\, Placida\, FL\, 33946\, United States
ATTACH;FMTTYPE=image/jpeg:https://rickrockrice.com/wp-content/uploads/2022/01/Cool-Pickle.jpg
END:VEVENT
BEGIN:VEVENT
DTSTART;TZID=America/New_York:20220427T160000
DTEND;TZID=America/New_York:20220427T200000
DTSTAMP:20260420T031835
CREATED:20220127T155425Z
LAST-MODIFIED:20220127T155425Z
UID:3827-1651075200-1651089600@rickrockrice.com
SUMMARY:All-Star Sports Grill
DESCRIPTION:Come on out for some great food and drinks\, wonderful people and kick butt music.
URL:https://rickrockrice.com/upcoming-event/all-star-sports-grill-133/
CATEGORIES:Local Events
ATTACH;FMTTYPE=image/png:https://rickrockrice.com/wp-content/uploads/2020/07/IMG_1191.png
END:VEVENT
BEGIN:VEVENT
DTSTART;TZID=America/New_York:20220424T150000
DTEND;TZID=America/New_York:20220424T190000
DTSTAMP:20260420T031835
CREATED:20220420T024841Z
LAST-MODIFIED:20220420T024841Z
UID:3914-1650812400-1650826800@rickrockrice.com
SUMMARY:Pioneer Pizza
DESCRIPTION:
URL:https://rickrockrice.com/upcoming-event/pioneer-pizza/
LOCATION:Pioneer Pizza\, 4560 Tamiami Trail\, Port Charlotte\, FL\, 33980\, United States
ATTACH;FMTTYPE=image/jpeg:https://rickrockrice.com/wp-content/uploads/2022/04/Pioneer-Pizza.jpg
END:VEVENT
BEGIN:VEVENT
DTSTART;TZID=America/New_York:20220423T180000
DTEND;TZID=America/New_York:20220423T220000
DTSTAMP:20260420T031835
CREATED:20220324T213028Z
LAST-MODIFIED:20220324T213028Z
UID:3897-1650736800-1650751200@rickrockrice.com
SUMMARY:Private Party
DESCRIPTION:
URL:https://rickrockrice.com/upcoming-event/private-party-7/
END:VEVENT
BEGIN:VEVENT
DTSTART;TZID=America/New_York:20220420T160000
DTEND;TZID=America/New_York:20220420T200000
DTSTAMP:20260420T031835
CREATED:20220127T155350Z
LAST-MODIFIED:20220127T155350Z
UID:3825-1650470400-1650484800@rickrockrice.com
SUMMARY:All-Star Sports Grill
DESCRIPTION:Come on out for some great food and drinks\, wonderful people and kick butt music.
URL:https://rickrockrice.com/upcoming-event/all-star-sports-grill-132/
CATEGORIES:Local Events
ATTACH;FMTTYPE=image/png:https://rickrockrice.com/wp-content/uploads/2020/07/IMG_1191.png
END:VEVENT
BEGIN:VEVENT
DTSTART;TZID=America/New_York:20220418T160000
DTEND;TZID=America/New_York:20220418T180000
DTSTAMP:20260420T031835
CREATED:20220324T150043Z
LAST-MODIFIED:20220324T150043Z
UID:3881-1650297600-1650304800@rickrockrice.com
SUMMARY:Rotunda Elks Lodge
DESCRIPTION:
URL:https://rickrockrice.com/upcoming-event/rotunda-elks-lodge-5/
LOCATION:Rotunda Elks Lodge\, 303 Rotonda Blvd E\, Rotunda\, FL\, 33947\, United States
END:VEVENT
BEGIN:VEVENT
DTSTART;TZID=America/New_York:20220417T130000
DTEND;TZID=America/New_York:20220417T170000
DTSTAMP:20260420T031835
CREATED:20220127T155659Z
LAST-MODIFIED:20220310T160511Z
UID:3829-1650200400-1650214800@rickrockrice.com
SUMMARY:Deans South Of The Border
DESCRIPTION:Come out To Deans South Of The Border for some great food and drinks\, awesome atmosphere and wonderful people while you listen to my butt bumping music!!
URL:https://rickrockrice.com/upcoming-event/deans-south-of-the-border-3/
LOCATION:Deans South Of The Border\, 130 Tamiami Trail\, Punta Gorda\, FL\, 33950\, United States
ATTACH;FMTTYPE=image/png:https://rickrockrice.com/wp-content/uploads/2021/12/Deans.png
END:VEVENT
BEGIN:VEVENT
DTSTART;TZID=America/New_York:20220415T160000
DTEND;TZID=America/New_York:20220415T190000
DTSTAMP:20260420T031835
CREATED:20220127T034331Z
LAST-MODIFIED:20220127T034331Z
UID:3809-1650038400-1650049200@rickrockrice.com
SUMMARY:Twisted Fork
DESCRIPTION:You gotta come out to see me play music at one of the hottest newer restaurants in southwest Florida. Beautiful restaurant with great food and drinks\, awesome people and a super cool outdoor/covered drinking\, dining and music area out back.
URL:https://rickrockrice.com/upcoming-event/twisted-fork-6/
LOCATION:Twisted Fork\, 2208 El Jobean Rd\, Port Charlotte\, FL\, 33948\, United States
ATTACH;FMTTYPE=image/jpeg:https://rickrockrice.com/wp-content/uploads/2020/12/Twisted-Fork.jpg
END:VEVENT
BEGIN:VEVENT
DTSTART;TZID=America/New_York:20220413T160000
DTEND;TZID=America/New_York:20220413T200000
DTSTAMP:20260420T031835
CREATED:20220127T155314Z
LAST-MODIFIED:20220127T155314Z
UID:3823-1649865600-1649880000@rickrockrice.com
SUMMARY:All-Star Sports Grill
DESCRIPTION:Come on out for some great food and drinks\, wonderful people and kick butt music.
URL:https://rickrockrice.com/upcoming-event/all-star-sports-grill-131/
CATEGORIES:Local Events
ATTACH;FMTTYPE=image/png:https://rickrockrice.com/wp-content/uploads/2020/07/IMG_1191.png
END:VEVENT
BEGIN:VEVENT
DTSTART;TZID=America/New_York:20220412T180000
DTEND;TZID=America/New_York:20220412T220000
DTSTAMP:20260420T031835
CREATED:20220402T030633Z
LAST-MODIFIED:20220402T030633Z
UID:3904-1649786400-1649800800@rickrockrice.com
SUMMARY:Amvets 2000
DESCRIPTION:
URL:https://rickrockrice.com/upcoming-event/amvets-2000/
END:VEVENT
BEGIN:VEVENT
DTSTART;TZID=America/New_York:20220408T180000
DTEND;TZID=America/New_York:20220408T210000
DTSTAMP:20260420T031835
CREATED:20220408T190747Z
LAST-MODIFIED:20220408T190747Z
UID:3907-1649440800-1649451600@rickrockrice.com
SUMMARY:Cool Pickle In Paradise
DESCRIPTION:
URL:https://rickrockrice.com/upcoming-event/cool-pickle-in-paradise-7/
LOCATION:Cool Pickle In Paradise\, 8501 Placida Road\, Unit A4\, Placida\, FL\, 33946\, United States
ATTACH;FMTTYPE=image/jpeg:https://rickrockrice.com/wp-content/uploads/2022/01/Cool-Pickle.jpg
END:VEVENT
BEGIN:VEVENT
DTSTART;TZID=America/New_York:20220406T160000
DTEND;TZID=America/New_York:20220406T200000
DTSTAMP:20260420T031835
CREATED:20220127T155238Z
LAST-MODIFIED:20220127T155238Z
UID:3821-1649260800-1649275200@rickrockrice.com
SUMMARY:All-Star Sports Grill
DESCRIPTION:Come on out for some great food and drinks\, wonderful people and kick butt music.
URL:https://rickrockrice.com/upcoming-event/all-star-sports-grill-130/
CATEGORIES:Local Events
ATTACH;FMTTYPE=image/png:https://rickrockrice.com/wp-content/uploads/2020/07/IMG_1191.png
END:VEVENT
BEGIN:VEVENT
DTSTART;TZID=America/New_York:20220402T150000
DTEND;TZID=America/New_York:20220402T180000
DTSTAMP:20260420T031835
CREATED:20210829T144043Z
LAST-MODIFIED:20210829T144043Z
UID:3673-1648911600-1648922400@rickrockrice.com
SUMMARY:Am Legion Post 110
DESCRIPTION:
URL:https://rickrockrice.com/upcoming-event/am-legion-post-110/
CATEGORIES:Local Events
END:VEVENT
BEGIN:VEVENT
DTSTART;TZID=America/New_York:20220401T180000
DTEND;TZID=America/New_York:20220401T210000
DTSTAMP:20260420T031835
CREATED:20220214T123940Z
LAST-MODIFIED:20220214T123940Z
UID:3849-1648836000-1648846800@rickrockrice.com
SUMMARY:Am Legion Post 254
DESCRIPTION:Awesome people\, Great atmosphere\, Great Food\, Great live music
URL:https://rickrockrice.com/upcoming-event/am-legion-post-254-6/
LOCATION:American Legion Post 254\, 6648 Taneytown St\, North Port\, FL\, 34291\, United States
CATEGORIES:Local Events
ATTACH;FMTTYPE=image/jpeg:https://rickrockrice.com/wp-content/uploads/2021/08/Am-Legion-Post-254.jpg
END:VEVENT
BEGIN:VEVENT
DTSTART;TZID=America/New_York:20220330T160000
DTEND;TZID=America/New_York:20220330T200000
DTSTAMP:20260420T031835
CREATED:20220127T155158Z
LAST-MODIFIED:20220127T155158Z
UID:3819-1648656000-1648670400@rickrockrice.com
SUMMARY:All-Star Sports Grill
DESCRIPTION:Come on out for some great food and drinks\, wonderful people and kick butt music.
URL:https://rickrockrice.com/upcoming-event/all-star-sports-grill-129/
CATEGORIES:Local Events
ATTACH;FMTTYPE=image/png:https://rickrockrice.com/wp-content/uploads/2020/07/IMG_1191.png
END:VEVENT
BEGIN:VEVENT
DTSTART;TZID=America/New_York:20220325T173000
DTEND;TZID=America/New_York:20220325T203000
DTSTAMP:20260420T031835
CREATED:20220207T232713Z
LAST-MODIFIED:20220207T232713Z
UID:3842-1648229400-1648240200@rickrockrice.com
SUMMARY:Amvets Post 312
DESCRIPTION:
URL:https://rickrockrice.com/upcoming-event/amvets-post-312-7/
LOCATION:Amvets Post 312\, 7050 Chancellor Blvd\, North Port\, FL\, 34287\, United States
CATEGORIES:Local Events
ATTACH;FMTTYPE=image/jpeg:https://rickrockrice.com/wp-content/uploads/2021/08/Amvets-Post-312.jpg
END:VEVENT
BEGIN:VEVENT
DTSTART;TZID=America/New_York:20220323T160000
DTEND;TZID=America/New_York:20220323T200000
DTSTAMP:20260420T031835
CREATED:20220127T154739Z
LAST-MODIFIED:20220127T154739Z
UID:3817-1648051200-1648065600@rickrockrice.com
SUMMARY:All-Star Sports Grill
DESCRIPTION:Come on out for some great food and drinks\, wonderful people and kick butt music.
URL:https://rickrockrice.com/upcoming-event/all-star-sports-grill-128/
CATEGORIES:Local Events
ATTACH;FMTTYPE=image/png:https://rickrockrice.com/wp-content/uploads/2020/07/IMG_1191.png
END:VEVENT
BEGIN:VEVENT
DTSTART;TZID=America/New_York:20220320T120000
DTEND;TZID=America/New_York:20220320T170000
DTSTAMP:20260420T031835
CREATED:20220225T141509Z
LAST-MODIFIED:20220302T111129Z
UID:3869-1647777600-1647795600@rickrockrice.com
SUMMARY:Private Party
DESCRIPTION:
URL:https://rickrockrice.com/upcoming-event/private-party-6/
END:VEVENT
BEGIN:VEVENT
DTSTART;TZID=America/New_York:20220318T160000
DTEND;TZID=America/New_York:20220318T190000
DTSTAMP:20260420T031835
CREATED:20220127T034234Z
LAST-MODIFIED:20220127T034234Z
UID:3807-1647619200-1647630000@rickrockrice.com
SUMMARY:Twisted Fork
DESCRIPTION:You gotta come out to see me play music at one of the hottest newer restaurants in southwest Florida. Beautiful restaurant with great food and drinks\, awesome people and a super cool outdoor/covered drinking\, dining and music area out back.
URL:https://rickrockrice.com/upcoming-event/twisted-fork-5/
LOCATION:Twisted Fork\, 2208 El Jobean Rd\, Port Charlotte\, FL\, 33948\, United States
ATTACH;FMTTYPE=image/jpeg:https://rickrockrice.com/wp-content/uploads/2020/12/Twisted-Fork.jpg
END:VEVENT
BEGIN:VEVENT
DTSTART;TZID=America/New_York:20220317T160000
DTEND;TZID=America/New_York:20220317T190000
DTSTAMP:20260420T031835
CREATED:20220308T031751Z
LAST-MODIFIED:20220308T031751Z
UID:3876-1647532800-1647543600@rickrockrice.com
SUMMARY:Amvets Post 312
DESCRIPTION:
URL:https://rickrockrice.com/upcoming-event/amvets-post-312-8/
LOCATION:Amvets Post 312\, 7050 Chancellor Blvd\, North Port\, FL\, 34287\, United States
CATEGORIES:Local Events
ATTACH;FMTTYPE=image/jpeg:https://rickrockrice.com/wp-content/uploads/2021/08/Amvets-Post-312.jpg
END:VEVENT
BEGIN:VEVENT
DTSTART;TZID=America/New_York:20220316T160000
DTEND;TZID=America/New_York:20220316T200000
DTSTAMP:20260420T031835
CREATED:20220127T154654Z
LAST-MODIFIED:20220127T154654Z
UID:3815-1647446400-1647460800@rickrockrice.com
SUMMARY:All-Star Sports Grill
DESCRIPTION:Come on out for some great food and drinks\, wonderful people and kick butt music.
URL:https://rickrockrice.com/upcoming-event/all-star-sports-grill-127/
CATEGORIES:Local Events
ATTACH;FMTTYPE=image/png:https://rickrockrice.com/wp-content/uploads/2020/07/IMG_1191.png
END:VEVENT
BEGIN:VEVENT
DTSTART;TZID=America/New_York:20220311T180000
DTEND;TZID=America/New_York:20220311T210000
DTSTAMP:20260420T031835
CREATED:20220310T194929Z
LAST-MODIFIED:20220310T194929Z
UID:3878-1647021600-1647032400@rickrockrice.com
SUMMARY:White Rabbit Saloon
DESCRIPTION:Great fun atmosphere with great drink prices and wonderful people.
URL:https://rickrockrice.com/upcoming-event/white-rabbit-saloon-11/
LOCATION:White Rabbit Saloon\, 8282 Wiltshire Dr\, Port Charlotte\, FL\, 33981\, United States
ATTACH;FMTTYPE=image/jpeg:https://rickrockrice.com/wp-content/uploads/2021/12/White-Rabbit-Saloon-2.jpg
END:VEVENT
BEGIN:VEVENT
DTSTART;TZID=America/New_York:20220309T160000
DTEND;TZID=America/New_York:20220309T200000
DTSTAMP:20260420T031835
CREATED:20220127T154602Z
LAST-MODIFIED:20220127T154602Z
UID:3813-1646841600-1646856000@rickrockrice.com
SUMMARY:All-Star Sports Grill
DESCRIPTION:Come on out for some great food and drinks\, wonderful people and kick butt music.
URL:https://rickrockrice.com/upcoming-event/all-star-sports-grill-126/
CATEGORIES:Local Events
ATTACH;FMTTYPE=image/png:https://rickrockrice.com/wp-content/uploads/2020/07/IMG_1191.png
END:VEVENT
BEGIN:VEVENT
DTSTART;TZID=America/New_York:20220305T160000
DTEND;TZID=America/New_York:20220305T190000
DTSTAMP:20260420T031835
CREATED:20220303T170929Z
LAST-MODIFIED:20220303T170929Z
UID:3873-1646496000-1646506800@rickrockrice.com
SUMMARY:White Rabbit Saloon
DESCRIPTION:Great fun atmosphere with great drink prices and wonderful people.
URL:https://rickrockrice.com/upcoming-event/white-rabbit-saloon-10/
LOCATION:White Rabbit Saloon\, 8282 Wiltshire Dr\, Port Charlotte\, FL\, 33981\, United States
ATTACH;FMTTYPE=image/jpeg:https://rickrockrice.com/wp-content/uploads/2021/12/White-Rabbit-Saloon-2.jpg
END:VEVENT
BEGIN:VEVENT
DTSTART;TZID=America/New_York:20220304T180000
DTEND;TZID=America/New_York:20220304T210000
DTSTAMP:20260420T031835
CREATED:20220123T224539Z
LAST-MODIFIED:20220123T224539Z
UID:3805-1646416800-1646427600@rickrockrice.com
SUMMARY:Am Legion Post 254
DESCRIPTION:Awesome people\, Great atmosphere\, Great Food\, Great live music
URL:https://rickrockrice.com/upcoming-event/am-legion-post-254-5/
LOCATION:American Legion Post 254\, 6648 Taneytown St\, North Port\, FL\, 34291\, United States
CATEGORIES:Local Events
ATTACH;FMTTYPE=image/jpeg:https://rickrockrice.com/wp-content/uploads/2021/08/Am-Legion-Post-254.jpg
END:VEVENT
BEGIN:VEVENT
DTSTART;TZID=America/New_York:20220302T160000
DTEND;TZID=America/New_York:20220302T200000
DTSTAMP:20260420T031835
CREATED:20220127T154528Z
LAST-MODIFIED:20220127T154528Z
UID:3811-1646236800-1646251200@rickrockrice.com
SUMMARY:All-Star Sports Grill
DESCRIPTION:Come on out for some great food and drinks\, wonderful people and kick butt music.
URL:https://rickrockrice.com/upcoming-event/all-star-sports-grill-125/
CATEGORIES:Local Events
ATTACH;FMTTYPE=image/png:https://rickrockrice.com/wp-content/uploads/2020/07/IMG_1191.png
END:VEVENT
BEGIN:VEVENT
DTSTART;TZID=America/New_York:20220226T130000
DTEND;TZID=America/New_York:20220226T160000
DTSTAMP:20260420T031835
CREATED:20220217T181455Z
LAST-MODIFIED:20220217T181455Z
UID:3866-1645880400-1645891200@rickrockrice.com
SUMMARY:That BBQ Place
DESCRIPTION:
URL:https://rickrockrice.com/upcoming-event/that-bbq-place/
ATTACH;FMTTYPE=image/jpeg:https://rickrockrice.com/wp-content/uploads/2022/02/That-BBQ-Place.jpg
END:VEVENT
BEGIN:VEVENT
DTSTART;TZID=America/New_York:20220223T160000
DTEND;TZID=America/New_York:20220223T200000
DTSTAMP:20260420T031835
CREATED:20220113T160953Z
LAST-MODIFIED:20220113T160953Z
UID:3792-1645632000-1645646400@rickrockrice.com
SUMMARY:All-Star Sports Grill
DESCRIPTION:Come on out for some great food and drinks\, wonderful people and kick butt music.
URL:https://rickrockrice.com/upcoming-event/all-star-sports-grill-124/
CATEGORIES:Local Events
ATTACH;FMTTYPE=image/png:https://rickrockrice.com/wp-content/uploads/2020/07/IMG_1191.png
END:VEVENT
BEGIN:VEVENT
DTSTART;TZID=America/New_York:20220219T180000
DTEND;TZID=America/New_York:20220219T210000
DTSTAMP:20260420T031835
CREATED:20220128T180330Z
LAST-MODIFIED:20220128T180330Z
UID:3831-1645293600-1645304400@rickrockrice.com
SUMMARY:Cool Pickle In Paradise
DESCRIPTION:
URL:https://rickrockrice.com/upcoming-event/cool-pickle-in-paradise-4/
LOCATION:Cool Pickle In Paradise\, 8501 Placida Road\, Unit A4\, Placida\, FL\, 33946\, United States
ATTACH;FMTTYPE=image/jpeg:https://rickrockrice.com/wp-content/uploads/2022/01/Cool-Pickle.jpg
END:VEVENT
BEGIN:VEVENT
DTSTART;TZID=America/New_York:20220218T173000
DTEND;TZID=America/New_York:20220218T203000
DTSTAMP:20260420T031835
CREATED:20220113T160650Z
LAST-MODIFIED:20220113T160650Z
UID:3784-1645205400-1645216200@rickrockrice.com
SUMMARY:Amvets Post 312
DESCRIPTION:
URL:https://rickrockrice.com/upcoming-event/amvets-post-312-6/
LOCATION:Amvets Post 312\, 7050 Chancellor Blvd\, North Port\, FL\, 34287\, United States
CATEGORIES:Local Events
ATTACH;FMTTYPE=image/jpeg:https://rickrockrice.com/wp-content/uploads/2021/08/Amvets-Post-312.jpg
END:VEVENT
END:VCALENDAR