BEGIN:VCALENDAR
VERSION:2.0
PRODID:-//Rick Rock Rice - ECPv6.15.20//NONSGML v1.0//EN
CALSCALE:GREGORIAN
METHOD:PUBLISH
X-WR-CALNAME:Rick Rock Rice
X-ORIGINAL-URL:https://rickrockrice.com
X-WR-CALDESC:Events for Rick Rock Rice
REFRESH-INTERVAL;VALUE=DURATION:PT1H
X-Robots-Tag:noindex
X-PUBLISHED-TTL:PT1H
BEGIN:VTIMEZONE
TZID:America/New_York
BEGIN:DAYLIGHT
TZOFFSETFROM:-0500
TZOFFSETTO:-0400
TZNAME:EDT
DTSTART:20210314T070000
END:DAYLIGHT
BEGIN:STANDARD
TZOFFSETFROM:-0400
TZOFFSETTO:-0500
TZNAME:EST
DTSTART:20211107T060000
END:STANDARD
BEGIN:DAYLIGHT
TZOFFSETFROM:-0500
TZOFFSETTO:-0400
TZNAME:EDT
DTSTART:20220313T070000
END:DAYLIGHT
BEGIN:STANDARD
TZOFFSETFROM:-0400
TZOFFSETTO:-0500
TZNAME:EST
DTSTART:20221106T060000
END:STANDARD
BEGIN:DAYLIGHT
TZOFFSETFROM:-0500
TZOFFSETTO:-0400
TZNAME:EDT
DTSTART:20230312T070000
END:DAYLIGHT
BEGIN:STANDARD
TZOFFSETFROM:-0400
TZOFFSETTO:-0500
TZNAME:EST
DTSTART:20231105T060000
END:STANDARD
END:VTIMEZONE
BEGIN:VEVENT
DTSTART;TZID=America/New_York:20220810T170000
DTEND;TZID=America/New_York:20220810T210000
DTSTAMP:20260419T212804
CREATED:20220709T111712Z
LAST-MODIFIED:20220719T202848Z
UID:3952-1660150800-1660165200@rickrockrice.com
SUMMARY:All-Star Sports Grill
DESCRIPTION:Come on out for some great food and drinks\, wonderful people and kick butt music.
URL:https://rickrockrice.com/upcoming-event/all-star-sports-grill-145/
CATEGORIES:Local Events
ATTACH;FMTTYPE=image/png:https://rickrockrice.com/wp-content/uploads/2020/07/IMG_1191.png
END:VEVENT
BEGIN:VEVENT
DTSTART;TZID=America/New_York:20220805T170000
DTEND;TZID=America/New_York:20220805T200000
DTSTAMP:20260419T212804
CREATED:20220712T165121Z
LAST-MODIFIED:20220712T165121Z
UID:3978-1659718800-1659729600@rickrockrice.com
SUMMARY:Amvets Post 312
DESCRIPTION:
URL:https://rickrockrice.com/upcoming-event/amvets-post-312-11/
LOCATION:Amvets Post 312\, 7050 Chancellor Blvd\, North Port\, FL\, 34287\, United States
CATEGORIES:Local Events
ATTACH;FMTTYPE=image/jpeg:https://rickrockrice.com/wp-content/uploads/2021/08/Amvets-Post-312.jpg
END:VEVENT
BEGIN:VEVENT
DTSTART;TZID=America/New_York:20220803T170000
DTEND;TZID=America/New_York:20220803T210000
DTSTAMP:20260419T212804
CREATED:20220709T111623Z
LAST-MODIFIED:20220719T202820Z
UID:3950-1659546000-1659560400@rickrockrice.com
SUMMARY:All-Star Sports Grill
DESCRIPTION:Come on out for some great food and drinks\, wonderful people and kick butt music.
URL:https://rickrockrice.com/upcoming-event/all-star-sports-grill-144/
CATEGORIES:Local Events
ATTACH;FMTTYPE=image/png:https://rickrockrice.com/wp-content/uploads/2020/07/IMG_1191.png
END:VEVENT
BEGIN:VEVENT
DTSTART;TZID=America/New_York:20220731T130000
DTEND;TZID=America/New_York:20220731T170000
DTSTAMP:20260419T212804
CREATED:20220729T100231Z
LAST-MODIFIED:20220729T100231Z
UID:4005-1659272400-1659286800@rickrockrice.com
SUMMARY:NAV-A-GATOR
DESCRIPTION:
URL:https://rickrockrice.com/upcoming-event/nav-a-gator/
LOCATION:navagator\, 9700 SW Riverview Cir\, Arcadia\, FL\, 34269\, United States
ATTACH;FMTTYPE=image/jpeg:https://rickrockrice.com/wp-content/uploads/2022/07/nav-a-gator-bar-and-grill.jpg
END:VEVENT
BEGIN:VEVENT
DTSTART;TZID=America/New_York:20220729T180000
DTEND;TZID=America/New_York:20220729T210000
DTSTAMP:20260419T212804
CREATED:20220611T135253Z
LAST-MODIFIED:20220611T135253Z
UID:3931-1659117600-1659128400@rickrockrice.com
SUMMARY:Am Legion Post 254
DESCRIPTION:Awesome people\, Great atmosphere\, Great Food\, Great live music
URL:https://rickrockrice.com/upcoming-event/am-legion-post-254-9/
LOCATION:American Legion Post 254\, 6648 Taneytown St\, North Port\, FL\, 34291\, United States
CATEGORIES:Local Events
ATTACH;FMTTYPE=image/jpeg:https://rickrockrice.com/wp-content/uploads/2021/08/Am-Legion-Post-254.jpg
END:VEVENT
BEGIN:VEVENT
DTSTART;TZID=America/New_York:20220727T170000
DTEND;TZID=America/New_York:20220727T210000
DTSTAMP:20260419T212804
CREATED:20220611T140013Z
LAST-MODIFIED:20220719T202728Z
UID:3941-1658941200-1658955600@rickrockrice.com
SUMMARY:All-Star Sports Grill
DESCRIPTION:Come on out for some great food and drinks\, wonderful people and kick butt music.
URL:https://rickrockrice.com/upcoming-event/all-star-sports-grill-143/
CATEGORIES:Local Events
ATTACH;FMTTYPE=image/png:https://rickrockrice.com/wp-content/uploads/2020/07/IMG_1191.png
END:VEVENT
BEGIN:VEVENT
DTSTART;TZID=America/New_York:20220720T170000
DTEND;TZID=America/New_York:20220720T210000
DTSTAMP:20260419T212804
CREATED:20220611T135611Z
LAST-MODIFIED:20220719T202651Z
UID:3937-1658336400-1658350800@rickrockrice.com
SUMMARY:All-Star Sports Grill
DESCRIPTION:Come on out for some great food and drinks\, wonderful people and kick butt music.
URL:https://rickrockrice.com/upcoming-event/all-star-sports-grill-142/
CATEGORIES:Local Events
ATTACH;FMTTYPE=image/png:https://rickrockrice.com/wp-content/uploads/2020/07/IMG_1191.png
END:VEVENT
BEGIN:VEVENT
DTSTART;TZID=America/New_York:20220716T180000
DTEND;TZID=America/New_York:20220716T210000
DTSTAMP:20260419T212804
CREATED:20220708T183927Z
LAST-MODIFIED:20220708T183927Z
UID:3948-1657994400-1658005200@rickrockrice.com
SUMMARY:White Rabbit Saloon
DESCRIPTION:Great fun atmosphere with great drink prices and wonderful people.
URL:https://rickrockrice.com/upcoming-event/white-rabbit-saloon-12/
LOCATION:White Rabbit Saloon\, 8282 Wiltshire Dr\, Port Charlotte\, FL\, 33981\, United States
ATTACH;FMTTYPE=image/jpeg:https://rickrockrice.com/wp-content/uploads/2021/12/White-Rabbit-Saloon-2.jpg
END:VEVENT
BEGIN:VEVENT
DTSTART;TZID=America/New_York:20220713T160000
DTEND;TZID=America/New_York:20220713T200000
DTSTAMP:20260419T212804
CREATED:20220611T135530Z
LAST-MODIFIED:20220611T135530Z
UID:3935-1657728000-1657742400@rickrockrice.com
SUMMARY:All-Star Sports Grill
DESCRIPTION:Come on out for some great food and drinks\, wonderful people and kick butt music.
URL:https://rickrockrice.com/upcoming-event/all-star-sports-grill-141/
CATEGORIES:Local Events
ATTACH;FMTTYPE=image/png:https://rickrockrice.com/wp-content/uploads/2020/07/IMG_1191.png
END:VEVENT
BEGIN:VEVENT
DTSTART;TZID=America/New_York:20220709T150000
DTEND;TZID=America/New_York:20220709T180000
DTSTAMP:20260419T212804
CREATED:20220214T155631Z
LAST-MODIFIED:20220214T155631Z
UID:3853-1657378800-1657389600@rickrockrice.com
SUMMARY:Am Legion Post 110
DESCRIPTION:
URL:https://rickrockrice.com/upcoming-event/am-legion-post-110-5/
CATEGORIES:Local Events
END:VEVENT
BEGIN:VEVENT
DTSTART;TZID=America/New_York:20220706T160000
DTEND;TZID=America/New_York:20220706T200000
DTSTAMP:20260419T212804
CREATED:20220611T135447Z
LAST-MODIFIED:20220611T135447Z
UID:3933-1657123200-1657137600@rickrockrice.com
SUMMARY:All-Star Sports Grill
DESCRIPTION:Come on out for some great food and drinks\, wonderful people and kick butt music.
URL:https://rickrockrice.com/upcoming-event/all-star-sports-grill-140/
CATEGORIES:Local Events
ATTACH;FMTTYPE=image/png:https://rickrockrice.com/wp-content/uploads/2020/07/IMG_1191.png
END:VEVENT
BEGIN:VEVENT
DTSTART;TZID=America/New_York:20220704T170000
DTEND;TZID=America/New_York:20220704T200000
DTSTAMP:20260419T212804
CREATED:20220611T135927Z
LAST-MODIFIED:20220611T135927Z
UID:3939-1656954000-1656964800@rickrockrice.com
SUMMARY:Amvets Post 312
DESCRIPTION:
URL:https://rickrockrice.com/upcoming-event/amvets-post-312-9/
LOCATION:Amvets Post 312\, 7050 Chancellor Blvd\, North Port\, FL\, 34287\, United States
CATEGORIES:Local Events
ATTACH;FMTTYPE=image/jpeg:https://rickrockrice.com/wp-content/uploads/2021/08/Amvets-Post-312.jpg
END:VEVENT
BEGIN:VEVENT
DTSTART;TZID=America/New_York:20220702T190000
DTEND;TZID=America/New_York:20220702T220000
DTSTAMP:20260419T212804
CREATED:20220521T132331Z
LAST-MODIFIED:20220521T132331Z
UID:3925-1656788400-1656799200@rickrockrice.com
SUMMARY:Amvets 2000
DESCRIPTION:
URL:https://rickrockrice.com/upcoming-event/amvets-2000-3/
END:VEVENT
BEGIN:VEVENT
DTSTART;TZID=America/New_York:20220701T180000
DTEND;TZID=America/New_York:20220701T210000
DTSTAMP:20260419T212804
CREATED:20220611T135027Z
LAST-MODIFIED:20220611T135027Z
UID:3928-1656698400-1656709200@rickrockrice.com
SUMMARY:Am Legion Post 254
DESCRIPTION:Awesome people\, Great atmosphere\, Great Food\, Great live music
URL:https://rickrockrice.com/upcoming-event/am-legion-post-254-8/
LOCATION:American Legion Post 254\, 6648 Taneytown St\, North Port\, FL\, 34291\, United States
CATEGORIES:Local Events
ATTACH;FMTTYPE=image/jpeg:https://rickrockrice.com/wp-content/uploads/2021/08/Am-Legion-Post-254.jpg
END:VEVENT
BEGIN:VEVENT
DTSTART;VALUE=DATE:20220623
DTEND;VALUE=DATE:20220701
DTSTAMP:20260419T212804
CREATED:20220324T150804Z
LAST-MODIFIED:20220324T150804Z
UID:3895-1655942400-1656633599@rickrockrice.com
SUMMARY:Family Visit
DESCRIPTION:
URL:https://rickrockrice.com/upcoming-event/family-visit/
END:VEVENT
BEGIN:VEVENT
DTSTART;TZID=America/New_York:20220622T160000
DTEND;TZID=America/New_York:20220622T200000
DTSTAMP:20260419T212804
CREATED:20220324T150711Z
LAST-MODIFIED:20220324T150711Z
UID:3893-1655913600-1655928000@rickrockrice.com
SUMMARY:All-Star Sports Grill
DESCRIPTION:Come on out for some great food and drinks\, wonderful people and kick butt music.
URL:https://rickrockrice.com/upcoming-event/all-star-sports-grill-139/
CATEGORIES:Local Events
ATTACH;FMTTYPE=image/png:https://rickrockrice.com/wp-content/uploads/2020/07/IMG_1191.png
END:VEVENT
BEGIN:VEVENT
DTSTART;TZID=America/New_York:20220618T150000
DTEND;TZID=America/New_York:20220618T180000
DTSTAMP:20260419T212804
CREATED:20210829T144206Z
LAST-MODIFIED:20220611T135143Z
UID:3677-1655564400-1655575200@rickrockrice.com
SUMMARY:Am Legion Post 110\, CANCELLED
DESCRIPTION:
URL:https://rickrockrice.com/upcoming-event/am-legion-post-110-3/
CATEGORIES:Local Events
END:VEVENT
BEGIN:VEVENT
DTSTART;TZID=America/New_York:20220615T160000
DTEND;TZID=America/New_York:20220615T200000
DTSTAMP:20260419T212804
CREATED:20220324T150618Z
LAST-MODIFIED:20220324T150618Z
UID:3891-1655308800-1655323200@rickrockrice.com
SUMMARY:All-Star Sports Grill
DESCRIPTION:Come on out for some great food and drinks\, wonderful people and kick butt music.
URL:https://rickrockrice.com/upcoming-event/all-star-sports-grill-138/
CATEGORIES:Local Events
ATTACH;FMTTYPE=image/png:https://rickrockrice.com/wp-content/uploads/2020/07/IMG_1191.png
END:VEVENT
BEGIN:VEVENT
DTSTART;VALUE=DATE:20220531
DTEND;VALUE=DATE:20220610
DTSTAMP:20260419T212804
CREATED:20220114T165632Z
LAST-MODIFIED:20220114T165632Z
UID:3802-1653955200-1654819199@rickrockrice.com
SUMMARY:Vacation
DESCRIPTION:
URL:https://rickrockrice.com/upcoming-event/vacation-8/
END:VEVENT
BEGIN:VEVENT
DTSTART;TZID=America/New_York:20220525T160000
DTEND;TZID=America/New_York:20220525T200000
DTSTAMP:20260419T212804
CREATED:20220324T150512Z
LAST-MODIFIED:20220324T150512Z
UID:3889-1653494400-1653508800@rickrockrice.com
SUMMARY:All-Star Sports Grill
DESCRIPTION:Come on out for some great food and drinks\, wonderful people and kick butt music.
URL:https://rickrockrice.com/upcoming-event/all-star-sports-grill-137/
CATEGORIES:Local Events
ATTACH;FMTTYPE=image/png:https://rickrockrice.com/wp-content/uploads/2020/07/IMG_1191.png
END:VEVENT
BEGIN:VEVENT
DTSTART;TZID=America/New_York:20220523T160000
DTEND;TZID=America/New_York:20220523T180000
DTSTAMP:20260419T212804
CREATED:20220419T134614Z
LAST-MODIFIED:20220419T134614Z
UID:3912-1653321600-1653328800@rickrockrice.com
SUMMARY:Rotunda Elks Lodge
DESCRIPTION:
URL:https://rickrockrice.com/upcoming-event/rotunda-elks-lodge-6/
LOCATION:Rotunda Elks Lodge\, 303 Rotonda Blvd E\, Rotunda\, FL\, 33947\, United States
END:VEVENT
BEGIN:VEVENT
DTSTART;TZID=America/New_York:20220520T173000
DTEND;TZID=America/New_York:20220520T203000
DTSTAMP:20260419T212804
CREATED:20220331T024437Z
LAST-MODIFIED:20220331T024437Z
UID:3902-1653067800-1653078600@rickrockrice.com
SUMMARY:Amvets Post 312
DESCRIPTION:
URL:https://rickrockrice.com/upcoming-event/amvets-post-312-10/
LOCATION:Amvets Post 312\, 7050 Chancellor Blvd\, North Port\, FL\, 34287\, United States
CATEGORIES:Local Events
ATTACH;FMTTYPE=image/jpeg:https://rickrockrice.com/wp-content/uploads/2021/08/Amvets-Post-312.jpg
END:VEVENT
BEGIN:VEVENT
DTSTART;TZID=America/New_York:20220519T180000
DTEND;TZID=America/New_York:20220519T210000
DTSTAMP:20260419T212804
CREATED:20220414T180847Z
LAST-MODIFIED:20220414T180847Z
UID:3909-1652983200-1652994000@rickrockrice.com
SUMMARY:Graduation Party
DESCRIPTION:
URL:https://rickrockrice.com/upcoming-event/graduation-party/
END:VEVENT
BEGIN:VEVENT
DTSTART;TZID=America/New_York:20220518T160000
DTEND;TZID=America/New_York:20220518T200000
DTSTAMP:20260419T212804
CREATED:20220324T150429Z
LAST-MODIFIED:20220324T150429Z
UID:3887-1652889600-1652904000@rickrockrice.com
SUMMARY:All-Star Sports Grill
DESCRIPTION:Come on out for some great food and drinks\, wonderful people and kick butt music.
URL:https://rickrockrice.com/upcoming-event/all-star-sports-grill-136/
CATEGORIES:Local Events
ATTACH;FMTTYPE=image/png:https://rickrockrice.com/wp-content/uploads/2020/07/IMG_1191.png
END:VEVENT
BEGIN:VEVENT
DTSTART;TZID=America/New_York:20220515T140000
DTEND;TZID=America/New_York:20220515T170000
DTSTAMP:20260419T212804
CREATED:20220505T194739Z
LAST-MODIFIED:20220505T194739Z
UID:3921-1652623200-1652634000@rickrockrice.com
SUMMARY:Amvets 2000
DESCRIPTION:
URL:https://rickrockrice.com/upcoming-event/amvets-2000-2/
END:VEVENT
BEGIN:VEVENT
DTSTART;TZID=America/New_York:20220513T180000
DTEND;TZID=America/New_York:20220513T210000
DTSTAMP:20260419T212804
CREATED:20220210T113145Z
LAST-MODIFIED:20220210T113145Z
UID:3845-1652464800-1652475600@rickrockrice.com
SUMMARY:Cool Pickle In Paradise
DESCRIPTION:
URL:https://rickrockrice.com/upcoming-event/cool-pickle-in-paradise-6/
LOCATION:Cool Pickle In Paradise\, 8501 Placida Road\, Unit A4\, Placida\, FL\, 33946\, United States
ATTACH;FMTTYPE=image/jpeg:https://rickrockrice.com/wp-content/uploads/2022/01/Cool-Pickle.jpg
END:VEVENT
BEGIN:VEVENT
DTSTART;TZID=America/New_York:20220511T160000
DTEND;TZID=America/New_York:20220511T200000
DTSTAMP:20260419T212804
CREATED:20220324T150352Z
LAST-MODIFIED:20220324T150352Z
UID:3885-1652284800-1652299200@rickrockrice.com
SUMMARY:All-Star Sports Grill
DESCRIPTION:Come on out for some great food and drinks\, wonderful people and kick butt music.
URL:https://rickrockrice.com/upcoming-event/all-star-sports-grill-135/
CATEGORIES:Local Events
ATTACH;FMTTYPE=image/png:https://rickrockrice.com/wp-content/uploads/2020/07/IMG_1191.png
END:VEVENT
BEGIN:VEVENT
DTSTART;TZID=America/New_York:20220507T150000
DTEND;TZID=America/New_York:20220507T180000
DTSTAMP:20260419T212804
CREATED:20210829T144127Z
LAST-MODIFIED:20210829T144127Z
UID:3675-1651935600-1651946400@rickrockrice.com
SUMMARY:Am Legion Post 110
DESCRIPTION:
URL:https://rickrockrice.com/upcoming-event/am-legion-post-110-2/
CATEGORIES:Local Events
END:VEVENT
BEGIN:VEVENT
DTSTART;TZID=America/New_York:20220506T180000
DTEND;TZID=America/New_York:20220506T210000
DTSTAMP:20260419T212804
CREATED:20220214T124144Z
LAST-MODIFIED:20220214T124144Z
UID:3851-1651860000-1651870800@rickrockrice.com
SUMMARY:Am Legion Post 254
DESCRIPTION:Awesome people\, Great atmosphere\, Great Food\, Great live music
URL:https://rickrockrice.com/upcoming-event/am-legion-post-254-7/
LOCATION:American Legion Post 254\, 6648 Taneytown St\, North Port\, FL\, 34291\, United States
CATEGORIES:Local Events
ATTACH;FMTTYPE=image/jpeg:https://rickrockrice.com/wp-content/uploads/2021/08/Am-Legion-Post-254.jpg
END:VEVENT
BEGIN:VEVENT
DTSTART;TZID=America/New_York:20220504T160000
DTEND;TZID=America/New_York:20220504T200000
DTSTAMP:20260419T212804
CREATED:20220324T150304Z
LAST-MODIFIED:20220324T150304Z
UID:3883-1651680000-1651694400@rickrockrice.com
SUMMARY:All-Star Sports Grill
DESCRIPTION:Come on out for some great food and drinks\, wonderful people and kick butt music.
URL:https://rickrockrice.com/upcoming-event/all-star-sports-grill-134/
CATEGORIES:Local Events
ATTACH;FMTTYPE=image/png:https://rickrockrice.com/wp-content/uploads/2020/07/IMG_1191.png
END:VEVENT
END:VCALENDAR