BEGIN:VCALENDAR
VERSION:2.0
PRODID:-//Rick Rock Rice - ECPv6.15.20//NONSGML v1.0//EN
CALSCALE:GREGORIAN
METHOD:PUBLISH
X-ORIGINAL-URL:https://rickrockrice.com
X-WR-CALDESC:Events for Rick Rock Rice
REFRESH-INTERVAL;VALUE=DURATION:PT1H
X-Robots-Tag:noindex
X-PUBLISHED-TTL:PT1H
BEGIN:VTIMEZONE
TZID:America/New_York
BEGIN:DAYLIGHT
TZOFFSETFROM:-0500
TZOFFSETTO:-0400
TZNAME:EDT
DTSTART:20210314T070000
END:DAYLIGHT
BEGIN:STANDARD
TZOFFSETFROM:-0400
TZOFFSETTO:-0500
TZNAME:EST
DTSTART:20211107T060000
END:STANDARD
BEGIN:DAYLIGHT
TZOFFSETFROM:-0500
TZOFFSETTO:-0400
TZNAME:EDT
DTSTART:20220313T070000
END:DAYLIGHT
BEGIN:STANDARD
TZOFFSETFROM:-0400
TZOFFSETTO:-0500
TZNAME:EST
DTSTART:20221106T060000
END:STANDARD
BEGIN:DAYLIGHT
TZOFFSETFROM:-0500
TZOFFSETTO:-0400
TZNAME:EDT
DTSTART:20230312T070000
END:DAYLIGHT
BEGIN:STANDARD
TZOFFSETFROM:-0400
TZOFFSETTO:-0500
TZNAME:EST
DTSTART:20231105T060000
END:STANDARD
END:VTIMEZONE
BEGIN:VEVENT
DTSTART;TZID=America/New_York:20221019T170000
DTEND;TZID=America/New_York:20221019T210000
DTSTAMP:20260419T172653
CREATED:20220827T102333Z
LAST-MODIFIED:20220827T102333Z
UID:4022-1666198800-1666213200@rickrockrice.com
SUMMARY:All-Star Sports Grill
DESCRIPTION:Come on out for some great food and drinks\, wonderful people and kick butt music.
URL:https://rickrockrice.com/upcoming-event/all-star-sports-grill-154/
LOCATION:All-Star Bar And Grill\, 2360 Tamiami Trail\, Port Charlotte\, FL\, 33952\, United States
CATEGORIES:Local Events
ATTACH;FMTTYPE=image/png:https://rickrockrice.com/wp-content/uploads/2020/07/IMG_1191.png
END:VEVENT
BEGIN:VEVENT
DTSTART;TZID=America/New_York:20221012T170000
DTEND;TZID=America/New_York:20221012T210000
DTSTAMP:20260419T172653
CREATED:20220827T102037Z
LAST-MODIFIED:20220827T102037Z
UID:4020-1665594000-1665608400@rickrockrice.com
SUMMARY:All-Star Sports Grill
DESCRIPTION:Come on out for some great food and drinks\, wonderful people and kick butt music.
URL:https://rickrockrice.com/upcoming-event/all-star-sports-grill-153/
LOCATION:All-Star Bar And Grill\, 2360 Tamiami Trail\, Port Charlotte\, FL\, 33952\, United States
CATEGORIES:Local Events
ATTACH;FMTTYPE=image/png:https://rickrockrice.com/wp-content/uploads/2020/07/IMG_1191.png
END:VEVENT
BEGIN:VEVENT
DTSTART;TZID=America/New_York:20221008T150000
DTEND;TZID=America/New_York:20221008T180000
DTSTAMP:20260419T172653
CREATED:20220214T155907Z
LAST-MODIFIED:20220214T155907Z
UID:3859-1665241200-1665252000@rickrockrice.com
SUMMARY:Am Legion Post 110
DESCRIPTION:
URL:https://rickrockrice.com/upcoming-event/am-legion-post-110-8/
LOCATION:FL
CATEGORIES:Local Events
END:VEVENT
BEGIN:VEVENT
DTSTART;TZID=America/New_York:20221005T170000
DTEND;TZID=America/New_York:20221005T210000
DTSTAMP:20260419T172653
CREATED:20220827T101905Z
LAST-MODIFIED:20220827T101905Z
UID:4018-1664989200-1665003600@rickrockrice.com
SUMMARY:All-Star Sports Grill
DESCRIPTION:Come on out for some great food and drinks\, wonderful people and kick butt music.
URL:https://rickrockrice.com/upcoming-event/all-star-sports-grill-152/
LOCATION:All-Star Bar And Grill\, 2360 Tamiami Trail\, Port Charlotte\, FL\, 33952\, United States
CATEGORIES:Local Events
ATTACH;FMTTYPE=image/png:https://rickrockrice.com/wp-content/uploads/2020/07/IMG_1191.png
END:VEVENT
BEGIN:VEVENT
DTSTART;VALUE=DATE:20220926
DTEND;VALUE=DATE:20220930
DTSTAMP:20260419T172653
CREATED:20220827T101458Z
LAST-MODIFIED:20220827T101458Z
UID:4016-1664150400-1664495999@rickrockrice.com
SUMMARY:Vacation
DESCRIPTION:
URL:https://rickrockrice.com/upcoming-event/vacation-9/
LOCATION:FL
END:VEVENT
BEGIN:VEVENT
DTSTART;TZID=America/New_York:20220923T180000
DTEND;TZID=America/New_York:20220923T210000
DTSTAMP:20260419T172653
CREATED:20220709T112159Z
LAST-MODIFIED:20220709T112159Z
UID:3964-1663956000-1663966800@rickrockrice.com
SUMMARY:Am Legion Post 254
DESCRIPTION:Awesome people\, Great atmosphere\, Great Food\, Great live music
URL:https://rickrockrice.com/upcoming-event/am-legion-post-254-12/
LOCATION:American Legion Post 254\, 6648 Taneytown St\, North Port\, FL\, 34291\, United States
CATEGORIES:Local Events
ATTACH;FMTTYPE=image/jpeg:https://rickrockrice.com/wp-content/uploads/2021/08/Am-Legion-Post-254.jpg
END:VEVENT
BEGIN:VEVENT
DTSTART;TZID=America/New_York:20220921T170000
DTEND;TZID=America/New_York:20220921T210000
DTSTAMP:20260419T172653
CREATED:20220709T112635Z
LAST-MODIFIED:20220719T203312Z
UID:3968-1663779600-1663794000@rickrockrice.com
SUMMARY:All-Star Sports Grill
DESCRIPTION:Come on out for some great food and drinks\, wonderful people and kick butt music.
URL:https://rickrockrice.com/upcoming-event/all-star-sports-grill-151/
LOCATION:FL
CATEGORIES:Local Events
ATTACH;FMTTYPE=image/png:https://rickrockrice.com/wp-content/uploads/2020/07/IMG_1191.png
END:VEVENT
BEGIN:VEVENT
DTSTART;TZID=America/New_York:20220914T170000
DTEND;TZID=America/New_York:20220914T210000
DTSTAMP:20260419T172653
CREATED:20220709T112533Z
LAST-MODIFIED:20220719T203232Z
UID:3966-1663174800-1663189200@rickrockrice.com
SUMMARY:All-Star Sports Grill
DESCRIPTION:Come on out for some great food and drinks\, wonderful people and kick butt music.
URL:https://rickrockrice.com/upcoming-event/all-star-sports-grill-150/
LOCATION:FL
CATEGORIES:Local Events
ATTACH;FMTTYPE=image/png:https://rickrockrice.com/wp-content/uploads/2020/07/IMG_1191.png
END:VEVENT
BEGIN:VEVENT
DTSTART;TZID=America/New_York:20220910T150000
DTEND;TZID=America/New_York:20220910T180000
DTSTAMP:20260419T172653
CREATED:20220214T155829Z
LAST-MODIFIED:20220214T155829Z
UID:3857-1662822000-1662832800@rickrockrice.com
SUMMARY:Am Legion Post 110
DESCRIPTION:
URL:https://rickrockrice.com/upcoming-event/am-legion-post-110-7/
LOCATION:FL
CATEGORIES:Local Events
END:VEVENT
BEGIN:VEVENT
DTSTART;TZID=America/New_York:20220909T180000
DTEND;TZID=America/New_York:20220909T210000
DTSTAMP:20260419T172653
CREATED:20220709T112105Z
LAST-MODIFIED:20220725T022500Z
UID:3962-1662746400-1662757200@rickrockrice.com
SUMMARY:Am Legion Post 254
DESCRIPTION:Awesome people\, Great atmosphere\, Great Food\, Great live music
URL:https://rickrockrice.com/upcoming-event/am-legion-post-254-11/
LOCATION:American Legion Post 254\, 6648 Taneytown St\, North Port\, FL\, 34291\, United States
CATEGORIES:Local Events
ATTACH;FMTTYPE=image/jpeg:https://rickrockrice.com/wp-content/uploads/2021/08/Am-Legion-Post-254.jpg
END:VEVENT
BEGIN:VEVENT
DTSTART;TZID=America/New_York:20220907T170000
DTEND;TZID=America/New_York:20220907T210000
DTSTAMP:20260419T172653
CREATED:20220709T112028Z
LAST-MODIFIED:20220719T203154Z
UID:3960-1662570000-1662584400@rickrockrice.com
SUMMARY:All-Star Sports Grill
DESCRIPTION:Come on out for some great food and drinks\, wonderful people and kick butt music.
URL:https://rickrockrice.com/upcoming-event/all-star-sports-grill-149/
LOCATION:FL
CATEGORIES:Local Events
ATTACH;FMTTYPE=image/png:https://rickrockrice.com/wp-content/uploads/2020/07/IMG_1191.png
END:VEVENT
BEGIN:VEVENT
DTSTART;TZID=America/New_York:20220905T130000
DTEND;TZID=America/New_York:20220905T160000
DTSTAMP:20260419T172653
CREATED:20220817T151834Z
LAST-MODIFIED:20220906T020658Z
UID:4010-1662382800-1662393600@rickrockrice.com
SUMMARY:VFW 5690
DESCRIPTION:
URL:https://rickrockrice.com/upcoming-event/vfw/
LOCATION:VFW Port Charlotte\, 23204 Freedom Ave\, Port Charlotte\, FL\, 33980\, United States
END:VEVENT
BEGIN:VEVENT
DTSTART;TZID=America/New_York:20220831T170000
DTEND;TZID=America/New_York:20220831T210000
DTSTAMP:20260419T172653
CREATED:20220709T111944Z
LAST-MODIFIED:20220719T203118Z
UID:3958-1661965200-1661979600@rickrockrice.com
SUMMARY:All-Star Sports Grill
DESCRIPTION:Come on out for some great food and drinks\, wonderful people and kick butt music.
URL:https://rickrockrice.com/upcoming-event/all-star-sports-grill-148/
LOCATION:FL
CATEGORIES:Local Events
ATTACH;FMTTYPE=image/png:https://rickrockrice.com/wp-content/uploads/2020/07/IMG_1191.png
END:VEVENT
BEGIN:VEVENT
DTSTART;TZID=America/New_York:20220826T180000
DTEND;TZID=America/New_York:20220826T210000
DTSTAMP:20260419T172653
CREATED:20220724T160809Z
LAST-MODIFIED:20220724T160809Z
UID:3986-1661536800-1661547600@rickrockrice.com
SUMMARY:Am Legion Post 254
DESCRIPTION:Awesome people\, Great atmosphere\, Great Food\, Great live music
URL:https://rickrockrice.com/upcoming-event/am-legion-post-254-13/
LOCATION:American Legion Post 254\, 6648 Taneytown St\, North Port\, FL\, 34291\, United States
CATEGORIES:Local Events
ATTACH;FMTTYPE=image/jpeg:https://rickrockrice.com/wp-content/uploads/2021/08/Am-Legion-Post-254.jpg
END:VEVENT
BEGIN:VEVENT
DTSTART;TZID=America/New_York:20220824T170000
DTEND;TZID=America/New_York:20220824T210000
DTSTAMP:20260419T172653
CREATED:20220709T111859Z
LAST-MODIFIED:20220719T203022Z
UID:3956-1661360400-1661374800@rickrockrice.com
SUMMARY:All-Star Sports Grill
DESCRIPTION:Come on out for some great food and drinks\, wonderful people and kick butt music.
URL:https://rickrockrice.com/upcoming-event/all-star-sports-grill-147/
LOCATION:FL
CATEGORIES:Local Events
ATTACH;FMTTYPE=image/png:https://rickrockrice.com/wp-content/uploads/2020/07/IMG_1191.png
END:VEVENT
BEGIN:VEVENT
DTSTART;TZID=America/New_York:20220820T190000
DTEND;TZID=America/New_York:20220820T220000
DTSTAMP:20260419T172653
CREATED:20220716T022357Z
LAST-MODIFIED:20220716T022607Z
UID:3980-1661022000-1661032800@rickrockrice.com
SUMMARY:Amvets 2000
DESCRIPTION:
URL:https://rickrockrice.com/upcoming-event/amvets-2000-5/
LOCATION:FL
ATTACH;FMTTYPE=image/jpeg:https://rickrockrice.com/wp-content/uploads/2022/07/Amvets2000.jpg
END:VEVENT
BEGIN:VEVENT
DTSTART;TZID=America/New_York:20220819T150000
DTEND;TZID=America/New_York:20220819T180000
DTSTAMP:20260419T172653
CREATED:20220726T152910Z
LAST-MODIFIED:20220726T153218Z
UID:3988-1660921200-1660932000@rickrockrice.com
SUMMARY:Am Legion Post 110
DESCRIPTION:Come join us at American Legion post 110 for great food and drinks\, awesome people and atmosphere and my live music.
URL:https://rickrockrice.com/upcoming-event/am-legion-post-110-11/
LOCATION:FL
CATEGORIES:Local Events
END:VEVENT
BEGIN:VEVENT
DTSTART;TZID=America/New_York:20220817T170000
DTEND;TZID=America/New_York:20220817T210000
DTSTAMP:20260419T172653
CREATED:20220709T111813Z
LAST-MODIFIED:20220719T202932Z
UID:3954-1660755600-1660770000@rickrockrice.com
SUMMARY:All-Star Sports Grill
DESCRIPTION:Come on out for some great food and drinks\, wonderful people and kick butt music.
URL:https://rickrockrice.com/upcoming-event/all-star-sports-grill-146/
LOCATION:FL
CATEGORIES:Local Events
ATTACH;FMTTYPE=image/png:https://rickrockrice.com/wp-content/uploads/2020/07/IMG_1191.png
END:VEVENT
BEGIN:VEVENT
DTSTART;TZID=America/New_York:20220813T150000
DTEND;TZID=America/New_York:20220813T180000
DTSTAMP:20260419T172653
CREATED:20220214T155713Z
LAST-MODIFIED:20220214T155713Z
UID:3855-1660402800-1660413600@rickrockrice.com
SUMMARY:Am Legion Post 110
DESCRIPTION:
URL:https://rickrockrice.com/upcoming-event/am-legion-post-110-6/
LOCATION:FL
CATEGORIES:Local Events
END:VEVENT
BEGIN:VEVENT
DTSTART;TZID=America/New_York:20220812T180000
DTEND;TZID=America/New_York:20220812T210000
DTSTAMP:20260419T172653
CREATED:20220703T195433Z
LAST-MODIFIED:20220703T195433Z
UID:3944-1660327200-1660338000@rickrockrice.com
SUMMARY:Am Legion Post 254
DESCRIPTION:Awesome people\, Great atmosphere\, Great Food\, Great live music
URL:https://rickrockrice.com/upcoming-event/am-legion-post-254-10/
LOCATION:American Legion Post 254\, 6648 Taneytown St\, North Port\, FL\, 34291\, United States
CATEGORIES:Local Events
ATTACH;FMTTYPE=image/jpeg:https://rickrockrice.com/wp-content/uploads/2021/08/Am-Legion-Post-254.jpg
END:VEVENT
BEGIN:VEVENT
DTSTART;TZID=America/New_York:20220810T170000
DTEND;TZID=America/New_York:20220810T210000
DTSTAMP:20260419T172653
CREATED:20220709T111712Z
LAST-MODIFIED:20220719T202848Z
UID:3952-1660150800-1660165200@rickrockrice.com
SUMMARY:All-Star Sports Grill
DESCRIPTION:Come on out for some great food and drinks\, wonderful people and kick butt music.
URL:https://rickrockrice.com/upcoming-event/all-star-sports-grill-145/
LOCATION:FL
CATEGORIES:Local Events
ATTACH;FMTTYPE=image/png:https://rickrockrice.com/wp-content/uploads/2020/07/IMG_1191.png
END:VEVENT
BEGIN:VEVENT
DTSTART;TZID=America/New_York:20220805T170000
DTEND;TZID=America/New_York:20220805T200000
DTSTAMP:20260419T172653
CREATED:20220712T165121Z
LAST-MODIFIED:20220712T165121Z
UID:3978-1659718800-1659729600@rickrockrice.com
SUMMARY:Amvets Post 312
DESCRIPTION:
URL:https://rickrockrice.com/upcoming-event/amvets-post-312-11/
LOCATION:Amvets Post 312\, 7050 Chancellor Blvd\, North Port\, FL\, 34287\, United States
CATEGORIES:Local Events
ATTACH;FMTTYPE=image/jpeg:https://rickrockrice.com/wp-content/uploads/2021/08/Amvets-Post-312.jpg
END:VEVENT
BEGIN:VEVENT
DTSTART;TZID=America/New_York:20220803T170000
DTEND;TZID=America/New_York:20220803T210000
DTSTAMP:20260419T172653
CREATED:20220709T111623Z
LAST-MODIFIED:20220719T202820Z
UID:3950-1659546000-1659560400@rickrockrice.com
SUMMARY:All-Star Sports Grill
DESCRIPTION:Come on out for some great food and drinks\, wonderful people and kick butt music.
URL:https://rickrockrice.com/upcoming-event/all-star-sports-grill-144/
LOCATION:FL
CATEGORIES:Local Events
ATTACH;FMTTYPE=image/png:https://rickrockrice.com/wp-content/uploads/2020/07/IMG_1191.png
END:VEVENT
BEGIN:VEVENT
DTSTART;TZID=America/New_York:20220731T130000
DTEND;TZID=America/New_York:20220731T170000
DTSTAMP:20260419T172653
CREATED:20220729T100231Z
LAST-MODIFIED:20220729T100231Z
UID:4005-1659272400-1659286800@rickrockrice.com
SUMMARY:NAV-A-GATOR
DESCRIPTION:
URL:https://rickrockrice.com/upcoming-event/nav-a-gator/
LOCATION:navagator\, 9700 SW Riverview Cir\, Arcadia\, FL\, 34269\, United States
ATTACH;FMTTYPE=image/jpeg:https://rickrockrice.com/wp-content/uploads/2022/07/nav-a-gator-bar-and-grill.jpg
END:VEVENT
BEGIN:VEVENT
DTSTART;TZID=America/New_York:20220729T180000
DTEND;TZID=America/New_York:20220729T210000
DTSTAMP:20260419T172653
CREATED:20220611T135253Z
LAST-MODIFIED:20220611T135253Z
UID:3931-1659117600-1659128400@rickrockrice.com
SUMMARY:Am Legion Post 254
DESCRIPTION:Awesome people\, Great atmosphere\, Great Food\, Great live music
URL:https://rickrockrice.com/upcoming-event/am-legion-post-254-9/
LOCATION:American Legion Post 254\, 6648 Taneytown St\, North Port\, FL\, 34291\, United States
CATEGORIES:Local Events
ATTACH;FMTTYPE=image/jpeg:https://rickrockrice.com/wp-content/uploads/2021/08/Am-Legion-Post-254.jpg
END:VEVENT
BEGIN:VEVENT
DTSTART;TZID=America/New_York:20220727T170000
DTEND;TZID=America/New_York:20220727T210000
DTSTAMP:20260419T172653
CREATED:20220611T140013Z
LAST-MODIFIED:20220719T202728Z
UID:3941-1658941200-1658955600@rickrockrice.com
SUMMARY:All-Star Sports Grill
DESCRIPTION:Come on out for some great food and drinks\, wonderful people and kick butt music.
URL:https://rickrockrice.com/upcoming-event/all-star-sports-grill-143/
LOCATION:FL
CATEGORIES:Local Events
ATTACH;FMTTYPE=image/png:https://rickrockrice.com/wp-content/uploads/2020/07/IMG_1191.png
END:VEVENT
BEGIN:VEVENT
DTSTART;TZID=America/New_York:20220720T170000
DTEND;TZID=America/New_York:20220720T210000
DTSTAMP:20260419T172653
CREATED:20220611T135611Z
LAST-MODIFIED:20220719T202651Z
UID:3937-1658336400-1658350800@rickrockrice.com
SUMMARY:All-Star Sports Grill
DESCRIPTION:Come on out for some great food and drinks\, wonderful people and kick butt music.
URL:https://rickrockrice.com/upcoming-event/all-star-sports-grill-142/
LOCATION:FL
CATEGORIES:Local Events
ATTACH;FMTTYPE=image/png:https://rickrockrice.com/wp-content/uploads/2020/07/IMG_1191.png
END:VEVENT
BEGIN:VEVENT
DTSTART;TZID=America/New_York:20220716T180000
DTEND;TZID=America/New_York:20220716T210000
DTSTAMP:20260419T172653
CREATED:20220708T183927Z
LAST-MODIFIED:20220708T183927Z
UID:3948-1657994400-1658005200@rickrockrice.com
SUMMARY:White Rabbit Saloon
DESCRIPTION:Great fun atmosphere with great drink prices and wonderful people.
URL:https://rickrockrice.com/upcoming-event/white-rabbit-saloon-12/
LOCATION:White Rabbit Saloon\, 8282 Wiltshire Dr\, Port Charlotte\, FL\, 33981\, United States
ATTACH;FMTTYPE=image/jpeg:https://rickrockrice.com/wp-content/uploads/2021/12/White-Rabbit-Saloon-2.jpg
END:VEVENT
BEGIN:VEVENT
DTSTART;TZID=America/New_York:20220713T160000
DTEND;TZID=America/New_York:20220713T200000
DTSTAMP:20260419T172653
CREATED:20220611T135530Z
LAST-MODIFIED:20220611T135530Z
UID:3935-1657728000-1657742400@rickrockrice.com
SUMMARY:All-Star Sports Grill
DESCRIPTION:Come on out for some great food and drinks\, wonderful people and kick butt music.
URL:https://rickrockrice.com/upcoming-event/all-star-sports-grill-141/
LOCATION:FL
CATEGORIES:Local Events
ATTACH;FMTTYPE=image/png:https://rickrockrice.com/wp-content/uploads/2020/07/IMG_1191.png
END:VEVENT
BEGIN:VEVENT
DTSTART;TZID=America/New_York:20220709T150000
DTEND;TZID=America/New_York:20220709T180000
DTSTAMP:20260419T172653
CREATED:20220214T155631Z
LAST-MODIFIED:20220214T155631Z
UID:3853-1657378800-1657389600@rickrockrice.com
SUMMARY:Am Legion Post 110
DESCRIPTION:
URL:https://rickrockrice.com/upcoming-event/am-legion-post-110-5/
LOCATION:FL
CATEGORIES:Local Events
END:VEVENT
END:VCALENDAR