BEGIN:VCALENDAR
VERSION:2.0
PRODID:-//Rick Rock Rice - ECPv6.15.20//NONSGML v1.0//EN
CALSCALE:GREGORIAN
METHOD:PUBLISH
X-WR-CALNAME:Rick Rock Rice
X-ORIGINAL-URL:https://rickrockrice.com
X-WR-CALDESC:Events for Rick Rock Rice
REFRESH-INTERVAL;VALUE=DURATION:PT1H
X-Robots-Tag:noindex
X-PUBLISHED-TTL:PT1H
BEGIN:VTIMEZONE
TZID:America/New_York
BEGIN:DAYLIGHT
TZOFFSETFROM:-0500
TZOFFSETTO:-0400
TZNAME:EDT
DTSTART:20210314T070000
END:DAYLIGHT
BEGIN:STANDARD
TZOFFSETFROM:-0400
TZOFFSETTO:-0500
TZNAME:EST
DTSTART:20211107T060000
END:STANDARD
BEGIN:DAYLIGHT
TZOFFSETFROM:-0500
TZOFFSETTO:-0400
TZNAME:EDT
DTSTART:20220313T070000
END:DAYLIGHT
BEGIN:STANDARD
TZOFFSETFROM:-0400
TZOFFSETTO:-0500
TZNAME:EST
DTSTART:20221106T060000
END:STANDARD
BEGIN:DAYLIGHT
TZOFFSETFROM:-0500
TZOFFSETTO:-0400
TZNAME:EDT
DTSTART:20230312T070000
END:DAYLIGHT
BEGIN:STANDARD
TZOFFSETFROM:-0400
TZOFFSETTO:-0500
TZNAME:EST
DTSTART:20231105T060000
END:STANDARD
BEGIN:DAYLIGHT
TZOFFSETFROM:-0500
TZOFFSETTO:-0400
TZNAME:EDT
DTSTART:20240310T070000
END:DAYLIGHT
BEGIN:STANDARD
TZOFFSETFROM:-0400
TZOFFSETTO:-0500
TZNAME:EST
DTSTART:20241103T060000
END:STANDARD
END:VTIMEZONE
BEGIN:VEVENT
DTSTART;TZID=America/New_York:20230120T180000
DTEND;TZID=America/New_York:20230120T210000
DTSTAMP:20260419T133926
CREATED:20221130T174011Z
LAST-MODIFIED:20221130T174133Z
UID:4089-1674237600-1674248400@rickrockrice.com
SUMMARY:Am Legion Post 110
DESCRIPTION:Come join us at American Legion post 110 for great food and drinks\, awesome people and atmosphere and my live music.
URL:https://rickrockrice.com/upcoming-event/am-legion-post-110-10/
LOCATION:FL
CATEGORIES:Local Events
END:VEVENT
BEGIN:VEVENT
DTSTART;TZID=America/New_York:20230118T170000
DTEND;TZID=America/New_York:20230118T210000
DTSTAMP:20260419T133926
CREATED:20221125T171656Z
LAST-MODIFIED:20221125T171656Z
UID:4050-1674061200-1674075600@rickrockrice.com
SUMMARY:All-Star Sports Grill
DESCRIPTION:Come on out for some great food and drinks\, wonderful people and kick butt music.
URL:https://rickrockrice.com/upcoming-event/all-star-sports-grill-163/
LOCATION:All-Star Bar And Grill\, 2360 Tamiami Trail\, Port Charlotte\, FL\, 33952\, United States
CATEGORIES:Local Events
ATTACH;FMTTYPE=image/png:https://rickrockrice.com/wp-content/uploads/2020/07/IMG_1191.png
END:VEVENT
BEGIN:VEVENT
DTSTART;TZID=America/New_York:20230114T180000
DTEND;TZID=America/New_York:20230114T220000
DTSTAMP:20260419T133926
CREATED:20220424T100405Z
LAST-MODIFIED:20221125T171045Z
UID:3918-1673719200-1673733600@rickrockrice.com
SUMMARY:Private Party
DESCRIPTION:
URL:https://rickrockrice.com/upcoming-event/private-party-8/
LOCATION:FL
END:VEVENT
BEGIN:VEVENT
DTSTART;TZID=America/New_York:20230113T170000
DTEND;TZID=America/New_York:20230113T200000
DTSTAMP:20260419T133926
CREATED:20221231T122548Z
LAST-MODIFIED:20221231T122548Z
UID:4108-1673629200-1673640000@rickrockrice.com
SUMMARY:VFW NP Post 8203
DESCRIPTION:
URL:https://rickrockrice.com/upcoming-event/vfw-np-post-8203-2/
LOCATION:VFW North Port Post 8203\, 4860 Trott Circle\, North Port\, FL\, 34287\, United States
END:VEVENT
BEGIN:VEVENT
DTSTART;TZID=America/New_York:20230111T170000
DTEND;TZID=America/New_York:20230111T210000
DTSTAMP:20260419T133926
CREATED:20221125T171602Z
LAST-MODIFIED:20221125T171602Z
UID:4048-1673456400-1673470800@rickrockrice.com
SUMMARY:All-Star Sports Grill
DESCRIPTION:Come on out for some great food and drinks\, wonderful people and kick butt music.
URL:https://rickrockrice.com/upcoming-event/all-star-sports-grill-162/
LOCATION:All-Star Bar And Grill\, 2360 Tamiami Trail\, Port Charlotte\, FL\, 33952\, United States
CATEGORIES:Local Events
ATTACH;FMTTYPE=image/png:https://rickrockrice.com/wp-content/uploads/2020/07/IMG_1191.png
END:VEVENT
BEGIN:VEVENT
DTSTART;TZID=America/New_York:20230104T170000
DTEND;TZID=America/New_York:20230104T210000
DTSTAMP:20260419T133926
CREATED:20221125T171520Z
LAST-MODIFIED:20221125T171520Z
UID:4046-1672851600-1672866000@rickrockrice.com
SUMMARY:All-Star Sports Grill
DESCRIPTION:Come on out for some great food and drinks\, wonderful people and kick butt music.
URL:https://rickrockrice.com/upcoming-event/all-star-sports-grill-161/
LOCATION:All-Star Bar And Grill\, 2360 Tamiami Trail\, Port Charlotte\, FL\, 33952\, United States
CATEGORIES:Local Events
ATTACH;FMTTYPE=image/png:https://rickrockrice.com/wp-content/uploads/2020/07/IMG_1191.png
END:VEVENT
BEGIN:VEVENT
DTSTART;TZID=America/New_York:20221231T180000
DTEND;TZID=America/New_York:20221231T220000
DTSTAMP:20260419T133926
CREATED:20221125T171948Z
LAST-MODIFIED:20221125T171948Z
UID:4054-1672509600-1672524000@rickrockrice.com
SUMMARY:Private Party
DESCRIPTION:
URL:https://rickrockrice.com/upcoming-event/private-party-10/
LOCATION:FL
END:VEVENT
BEGIN:VEVENT
DTSTART;TZID=America/New_York:20221230T170000
DTEND;TZID=America/New_York:20221230T200000
DTSTAMP:20260419T133926
CREATED:20221125T172634Z
LAST-MODIFIED:20221125T172634Z
UID:4058-1672419600-1672430400@rickrockrice.com
SUMMARY:VFW NP Post 8203
DESCRIPTION:
URL:https://rickrockrice.com/upcoming-event/vfw-np-post-8203/
LOCATION:VFW North Port Post 8203\, 4860 Trott Circle\, North Port\, FL\, 34287\, United States
END:VEVENT
BEGIN:VEVENT
DTSTART;TZID=America/New_York:20221228T170000
DTEND;TZID=America/New_York:20221228T210000
DTSTAMP:20260419T133926
CREATED:20221125T171418Z
LAST-MODIFIED:20221125T171418Z
UID:4044-1672246800-1672261200@rickrockrice.com
SUMMARY:All-Star Sports Grill
DESCRIPTION:Come on out for some great food and drinks\, wonderful people and kick butt music.
URL:https://rickrockrice.com/upcoming-event/all-star-sports-grill-160/
LOCATION:All-Star Bar And Grill\, 2360 Tamiami Trail\, Port Charlotte\, FL\, 33952\, United States
CATEGORIES:Local Events
ATTACH;FMTTYPE=image/png:https://rickrockrice.com/wp-content/uploads/2020/07/IMG_1191.png
END:VEVENT
BEGIN:VEVENT
DTSTART;TZID=America/New_York:20221223T180000
DTEND;TZID=America/New_York:20221223T210000
DTSTAMP:20260419T133926
CREATED:20220726T153805Z
LAST-MODIFIED:20221130T174056Z
UID:4002-1671818400-1671829200@rickrockrice.com
SUMMARY:Am Legion Post 110
DESCRIPTION:Come join us at American Legion post 110 for great food and drinks\, awesome people and atmosphere and my live music.
URL:https://rickrockrice.com/upcoming-event/am-legion-post-110-16/
LOCATION:FL
CATEGORIES:Local Events
END:VEVENT
BEGIN:VEVENT
DTSTART;TZID=America/New_York:20221221T170000
DTEND;TZID=America/New_York:20221221T210000
DTSTAMP:20260419T133926
CREATED:20221125T171323Z
LAST-MODIFIED:20221125T171323Z
UID:4042-1671642000-1671656400@rickrockrice.com
SUMMARY:All-Star Sports Grill
DESCRIPTION:Come on out for some great food and drinks\, wonderful people and kick butt music.
URL:https://rickrockrice.com/upcoming-event/all-star-sports-grill-159/
LOCATION:All-Star Bar And Grill\, 2360 Tamiami Trail\, Port Charlotte\, FL\, 33952\, United States
CATEGORIES:Local Events
ATTACH;FMTTYPE=image/png:https://rickrockrice.com/wp-content/uploads/2020/07/IMG_1191.png
END:VEVENT
BEGIN:VEVENT
DTSTART;TZID=America/New_York:20221214T170000
DTEND;TZID=America/New_York:20221214T210000
DTSTAMP:20260419T133926
CREATED:20221125T171232Z
LAST-MODIFIED:20221125T171232Z
UID:4040-1671037200-1671051600@rickrockrice.com
SUMMARY:All-Star Sports Grill
DESCRIPTION:Come on out for some great food and drinks\, wonderful people and kick butt music.
URL:https://rickrockrice.com/upcoming-event/all-star-sports-grill-158/
LOCATION:All-Star Bar And Grill\, 2360 Tamiami Trail\, Port Charlotte\, FL\, 33952\, United States
CATEGORIES:Local Events
ATTACH;FMTTYPE=image/png:https://rickrockrice.com/wp-content/uploads/2020/07/IMG_1191.png
END:VEVENT
BEGIN:VEVENT
DTSTART;TZID=America/New_York:20221207T170000
DTEND;TZID=America/New_York:20221207T210000
DTSTAMP:20260419T133926
CREATED:20221125T171152Z
LAST-MODIFIED:20221125T171152Z
UID:4038-1670432400-1670446800@rickrockrice.com
SUMMARY:All-Star Sports Grill
DESCRIPTION:Come on out for some great food and drinks\, wonderful people and kick butt music.
URL:https://rickrockrice.com/upcoming-event/all-star-sports-grill-157/
LOCATION:All-Star Bar And Grill\, 2360 Tamiami Trail\, Port Charlotte\, FL\, 33952\, United States
CATEGORIES:Local Events
ATTACH;FMTTYPE=image/png:https://rickrockrice.com/wp-content/uploads/2020/07/IMG_1191.png
END:VEVENT
BEGIN:VEVENT
DTSTART;TZID=America/New_York:20221130T170000
DTEND;TZID=America/New_York:20221130T210000
DTSTAMP:20260419T133926
CREATED:20221125T170945Z
LAST-MODIFIED:20221125T170945Z
UID:4036-1669827600-1669842000@rickrockrice.com
SUMMARY:All-Star Sports Grill
DESCRIPTION:Come on out for some great food and drinks\, wonderful people and kick butt music.
URL:https://rickrockrice.com/upcoming-event/all-star-sports-grill-156/
LOCATION:All-Star Bar And Grill\, 2360 Tamiami Trail\, Port Charlotte\, FL\, 33952\, United States
CATEGORIES:Local Events
ATTACH;FMTTYPE=image/png:https://rickrockrice.com/wp-content/uploads/2020/07/IMG_1191.png
END:VEVENT
BEGIN:VEVENT
DTSTART;TZID=America/New_York:20221126T180000
DTEND;TZID=America/New_York:20221126T220000
DTSTAMP:20260419T133926
CREATED:20220827T101357Z
LAST-MODIFIED:20220827T101357Z
UID:4014-1669485600-1669500000@rickrockrice.com
SUMMARY:Billy Bob Party
DESCRIPTION:
URL:https://rickrockrice.com/upcoming-event/billy-bob-party/
LOCATION:FL
END:VEVENT
BEGIN:VEVENT
DTSTART;TZID=America/New_York:20221112T150000
DTEND;TZID=America/New_York:20221112T180000
DTSTAMP:20260419T133926
CREATED:20220214T160005Z
LAST-MODIFIED:20220214T160005Z
UID:3861-1668265200-1668276000@rickrockrice.com
SUMMARY:Am Legion Post 110
DESCRIPTION:
URL:https://rickrockrice.com/upcoming-event/am-legion-post-110-9/
LOCATION:FL
CATEGORIES:Local Events
END:VEVENT
BEGIN:VEVENT
DTSTART;TZID=America/New_York:20221030T180000
DTEND;TZID=America/New_York:20221030T220000
DTSTAMP:20260419T133926
CREATED:20220710T022307Z
LAST-MODIFIED:20220710T022307Z
UID:3975-1667152800-1667167200@rickrockrice.com
SUMMARY:Private Party
DESCRIPTION:
URL:https://rickrockrice.com/upcoming-event/private-party-9/
LOCATION:FL
END:VEVENT
BEGIN:VEVENT
DTSTART;TZID=America/New_York:20221028T140000
DTEND;TZID=America/New_York:20221028T170000
DTSTAMP:20260419T133926
CREATED:20220906T020820Z
LAST-MODIFIED:20220906T020820Z
UID:4030-1666965600-1666976400@rickrockrice.com
SUMMARY:VFW 5690
DESCRIPTION:
URL:https://rickrockrice.com/upcoming-event/vfw-5690/
LOCATION:VFW Port Charlotte\, 23204 Freedom Ave\, Port Charlotte\, FL\, 33980\, United States
END:VEVENT
BEGIN:VEVENT
DTSTART;TZID=America/New_York:20221026T170000
DTEND;TZID=America/New_York:20221026T210000
DTSTAMP:20260419T133926
CREATED:20220827T102538Z
LAST-MODIFIED:20220827T102615Z
UID:4024-1666803600-1666818000@rickrockrice.com
SUMMARY:All-Star Sports Grill
DESCRIPTION:Come on out for some great food and drinks\, wonderful people and kick butt music.
URL:https://rickrockrice.com/upcoming-event/all-star-sports-grill-155/
LOCATION:All-Star Bar And Grill\, 2360 Tamiami Trail\, Port Charlotte\, FL\, 33952\, United States
CATEGORIES:Local Events
ATTACH;FMTTYPE=image/png:https://rickrockrice.com/wp-content/uploads/2020/07/IMG_1191.png
END:VEVENT
BEGIN:VEVENT
DTSTART;TZID=America/New_York:20221025T190000
DTEND;TZID=America/New_York:20221025T220000
DTSTAMP:20260419T133926
CREATED:20220703T195643Z
LAST-MODIFIED:20220709T112920Z
UID:3946-1666724400-1666735200@rickrockrice.com
SUMMARY:Amvets 2000
DESCRIPTION:DILLI DILLI
URL:https://rickrockrice.com/upcoming-event/amvets-2000-4/
LOCATION:FL
END:VEVENT
BEGIN:VEVENT
DTSTART;TZID=America/New_York:20221019T170000
DTEND;TZID=America/New_York:20221019T210000
DTSTAMP:20260419T133926
CREATED:20220827T102333Z
LAST-MODIFIED:20220827T102333Z
UID:4022-1666198800-1666213200@rickrockrice.com
SUMMARY:All-Star Sports Grill
DESCRIPTION:Come on out for some great food and drinks\, wonderful people and kick butt music.
URL:https://rickrockrice.com/upcoming-event/all-star-sports-grill-154/
LOCATION:All-Star Bar And Grill\, 2360 Tamiami Trail\, Port Charlotte\, FL\, 33952\, United States
CATEGORIES:Local Events
ATTACH;FMTTYPE=image/png:https://rickrockrice.com/wp-content/uploads/2020/07/IMG_1191.png
END:VEVENT
BEGIN:VEVENT
DTSTART;TZID=America/New_York:20221012T170000
DTEND;TZID=America/New_York:20221012T210000
DTSTAMP:20260419T133926
CREATED:20220827T102037Z
LAST-MODIFIED:20220827T102037Z
UID:4020-1665594000-1665608400@rickrockrice.com
SUMMARY:All-Star Sports Grill
DESCRIPTION:Come on out for some great food and drinks\, wonderful people and kick butt music.
URL:https://rickrockrice.com/upcoming-event/all-star-sports-grill-153/
LOCATION:All-Star Bar And Grill\, 2360 Tamiami Trail\, Port Charlotte\, FL\, 33952\, United States
CATEGORIES:Local Events
ATTACH;FMTTYPE=image/png:https://rickrockrice.com/wp-content/uploads/2020/07/IMG_1191.png
END:VEVENT
BEGIN:VEVENT
DTSTART;TZID=America/New_York:20221008T150000
DTEND;TZID=America/New_York:20221008T180000
DTSTAMP:20260419T133926
CREATED:20220214T155907Z
LAST-MODIFIED:20220214T155907Z
UID:3859-1665241200-1665252000@rickrockrice.com
SUMMARY:Am Legion Post 110
DESCRIPTION:
URL:https://rickrockrice.com/upcoming-event/am-legion-post-110-8/
LOCATION:FL
CATEGORIES:Local Events
END:VEVENT
BEGIN:VEVENT
DTSTART;TZID=America/New_York:20221005T170000
DTEND;TZID=America/New_York:20221005T210000
DTSTAMP:20260419T133926
CREATED:20220827T101905Z
LAST-MODIFIED:20220827T101905Z
UID:4018-1664989200-1665003600@rickrockrice.com
SUMMARY:All-Star Sports Grill
DESCRIPTION:Come on out for some great food and drinks\, wonderful people and kick butt music.
URL:https://rickrockrice.com/upcoming-event/all-star-sports-grill-152/
LOCATION:All-Star Bar And Grill\, 2360 Tamiami Trail\, Port Charlotte\, FL\, 33952\, United States
CATEGORIES:Local Events
ATTACH;FMTTYPE=image/png:https://rickrockrice.com/wp-content/uploads/2020/07/IMG_1191.png
END:VEVENT
BEGIN:VEVENT
DTSTART;VALUE=DATE:20220926
DTEND;VALUE=DATE:20220930
DTSTAMP:20260419T133926
CREATED:20220827T101458Z
LAST-MODIFIED:20220827T101458Z
UID:4016-1664150400-1664495999@rickrockrice.com
SUMMARY:Vacation
DESCRIPTION:
URL:https://rickrockrice.com/upcoming-event/vacation-9/
LOCATION:FL
END:VEVENT
BEGIN:VEVENT
DTSTART;TZID=America/New_York:20220923T180000
DTEND;TZID=America/New_York:20220923T210000
DTSTAMP:20260419T133926
CREATED:20220709T112159Z
LAST-MODIFIED:20220709T112159Z
UID:3964-1663956000-1663966800@rickrockrice.com
SUMMARY:Am Legion Post 254
DESCRIPTION:Awesome people\, Great atmosphere\, Great Food\, Great live music
URL:https://rickrockrice.com/upcoming-event/am-legion-post-254-12/
LOCATION:American Legion Post 254\, 6648 Taneytown St\, North Port\, FL\, 34291\, United States
CATEGORIES:Local Events
ATTACH;FMTTYPE=image/jpeg:https://rickrockrice.com/wp-content/uploads/2021/08/Am-Legion-Post-254.jpg
END:VEVENT
BEGIN:VEVENT
DTSTART;TZID=America/New_York:20220921T170000
DTEND;TZID=America/New_York:20220921T210000
DTSTAMP:20260419T133926
CREATED:20220709T112635Z
LAST-MODIFIED:20220719T203312Z
UID:3968-1663779600-1663794000@rickrockrice.com
SUMMARY:All-Star Sports Grill
DESCRIPTION:Come on out for some great food and drinks\, wonderful people and kick butt music.
URL:https://rickrockrice.com/upcoming-event/all-star-sports-grill-151/
LOCATION:FL
CATEGORIES:Local Events
ATTACH;FMTTYPE=image/png:https://rickrockrice.com/wp-content/uploads/2020/07/IMG_1191.png
END:VEVENT
BEGIN:VEVENT
DTSTART;TZID=America/New_York:20220914T170000
DTEND;TZID=America/New_York:20220914T210000
DTSTAMP:20260419T133926
CREATED:20220709T112533Z
LAST-MODIFIED:20220719T203232Z
UID:3966-1663174800-1663189200@rickrockrice.com
SUMMARY:All-Star Sports Grill
DESCRIPTION:Come on out for some great food and drinks\, wonderful people and kick butt music.
URL:https://rickrockrice.com/upcoming-event/all-star-sports-grill-150/
LOCATION:FL
CATEGORIES:Local Events
ATTACH;FMTTYPE=image/png:https://rickrockrice.com/wp-content/uploads/2020/07/IMG_1191.png
END:VEVENT
BEGIN:VEVENT
DTSTART;TZID=America/New_York:20220910T150000
DTEND;TZID=America/New_York:20220910T180000
DTSTAMP:20260419T133926
CREATED:20220214T155829Z
LAST-MODIFIED:20220214T155829Z
UID:3857-1662822000-1662832800@rickrockrice.com
SUMMARY:Am Legion Post 110
DESCRIPTION:
URL:https://rickrockrice.com/upcoming-event/am-legion-post-110-7/
LOCATION:FL
CATEGORIES:Local Events
END:VEVENT
BEGIN:VEVENT
DTSTART;TZID=America/New_York:20220909T180000
DTEND;TZID=America/New_York:20220909T210000
DTSTAMP:20260419T133926
CREATED:20220709T112105Z
LAST-MODIFIED:20220725T022500Z
UID:3962-1662746400-1662757200@rickrockrice.com
SUMMARY:Am Legion Post 254
DESCRIPTION:Awesome people\, Great atmosphere\, Great Food\, Great live music
URL:https://rickrockrice.com/upcoming-event/am-legion-post-254-11/
LOCATION:American Legion Post 254\, 6648 Taneytown St\, North Port\, FL\, 34291\, United States
CATEGORIES:Local Events
ATTACH;FMTTYPE=image/jpeg:https://rickrockrice.com/wp-content/uploads/2021/08/Am-Legion-Post-254.jpg
END:VEVENT
END:VCALENDAR